BEGIN:VCALENDAR
VERSION:2.0
PRODID:-//EZFacility.com, Inc.//EZL 2.5.5.28621
BEGIN:VEVENT
UID:16139815@ezleagues.ezfacility.com
DTSTAMP:20260426T033659Z
CREATED:20260426T033659Z
DTSTART:20250111T155000Z
DTEND:20250111T164000Z
LOCATION:*SPW Court 3
CONTACT:
SUMMARY:Bananas (Mazzie) VS. House Team #2
DESCRIPTION:League Name: Central Iowa BBall League Season 2 - 2nd Boys Blue
 \nGame Type: Regular\nGame Status: Complete\nHome Team: Bananas (Mazzie)\n
 Away Team: House Team #2\nHome Score: 26\nAway Score: 10
END:VEVENT
BEGIN:VEVENT
UID:16139822@ezleagues.ezfacility.com
DTSTAMP:20260426T033659Z
CREATED:20260426T033659Z
DTSTART:20250116T000000Z
DTEND:20250116T005000Z
LOCATION:*Horizon #6
CONTACT:
SUMMARY:House Team #2 VS. JBC Purple (Erickson)
DESCRIPTION:League Name: Central Iowa BBall League Season 2 - 2nd Boys Blue
 \nGame Type: Regular\nGame Status: Complete\nHome Team: House Team #2\nAwa
 y Team: JBC Purple (Erickson)\nHome Score: 10\nAway Score: 38
END:VEVENT
BEGIN:VEVENT
UID:16139844@ezleagues.ezfacility.com
DTSTAMP:20260426T033659Z
CREATED:20260426T033659Z
DTSTART:20250125T155000Z
DTEND:20250125T164000Z
LOCATION:*SPW Court 1
CONTACT:
SUMMARY:Runnin Rebels (Brownell) VS. House Team #2
DESCRIPTION:League Name: Central Iowa BBall League Season 2 - 2nd Boys Blue
 \nGame Type: Regular\nGame Status: Complete\nHome Team: Runnin Rebels (Bro
 wnell)\nAway Team: House Team #2\nHome Score: 16\nAway Score: 12
END:VEVENT
BEGIN:VEVENT
UID:16159307@ezleagues.ezfacility.com
DTSTAMP:20260426T033659Z
CREATED:20260426T033659Z
DTSTART:20250201T005000Z
DTEND:20250201T014000Z
LOCATION:*SPW Court 1
CONTACT:
SUMMARY:House Team #2 VS. DSRG Lions Club (Walker)
DESCRIPTION:League Name: Central Iowa BBall League Season 2 - 2nd Boys Blue
 \nGame Type: Regular\nGame Status: Complete\nHome Team: House Team #2\nAwa
 y Team: DSRG Lions Club (Walker)\nHome Score: 14\nAway Score: 24
END:VEVENT
BEGIN:VEVENT
UID:16139833@ezleagues.ezfacility.com
DTSTAMP:20260426T033659Z
CREATED:20260426T033659Z
DTSTART:20250208T005000Z
DTEND:20250208T014000Z
LOCATION:*SPW Court 1
CONTACT:
SUMMARY:SharpShooters (Pearson) VS. House Team #2
DESCRIPTION:League Name: Central Iowa BBall League Season 2 - 2nd Boys Blue
 \nGame Type: Regular\nGame Status: Complete\nHome Team: SharpShooters (Pea
 rson)\nAway Team: House Team #2\nHome Score: 40\nAway Score: 12
END:VEVENT
BEGIN:VEVENT
UID:16140673@ezleagues.ezfacility.com
DTSTAMP:20260426T033659Z
CREATED:20260426T033659Z
DTSTART:20250208T155000Z
DTEND:20250208T164000Z
LOCATION:*SPW Court 3
CONTACT:
SUMMARY:House Team #2 VS. SFA Maroons (Fitzgerald)
DESCRIPTION:League Name: Central Iowa BBall League Season 2 - 2nd Boys Blue
 \nGame Type: Regular\nGame Status: Complete\nHome Team: House Team #2\nAwa
 y Team: SFA Maroons (Fitzgerald)\nHome Score: 16\nAway Score: 24
END:VEVENT
BEGIN:VEVENT
UID:16140674@ezleagues.ezfacility.com
DTSTAMP:20260426T033659Z
CREATED:20260426T033659Z
DTSTART:20250209T164000Z
DTEND:20250209T173000Z
LOCATION:*SPW Court 1
CONTACT:
SUMMARY:ADM Tigers (Karns) VS. House Team #2
DESCRIPTION:League Name: Central Iowa BBall League Season 2 - 2nd Boys Blue
 \nGame Type: Regular\nGame Status: Complete\nHome Team: ADM Tigers (Karns)
 \nAway Team: House Team #2\nHome Score: 28\nAway Score: 12
END:VEVENT
BEGIN:VEVENT
UID:16141022@ezleagues.ezfacility.com
DTSTAMP:20260426T033659Z
CREATED:20260426T033659Z
DTSTART:20250215T150000Z
DTEND:20250215T155000Z
LOCATION:*SPW Court 1
CONTACT:
SUMMARY:Warriors (Palmer) VS. House Team #2
DESCRIPTION:League Name: Central Iowa BBall League Season 2 - 2nd Boys Blue
 \nGame Type: Regular\nGame Status: Complete\nHome Team: Warriors (Palmer)\
 nAway Team: House Team #2\nHome Score: 27\nAway Score: 18
END:VEVENT
BEGIN:VEVENT
UID:16141025@ezleagues.ezfacility.com
DTSTAMP:20260426T033659Z
CREATED:20260426T033659Z
DTSTART:20250216T141000Z
DTEND:20250216T150000Z
LOCATION:*SPW Court 3
CONTACT:
SUMMARY:House Team #2 VS. Bananas (Mazzie)
DESCRIPTION:League Name: Central Iowa BBall League Season 2 - 2nd Boys Blue
 \nGame Type: Regular\nGame Status: Complete\nHome Team: House Team #2\nAwa
 y Team: Bananas (Mazzie)\nHome Score: 14\nAway Score: 24
END:VEVENT
BEGIN:VEVENT
UID:16140018@ezleagues.ezfacility.com
DTSTAMP:20260426T033659Z
CREATED:20260426T033659Z
DTSTART:20250218T000000Z
DTEND:20250218T005000Z
LOCATION:*Horizon #5
CONTACT:
SUMMARY:515 Hoops (Katch) VS. House Team #2
DESCRIPTION:League Name: Central Iowa BBall League Season 2 - 2nd Boys Blue
 \nGame Type: Regular\nGame Status: Complete\nHome Team: 515 Hoops (Katch)\
 nAway Team: House Team #2\nHome Score: 52\nAway Score: 10
END:VEVENT
END:VCALENDAR
