BEGIN:VCALENDAR
VERSION:2.0
PRODID:-//EZFacility.com, Inc.//EZL 2.5.5.28621
BEGIN:VEVENT
UID:16142019@ezleagues.ezfacility.com
DTSTAMP:20260426T033710Z
CREATED:20260426T033710Z
DTSTART:20250115T014000Z
DTEND:20250115T023000Z
LOCATION:*Horizon #6
CONTACT:
SUMMARY:House Team #1 VS. House Team #2
DESCRIPTION:League Name: Central Iowa BBall League Season 2 - 6th/7th Boys\
 nGame Type: Regular\nGame Status: Complete\nHome Team: House Team #1\nAway
  Team: House Team #2\nHome Score: 20\nAway Score: 25
END:VEVENT
BEGIN:VEVENT
UID:16142021@ezleagues.ezfacility.com
DTSTAMP:20260426T033710Z
CREATED:20260426T033710Z
DTSTART:20250116T023000Z
DTEND:20250116T032000Z
LOCATION:*Horizon #6
CONTACT:
SUMMARY:The Swarm (McConnell) VS. House Team #1
DESCRIPTION:League Name: Central Iowa BBall League Season 2 - 6th/7th Boys\
 nGame Type: Regular\nGame Status: Complete\nHome Team: The Swarm (McConnel
 l)\nAway Team: House Team #1\nHome Score: 36\nAway Score: 19
END:VEVENT
BEGIN:VEVENT
UID:16143372@ezleagues.ezfacility.com
DTSTAMP:20260426T033710Z
CREATED:20260426T033710Z
DTSTART:20250118T224000Z
DTEND:20250118T233000Z
LOCATION:*SPW Court 2
CONTACT:
SUMMARY:House Team #1 VS. Bulldog City (Petersen)
DESCRIPTION:League Name: Central Iowa BBall League Season 2 - 6th/7th Boys\
 nGame Type: Regular\nGame Status: Complete\nHome Team: House Team #1\nAway
  Team: Bulldog City (Petersen)\nHome Score: 13\nAway Score: 42
END:VEVENT
BEGIN:VEVENT
UID:16143374@ezleagues.ezfacility.com
DTSTAMP:20260426T033710Z
CREATED:20260426T033710Z
DTSTART:20250122T005000Z
DTEND:20250122T014000Z
LOCATION:*Horizon #6
CONTACT:
SUMMARY:House Team #1 VS. Iowa Battlers 5th/6th White (Phillips)
DESCRIPTION:League Name: Central Iowa BBall League Season 2 - 6th/7th Boys\
 nGame Type: Regular\nGame Status: Complete\nHome Team: House Team #1\nAway
  Team: Iowa Battlers 5th/6th White (Phillips)\nHome Score: 6\nAway Score: 
 38
END:VEVENT
BEGIN:VEVENT
UID:16143468@ezleagues.ezfacility.com
DTSTAMP:20260426T033710Z
CREATED:20260426T033710Z
DTSTART:20250129T023000Z
DTEND:20250129T032000Z
LOCATION:*Horizon #6
CONTACT:
SUMMARY:House Team #1 VS. Storm (Howe)
DESCRIPTION:League Name: Central Iowa BBall League Season 2 - 6th/7th Boys\
 nGame Type: Regular\nGame Status: Complete\nHome Team: House Team #1\nAway
  Team: Storm (Howe)\nHome Score: 10\nAway Score: 24
END:VEVENT
BEGIN:VEVENT
UID:16143473@ezleagues.ezfacility.com
DTSTAMP:20260426T033710Z
CREATED:20260426T033710Z
DTSTART:20250130T000000Z
DTEND:20250130T005000Z
LOCATION:*Horizon #5
CONTACT:
SUMMARY:Iowa Battlers 6th Boys (Phillips) VS. House Team #1
DESCRIPTION:League Name: Central Iowa BBall League Season 2 - 6th/7th Boys\
 nGame Type: Regular\nGame Status: Complete\nHome Team: Iowa Battlers 6th B
 oys (Phillips)\nAway Team: House Team #1\nHome Score: 48\nAway Score: 11
END:VEVENT
BEGIN:VEVENT
UID:16143815@ezleagues.ezfacility.com
DTSTAMP:20260426T033710Z
CREATED:20260426T033710Z
DTSTART:20250205T021000Z
DTEND:20250205T030000Z
LOCATION:*Horizon #6
CONTACT:
SUMMARY:House Team #1 VS. Iowa Battlers 6th Girls (Phillips)
DESCRIPTION:League Name: Central Iowa BBall League Season 2 - 6th/7th Boys\
 nGame Type: Regular\nGame Status: Complete\nHome Team: House Team #1\nAway
  Team: Iowa Battlers 6th Girls (Phillips)\nHome Score: 9\nAway Score: 18
END:VEVENT
BEGIN:VEVENT
UID:16143821@ezleagues.ezfacility.com
DTSTAMP:20260426T033710Z
CREATED:20260426T033710Z
DTSTART:20250208T215000Z
DTEND:20250208T224000Z
LOCATION:*SPW Court 2
CONTACT:
SUMMARY:Royals (Wonio) VS. House Team #1
DESCRIPTION:League Name: Central Iowa BBall League Season 2 - 6th/7th Boys\
 nGame Type: Regular\nGame Status: Complete\nHome Team: Royals (Wonio)\nAwa
 y Team: House Team #1\nHome Score: 0\nAway Score: 1
END:VEVENT
BEGIN:VEVENT
UID:16145850@ezleagues.ezfacility.com
DTSTAMP:20260426T033710Z
CREATED:20260426T033710Z
DTSTART:20250216T011000Z
DTEND:20250216T020000Z
LOCATION:*SPW Court 2
CONTACT:
SUMMARY:Iowa Battlers 5th/6th White (Phillips) VS. House Team #1
DESCRIPTION:League Name: Central Iowa BBall League Season 2 - 6th/7th Boys\
 nGame Type: Regular\nGame Status: Complete\nHome Team: Iowa Battlers 5th/6
 th White (Phillips)\nAway Team: House Team #1\nHome Score: 34\nAway Score:
  11
END:VEVENT
BEGIN:VEVENT
UID:16145845@ezleagues.ezfacility.com
DTSTAMP:20260426T033710Z
CREATED:20260426T033710Z
DTSTART:20250220T005000Z
DTEND:20250220T014000Z
LOCATION:*Horizon #5
CONTACT:
SUMMARY:Bulldog City (Petersen) VS. House Team #1
DESCRIPTION:League Name: Central Iowa BBall League Season 2 - 6th/7th Boys\
 nGame Type: Regular\nGame Status: Complete\nHome Team: Bulldog City (Peter
 sen)\nAway Team: House Team #1\nHome Score: 50\nAway Score: 10
END:VEVENT
BEGIN:VEVENT
UID:16234990@ezleagues.ezfacility.com
DTSTAMP:20260426T033710Z
CREATED:20260426T033710Z
DTSTART:20250221T231000Z
DTEND:20250222T000000Z
LOCATION:Horizon #4
CONTACT:
SUMMARY:House Team #2 VS. House Team #1
DESCRIPTION:League Name: Central Iowa BBall League Season 2 - 6th/7th Boys\
 nGame Type: Postseason\nGame Status: Complete\nHome Team: House Team #2\nA
 way Team: House Team #1\nHome Score: 35\nAway Score: 16
END:VEVENT
END:VCALENDAR
