BEGIN:VCALENDAR
VERSION:2.0
PRODID:-//EZFacility.com, Inc.//EZL 2.5.5.28621
BEGIN:VEVENT
UID:16142015@ezleagues.ezfacility.com
DTSTAMP:20260424T043923Z
CREATED:20260424T043923Z
DTSTART:20250112T002000Z
DTEND:20250112T011000Z
LOCATION:*SPW Court 2
CONTACT:
SUMMARY:House Team #2 VS. Iowa Battlers 6th Girls (Phillips)
DESCRIPTION:League Name: Central Iowa BBall League Season 2 - 6th/7th Boys\
 nGame Type: Regular\nGame Status: Complete\nHome Team: House Team #2\nAway
  Team: Iowa Battlers 6th Girls (Phillips)\nHome Score: 24\nAway Score: 18
END:VEVENT
BEGIN:VEVENT
UID:16142019@ezleagues.ezfacility.com
DTSTAMP:20260424T043923Z
CREATED:20260424T043923Z
DTSTART:20250115T014000Z
DTEND:20250115T023000Z
LOCATION:*Horizon #6
CONTACT:
SUMMARY:House Team #1 VS. House Team #2
DESCRIPTION:League Name: Central Iowa BBall League Season 2 - 6th/7th Boys\
 nGame Type: Regular\nGame Status: Complete\nHome Team: House Team #1\nAway
  Team: House Team #2\nHome Score: 20\nAway Score: 25
END:VEVENT
BEGIN:VEVENT
UID:16143375@ezleagues.ezfacility.com
DTSTAMP:20260424T043923Z
CREATED:20260424T043923Z
DTSTART:20250122T014000Z
DTEND:20250122T023000Z
LOCATION:*Horizon #6
CONTACT:
SUMMARY:House Team #2 VS. Iowa Battlers 6th Girls (Phillips)
DESCRIPTION:League Name: Central Iowa BBall League Season 2 - 6th/7th Boys\
 nGame Type: Regular\nGame Status: Complete\nHome Team: House Team #2\nAway
  Team: Iowa Battlers 6th Girls (Phillips)\nHome Score: 26\nAway Score: 12
END:VEVENT
BEGIN:VEVENT
UID:16143471@ezleagues.ezfacility.com
DTSTAMP:20260424T043923Z
CREATED:20260424T043923Z
DTSTART:20250129T231000Z
DTEND:20250130T000000Z
LOCATION:*Horizon #5
CONTACT:
SUMMARY:House Team #2 VS. The Swarm (McConnell)
DESCRIPTION:League Name: Central Iowa BBall League Season 2 - 6th/7th Boys\
 nGame Type: Regular\nGame Status: Complete\nHome Team: House Team #2\nAway
  Team: The Swarm (McConnell)\nHome Score: 27\nAway Score: 35
END:VEVENT
BEGIN:VEVENT
UID:16143477@ezleagues.ezfacility.com
DTSTAMP:20260424T043923Z
CREATED:20260424T043923Z
DTSTART:20250202T002000Z
DTEND:20250202T011000Z
LOCATION:*SPW Court 2
CONTACT:
SUMMARY:House Team #2 VS. Iowa Battlers 5th/6th White (Phillips)
DESCRIPTION:League Name: Central Iowa BBall League Season 2 - 6th/7th Boys\
 nGame Type: Regular\nGame Status: Complete\nHome Team: House Team #2\nAway
  Team: Iowa Battlers 5th/6th White (Phillips)\nHome Score: 36\nAway Score:
  43
END:VEVENT
BEGIN:VEVENT
UID:16143373@ezleagues.ezfacility.com
DTSTAMP:20260424T043923Z
CREATED:20260424T043923Z
DTSTART:20250204T005000Z
DTEND:20250204T014000Z
LOCATION:*Horizon #5
CONTACT:
SUMMARY:House Team #2 VS. Royals (Wonio)
DESCRIPTION:League Name: Central Iowa BBall League Season 2 - 6th/7th Boys\
 nGame Type: Regular\nGame Status: Complete\nHome Team: House Team #2\nAway
  Team: Royals (Wonio)\nHome Score: 14\nAway Score: 36
END:VEVENT
BEGIN:VEVENT
UID:16143816@ezleagues.ezfacility.com
DTSTAMP:20260424T043923Z
CREATED:20260424T043923Z
DTSTART:20250205T190000Z
DTEND:20250205T195000Z
LOCATION:*Horizon #6
CONTACT:
SUMMARY:House Team #2 VS. Iowa Battlers 6th Boys (Phillips)
DESCRIPTION:League Name: Central Iowa BBall League Season 2 - 6th/7th Boys\
 nGame Type: Regular\nGame Status: Pending\nHome Team: House Team #2\nAway 
 Team: Iowa Battlers 6th Boys (Phillips)\n
END:VEVENT
BEGIN:VEVENT
UID:16143822@ezleagues.ezfacility.com
DTSTAMP:20260424T043923Z
CREATED:20260424T043923Z
DTSTART:20250211T014000Z
DTEND:20250211T023000Z
LOCATION:*Horizon #5
CONTACT:
SUMMARY:House Team #2 VS. Bulldog City (Petersen)
DESCRIPTION:League Name: Central Iowa BBall League Season 2 - 6th/7th Boys\
 nGame Type: Regular\nGame Status: Complete\nHome Team: House Team #2\nAway
  Team: Bulldog City (Petersen)\nHome Score: 14\nAway Score: 50
END:VEVENT
BEGIN:VEVENT
UID:16145844@ezleagues.ezfacility.com
DTSTAMP:20260424T043923Z
CREATED:20260424T043923Z
DTSTART:20250212T021000Z
DTEND:20250212T030000Z
LOCATION:*Horizon #6
CONTACT:
SUMMARY:House Team #2 VS. Iowa Battlers 6th Boys (Phillips)
DESCRIPTION:League Name: Central Iowa BBall League Season 2 - 6th/7th Boys\
 nGame Type: Regular\nGame Status: Complete\nHome Team: House Team #2\nAway
  Team: Iowa Battlers 6th Boys (Phillips)\nHome Score: 11\nAway Score: 49
END:VEVENT
BEGIN:VEVENT
UID:16145851@ezleagues.ezfacility.com
DTSTAMP:20260424T043923Z
CREATED:20260424T043923Z
DTSTART:20250216T233000Z
DTEND:20250217T002000Z
LOCATION:*SPW Court 2
CONTACT:
SUMMARY:House Team #2 VS. Iowa Battlers 6th Girls (Phillips)
DESCRIPTION:League Name: Central Iowa BBall League Season 2 - 6th/7th Boys\
 nGame Type: Regular\nGame Status: Complete\nHome Team: House Team #2\nAway
  Team: Iowa Battlers 6th Girls (Phillips)\nHome Score: 40\nAway Score: 18
END:VEVENT
BEGIN:VEVENT
UID:16234990@ezleagues.ezfacility.com
DTSTAMP:20260424T043923Z
CREATED:20260424T043923Z
DTSTART:20250221T231000Z
DTEND:20250222T000000Z
LOCATION:Horizon #4
CONTACT:
SUMMARY:House Team #2 VS. House Team #1
DESCRIPTION:League Name: Central Iowa BBall League Season 2 - 6th/7th Boys\
 nGame Type: Postseason\nGame Status: Complete\nHome Team: House Team #2\nA
 way Team: House Team #1\nHome Score: 35\nAway Score: 16
END:VEVENT
BEGIN:VEVENT
UID:16234992@ezleagues.ezfacility.com
DTSTAMP:20260424T043923Z
CREATED:20260424T043923Z
DTSTART:20250222T005000Z
DTEND:20250222T014000Z
LOCATION:Horizon #4
CONTACT:
SUMMARY:Storm (Howe) VS. House Team #2
DESCRIPTION:League Name: Central Iowa BBall League Season 2 - 6th/7th Boys\
 nGame Type: Postseason\nGame Status: Complete\nHome Team: Storm (Howe)\nAw
 ay Team: House Team #2\nHome Score: 26\nAway Score: 22
END:VEVENT
END:VCALENDAR
