BEGIN:VCALENDAR
VERSION:2.0
PRODID:-//EZFacility.com, Inc.//EZL 2.5.5.28621
BEGIN:VEVENT
UID:16143049@ezleagues.ezfacility.com
DTSTAMP:20260426T033530Z
CREATED:20260426T033530Z
DTSTART:20241228T151000Z
DTEND:20241228T162000Z
LOCATION:Court 4 Basketball
CONTACT:
SUMMARY:10. Washington Twp VS. 12. Cherry Hill A
DESCRIPTION:League Name: 4th Grade A2 Marty Derer Holiday Classic 2024\nGam
 e Type: Regular\nGame Status: Complete\nHome Team: 10. Washington Twp\nAwa
 y Team: 12. Cherry Hill A\nHome Score: 32\nAway Score: 27
END:VEVENT
BEGIN:VEVENT
UID:16143066@ezleagues.ezfacility.com
DTSTAMP:20260426T033530Z
CREATED:20260426T033530Z
DTSTART:20241228T173000Z
DTEND:20241228T184000Z
LOCATION:Court 4 Basketball
CONTACT:
SUMMARY:10. Washington Twp VS. 11. Runnemede 
DESCRIPTION:League Name: 4th Grade A2 Marty Derer Holiday Classic 2024\nGam
 e Type: Regular\nGame Status: Complete\nHome Team: 10. Washington Twp\nAwa
 y Team: 11. Runnemede \nHome Score: 37\nAway Score: 17
END:VEVENT
BEGIN:VEVENT
UID:16143069@ezleagues.ezfacility.com
DTSTAMP:20260426T033530Z
CREATED:20260426T033530Z
DTSTART:20241229T173000Z
DTEND:20241229T184000Z
LOCATION:Court 4 Basketball
CONTACT:
SUMMARY:10. Washington Twp VS. 13. Mantua Heat A
DESCRIPTION:League Name: 4th Grade A2 Marty Derer Holiday Classic 2024\nGam
 e Type: Regular\nGame Status: Complete\nHome Team: 10. Washington Twp\nAwa
 y Team: 13. Mantua Heat A\nHome Score: 19\nAway Score: 21
END:VEVENT
END:VCALENDAR
