BEGIN:VCALENDAR
VERSION:2.0
PRODID:-//EZFacility.com, Inc.//EZL 2.5.5.28621
BEGIN:VEVENT
UID:16140402@ezleagues.ezfacility.com
DTSTAMP:20260420T190755Z
CREATED:20260420T190755Z
DTSTART:20250104T173000Z
DTEND:20250104T181500Z
LOCATION:Field 2
CONTACT:
SUMMARY:Colonia Crush VS. SSTC
DESCRIPTION:League Name: 2025 Youth Soccer League-U16B Age Group\nGame Type
 : Regular\nGame Status: Complete\nHome Team: Colonia Crush\nAway Team: SST
 C\nHome Score: 2\nAway Score: 3
END:VEVENT
BEGIN:VEVENT
UID:16160980@ezleagues.ezfacility.com
DTSTAMP:20260420T190755Z
CREATED:20260420T190755Z
DTSTART:20250111T200000Z
DTEND:20250111T204500Z
LOCATION:Field 1
CONTACT:Perez
SUMMARY:Colonia Crush VS. 2009 Swift Black
DESCRIPTION:League Name: 2025 Youth Soccer League-U16B Age Group\nGame Type
 : Regular\nGame Status: Complete\nHome Team: Colonia Crush\nAway Team: 200
 9 Swift Black\nHome Score: 1\nAway Score: 9
END:VEVENT
BEGIN:VEVENT
UID:16170646@ezleagues.ezfacility.com
DTSTAMP:20260420T190755Z
CREATED:20260420T190755Z
DTSTART:20250125T220000Z
DTEND:20250125T230000Z
LOCATION:Field 2
CONTACT:Perez
SUMMARY:Americas United Ajax White VS. Colonia Crush
DESCRIPTION:League Name: 2025 Youth Soccer League-U16B Age Group\nGame Type
 : Regular\nGame Status: Complete\nHome Team: Americas United Ajax White\nA
 way Team: Colonia Crush\nHome Score: 2\nAway Score: 2
END:VEVENT
BEGIN:VEVENT
UID:16208896@ezleagues.ezfacility.com
DTSTAMP:20260420T190755Z
CREATED:20260420T190755Z
DTSTART:20250201T220000Z
DTEND:20250201T230000Z
LOCATION:Field 2
CONTACT:
SUMMARY:Americas United Atletic VS. Colonia Crush
DESCRIPTION:League Name: 2025 Youth Soccer League-U16B Age Group\nGame Type
 : Regular\nGame Status: Complete\nHome Team: Americas United Atletic\nAway
  Team: Colonia Crush\nHome Score: 7\nAway Score: 3
END:VEVENT
BEGIN:VEVENT
UID:16227572@ezleagues.ezfacility.com
DTSTAMP:20260420T190755Z
CREATED:20260420T190755Z
DTSTART:20250215T213000Z
DTEND:20250215T221500Z
LOCATION:Field 1
CONTACT:Perez
SUMMARY:Colonia Crush VS. Hi Tempo 2010
DESCRIPTION:League Name: 2025 Youth Soccer League-U16B Age Group\nGame Type
 : Regular\nGame Status: Complete\nHome Team: Colonia Crush\nAway Team: Hi 
 Tempo 2010\nHome Score: 3\nAway Score: 4
END:VEVENT
BEGIN:VEVENT
UID:16227845@ezleagues.ezfacility.com
DTSTAMP:20260420T190755Z
CREATED:20260420T190755Z
DTSTART:20250222T174500Z
DTEND:20250222T183000Z
LOCATION:Field 1
CONTACT:Formoso
SUMMARY:Americas United Atletic VS. Colonia Crush
DESCRIPTION:League Name: 2025 Youth Soccer League-U16B Age Group\nGame Type
 : Regular\nGame Status: Complete\nHome Team: Americas United Atletic\nAway
  Team: Colonia Crush\nHome Score: 2\nAway Score: 2
END:VEVENT
BEGIN:VEVENT
UID:16257470@ezleagues.ezfacility.com
DTSTAMP:20260420T190755Z
CREATED:20260420T190755Z
DTSTART:20250302T153000Z
DTEND:20250302T161500Z
LOCATION:Field 2
CONTACT:Burrowes
SUMMARY:Americas United Atletic VS. Colonia Crush
DESCRIPTION:League Name: 2025 Youth Soccer League-U16B Age Group\nGame Type
 : Postseason\nGame Status: Complete\nHome Team: Americas United Atletic\nA
 way Team: Colonia Crush\nHome Score: 7\nAway Score: 0
END:VEVENT
BEGIN:VEVENT
UID:16257472@ezleagues.ezfacility.com
DTSTAMP:20260420T190755Z
CREATED:20260420T190755Z
DTSTART:20250302T161500Z
DTEND:20250302T170000Z
LOCATION:Field 1
CONTACT:Mathurin
SUMMARY:SSTC VS. Colonia Crush
DESCRIPTION:League Name: 2025 Youth Soccer League-U16B Age Group\nGame Type
 : Postseason\nGame Status: Complete\nHome Team: SSTC\nAway Team: Colonia C
 rush\nHome Score: 2\nAway Score: 3
END:VEVENT
END:VCALENDAR
