BEGIN:VCALENDAR
VERSION:2.0
PRODID:-//EZFacility.com, Inc.//EZL 2.5.5.28621
BEGIN:VEVENT
UID:16141616@ezleagues.ezfacility.com
DTSTAMP:20260426T035014Z
CREATED:20260426T035014Z
DTSTART:20241227T044500Z
DTEND:20241227T053500Z
LOCATION:Indoor East
CONTACT:
SUMMARY:Ball of Duty VS. Beavers
DESCRIPTION:League Name: Thurs Mens Intermediate\nGame Type: Regular\nGame 
 Status: Complete\nHome Team: Ball of Duty\nAway Team: Beavers\nHome Score:
  3\nAway Score: 12
END:VEVENT
BEGIN:VEVENT
UID:16150841@ezleagues.ezfacility.com
DTSTAMP:20260426T035014Z
CREATED:20260426T035014Z
DTSTART:20250103T021500Z
DTEND:20250103T030500Z
LOCATION:Indoor East
CONTACT:
SUMMARY:Vikings VS. Beavers
DESCRIPTION:League Name: Thurs Mens Intermediate\nGame Type: Regular\nGame 
 Status: Complete\nHome Team: Vikings\nAway Team: Beavers\nHome Score: 5\nA
 way Score: 1
END:VEVENT
BEGIN:VEVENT
UID:16167275@ezleagues.ezfacility.com
DTSTAMP:20260426T035014Z
CREATED:20260426T035014Z
DTSTART:20250110T022500Z
DTEND:20250110T031500Z
LOCATION:Indoor West
CONTACT:
SUMMARY:Thistle VS. Beavers
DESCRIPTION:League Name: Thurs Mens Intermediate\nGame Type: Regular\nGame 
 Status: Complete\nHome Team: Thistle\nAway Team: Beavers\nHome Score: 8\nA
 way Score: 8
END:VEVENT
BEGIN:VEVENT
UID:16167281@ezleagues.ezfacility.com
DTSTAMP:20260426T035014Z
CREATED:20260426T035014Z
DTSTART:20250117T063500Z
DTEND:20250117T072500Z
LOCATION:Indoor West
CONTACT:
SUMMARY:Beavers VS. RSLiverpool
DESCRIPTION:League Name: Thurs Mens Intermediate\nGame Type: Regular\nGame 
 Status: Complete\nHome Team: Beavers\nAway Team: RSLiverpool\nHome Score: 
 7\nAway Score: 8
END:VEVENT
BEGIN:VEVENT
UID:16167286@ezleagues.ezfacility.com
DTSTAMP:20260426T035014Z
CREATED:20260426T035014Z
DTSTART:20250124T004500Z
DTEND:20250124T013500Z
LOCATION:Indoor West
CONTACT:
SUMMARY:Cantolao FC VS. Beavers
DESCRIPTION:League Name: Thurs Mens Intermediate\nGame Type: Regular\nGame 
 Status: Complete\nHome Team: Cantolao FC\nAway Team: Beavers\nHome Score: 
 0\nAway Score: 10
END:VEVENT
BEGIN:VEVENT
UID:16167292@ezleagues.ezfacility.com
DTSTAMP:20260426T035014Z
CREATED:20260426T035014Z
DTSTART:20250131T030000Z
DTEND:20250131T035000Z
LOCATION:Indoor East
CONTACT:
SUMMARY:Beavers VS. Club de Cuervos
DESCRIPTION:League Name: Thurs Mens Intermediate\nGame Type: Regular\nGame 
 Status: Complete\nHome Team: Beavers\nAway Team: Club de Cuervos\nHome Sco
 re: 4\nAway Score: 3
END:VEVENT
BEGIN:VEVENT
UID:16167300@ezleagues.ezfacility.com
DTSTAMP:20260426T035014Z
CREATED:20260426T035014Z
DTSTART:20250207T035500Z
DTEND:20250207T044500Z
LOCATION:Indoor East
CONTACT:
SUMMARY:Beavers VS. Uncle Stan
DESCRIPTION:League Name: Thurs Mens Intermediate\nGame Type: Regular\nGame 
 Status: Complete\nHome Team: Beavers\nAway Team: Uncle Stan\nHome Score: 5
 \nAway Score: 5
END:VEVENT
BEGIN:VEVENT
UID:16167308@ezleagues.ezfacility.com
DTSTAMP:20260426T035014Z
CREATED:20260426T035014Z
DTSTART:20250214T044500Z
DTEND:20250214T053500Z
LOCATION:Indoor East
CONTACT:
SUMMARY:Beavers VS. Midrid FC
DESCRIPTION:League Name: Thurs Mens Intermediate\nGame Type: Regular\nGame 
 Status: Complete\nHome Team: Beavers\nAway Team: Midrid FC\nHome Score: 7\
 nAway Score: 4
END:VEVENT
END:VCALENDAR
