BEGIN:VCALENDAR
VERSION:2.0
PRODID:-//EZFacility.com, Inc.//EZL 2.5.5.28621
BEGIN:VEVENT
UID:16141617@ezleagues.ezfacility.com
DTSTAMP:20260426T033706Z
CREATED:20260426T033706Z
DTSTART:20241227T062500Z
DTEND:20241227T071500Z
LOCATION:Indoor East
CONTACT:
SUMMARY:Club de Cuervos VS. Cantolao FC
DESCRIPTION:League Name: Thurs Mens Intermediate\nGame Type: Regular\nGame 
 Status: Complete\nHome Team: Club de Cuervos\nAway Team: Cantolao FC\nHome
  Score: 5\nAway Score: 2
END:VEVENT
BEGIN:VEVENT
UID:16150842@ezleagues.ezfacility.com
DTSTAMP:20260426T033706Z
CREATED:20260426T033706Z
DTSTART:20250103T022500Z
DTEND:20250103T031500Z
LOCATION:Indoor West
CONTACT:
SUMMARY:Thistle VS. Cantolao FC
DESCRIPTION:League Name: Thurs Mens Intermediate\nGame Type: Regular\nGame 
 Status: Complete\nHome Team: Thistle\nAway Team: Cantolao FC\nHome Score: 
 7\nAway Score: 4
END:VEVENT
BEGIN:VEVENT
UID:16167276@ezleagues.ezfacility.com
DTSTAMP:20260426T033706Z
CREATED:20260426T033706Z
DTSTART:20250110T035000Z
DTEND:20250110T044000Z
LOCATION:Indoor East
CONTACT:
SUMMARY:Just for Kicks VS. Cantolao FC
DESCRIPTION:League Name: Thurs Mens Intermediate\nGame Type: Regular\nGame 
 Status: Complete\nHome Team: Just for Kicks\nAway Team: Cantolao FC\nHome 
 Score: 5\nAway Score: 8
END:VEVENT
BEGIN:VEVENT
UID:16167282@ezleagues.ezfacility.com
DTSTAMP:20260426T033706Z
CREATED:20260426T033706Z
DTSTART:20250117T062000Z
DTEND:20250117T071000Z
LOCATION:Indoor East
CONTACT:
SUMMARY:Cantolao FC VS. Uncle Stan
DESCRIPTION:League Name: Thurs Mens Intermediate\nGame Type: Regular\nGame 
 Status: Complete\nHome Team: Cantolao FC\nAway Team: Uncle Stan\nHome Scor
 e: 0\nAway Score: 11
END:VEVENT
BEGIN:VEVENT
UID:16167286@ezleagues.ezfacility.com
DTSTAMP:20260426T033706Z
CREATED:20260426T033706Z
DTSTART:20250124T004500Z
DTEND:20250124T013500Z
LOCATION:Indoor West
CONTACT:
SUMMARY:Cantolao FC VS. Beavers
DESCRIPTION:League Name: Thurs Mens Intermediate\nGame Type: Regular\nGame 
 Status: Complete\nHome Team: Cantolao FC\nAway Team: Beavers\nHome Score: 
 0\nAway Score: 10
END:VEVENT
BEGIN:VEVENT
UID:16167293@ezleagues.ezfacility.com
DTSTAMP:20260426T033706Z
CREATED:20260426T033706Z
DTSTART:20250131T022500Z
DTEND:20250131T031500Z
LOCATION:Indoor West
CONTACT:
SUMMARY:Cantolao FC VS. Midrid FC
DESCRIPTION:League Name: Thurs Mens Intermediate\nGame Type: Regular\nGame 
 Status: Complete\nHome Team: Cantolao FC\nAway Team: Midrid FC\nHome Score
 : 5\nAway Score: 7
END:VEVENT
BEGIN:VEVENT
UID:16167301@ezleagues.ezfacility.com
DTSTAMP:20260426T033706Z
CREATED:20260426T033706Z
DTSTART:20250207T040500Z
DTEND:20250207T045500Z
LOCATION:Indoor West
CONTACT:
SUMMARY:Cantolao FC VS. Mutiny FC Mens
DESCRIPTION:League Name: Thurs Mens Intermediate\nGame Type: Regular\nGame 
 Status: Complete\nHome Team: Cantolao FC\nAway Team: Mutiny FC Mens\nHome 
 Score: 6\nAway Score: 8
END:VEVENT
BEGIN:VEVENT
UID:16167309@ezleagues.ezfacility.com
DTSTAMP:20260426T033706Z
CREATED:20260426T033706Z
DTSTART:20250214T053500Z
DTEND:20250214T062500Z
LOCATION:Indoor East
CONTACT:
SUMMARY:Club de Cuervos VS. Cantolao FC
DESCRIPTION:League Name: Thurs Mens Intermediate\nGame Type: Regular\nGame 
 Status: Complete\nHome Team: Club de Cuervos\nAway Team: Cantolao FC\nHome
  Score: 3\nAway Score: 4
END:VEVENT
END:VCALENDAR
