BEGIN:VCALENDAR
VERSION:2.0
PRODID:-//EZFacility.com, Inc.//EZL 2.5.5.28621
BEGIN:VEVENT
UID:16142574@ezleagues.ezfacility.com
DTSTAMP:20260424T095711Z
CREATED:20260424T095711Z
DTSTART:20250104T220000Z
DTEND:20250104T230000Z
LOCATION:Green Court
CONTACT:
SUMMARY:Gray VS. Black
DESCRIPTION:League Name: 2025 Jan Metro-Juniors Volleyball League\nGame Typ
 e: Regular\nGame Status: Complete\nHome Team: Gray\nAway Team: Black\nHome
  Score: 2\nAway Score: 1
END:VEVENT
BEGIN:VEVENT
UID:16147180@ezleagues.ezfacility.com
DTSTAMP:20260424T095711Z
CREATED:20260424T095711Z
DTSTART:20250111T190000Z
DTEND:20250111T200000Z
LOCATION:Green Court
CONTACT:
SUMMARY:White VS. Gray
DESCRIPTION:League Name: 2025 Jan Metro-Juniors Volleyball League\nGame Typ
 e: Regular\nGame Status: Complete\nHome Team: White\nAway Team: Gray\nHome
  Score: 2\nAway Score: 1
END:VEVENT
BEGIN:VEVENT
UID:16142580@ezleagues.ezfacility.com
DTSTAMP:20260424T095711Z
CREATED:20260424T095711Z
DTSTART:20250118T220000Z
DTEND:20250118T230000Z
LOCATION:Green Court
CONTACT:
SUMMARY:Gray VS. Pink
DESCRIPTION:League Name: 2025 Jan Metro-Juniors Volleyball League\nGame Typ
 e: Regular\nGame Status: Complete\nHome Team: Gray\nAway Team: Pink\nHome 
 Score: 1\nAway Score: 2
END:VEVENT
BEGIN:VEVENT
UID:16147227@ezleagues.ezfacility.com
DTSTAMP:20260424T095711Z
CREATED:20260424T095711Z
DTSTART:20250125T190000Z
DTEND:20250125T200000Z
LOCATION:Green Court
CONTACT:
SUMMARY:Gray VS. Royal Blue
DESCRIPTION:League Name: 2025 Jan Metro-Juniors Volleyball League\nGame Typ
 e: Regular\nGame Status: Complete\nHome Team: Gray\nAway Team: Royal Blue\
 nHome Score: 0\nAway Score: 3
END:VEVENT
BEGIN:VEVENT
UID:16142585@ezleagues.ezfacility.com
DTSTAMP:20260424T095711Z
CREATED:20260424T095711Z
DTSTART:20250201T210000Z
DTEND:20250201T220000Z
LOCATION:Green Court
CONTACT:
SUMMARY:Yellow VS. Gray
DESCRIPTION:League Name: 2025 Jan Metro-Juniors Volleyball League\nGame Typ
 e: Regular\nGame Status: Complete\nHome Team: Yellow\nAway Team: Gray\nHom
 e Score: 2\nAway Score: 1
END:VEVENT
BEGIN:VEVENT
UID:16142588@ezleagues.ezfacility.com
DTSTAMP:20260424T095711Z
CREATED:20260424T095711Z
DTSTART:20250208T210000Z
DTEND:20250208T220000Z
LOCATION:Green Court
CONTACT:
SUMMARY:Sunshine Power VS. Gray
DESCRIPTION:League Name: 2025 Jan Metro-Juniors Volleyball League\nGame Typ
 e: Regular\nGame Status: Pending\nHome Team: Sunshine Power\nAway Team: Gr
 ay\n
END:VEVENT
END:VCALENDAR
