BEGIN:VCALENDAR
VERSION:2.0
PRODID:-//EZFacility.com, Inc.//EZL 2.5.5.28621
BEGIN:VEVENT
UID:16159887@ezleagues.ezfacility.com
DTSTAMP:20260419T183755Z
CREATED:20260419T183755Z
DTSTART:20250111T231500Z
DTEND:20250111T235800Z
LOCATION:Field 3A
CONTACT:
SUMMARY:u8 NY Dragons  VS. u8 Evolution Jr. Mercurial
DESCRIPTION:League Name: Rec Soccer Winter II 2025 - u8 Div.\nGame Type: Re
 gular\nGame Status: Complete\nHome Team: u8 NY Dragons \nAway Team: u8 Evo
 lution Jr. Mercurial\nHome Score: 0\nAway Score: 3
END:VEVENT
BEGIN:VEVENT
UID:16159924@ezleagues.ezfacility.com
DTSTAMP:20260419T183755Z
CREATED:20260419T183755Z
DTSTART:20250118T223000Z
DTEND:20250118T231300Z
LOCATION:Field 3A
CONTACT:
SUMMARY:u8 NY Dragons  VS. u8 Lisle Orange 
DESCRIPTION:League Name: Rec Soccer Winter II 2025 - u8 Div.\nGame Type: Re
 gular\nGame Status: Complete\nHome Team: u8 NY Dragons \nAway Team: u8 Lis
 le Orange \nHome Score: 5\nAway Score: 8
END:VEVENT
BEGIN:VEVENT
UID:16159930@ezleagues.ezfacility.com
DTSTAMP:20260419T183755Z
CREATED:20260419T183755Z
DTSTART:20250125T231500Z
DTEND:20250125T235800Z
LOCATION:Field 3A
CONTACT:
SUMMARY:u8 NY Dragons  VS. u8 Lisle Select 
DESCRIPTION:League Name: Rec Soccer Winter II 2025 - u8 Div.\nGame Type: Re
 gular\nGame Status: Complete\nHome Team: u8 NY Dragons \nAway Team: u8 Lis
 le Select \nHome Score: 7\nAway Score: 4
END:VEVENT
BEGIN:VEVENT
UID:16159974@ezleagues.ezfacility.com
DTSTAMP:20260419T183755Z
CREATED:20260419T183755Z
DTSTART:20250201T231500Z
DTEND:20250201T235800Z
LOCATION:Field 3A
CONTACT:
SUMMARY:u8 NY Dragons  VS. u8 NY Wings FC
DESCRIPTION:League Name: Rec Soccer Winter II 2025 - u8 Div.\nGame Type: Re
 gular\nGame Status: Complete\nHome Team: u8 NY Dragons \nAway Team: u8 NY 
 Wings FC\nHome Score: 3\nAway Score: 4
END:VEVENT
BEGIN:VEVENT
UID:16159979@ezleagues.ezfacility.com
DTSTAMP:20260419T183755Z
CREATED:20260419T183755Z
DTSTART:20250208T223000Z
DTEND:20250208T231300Z
LOCATION:Field 3A
CONTACT:
SUMMARY:u8 NY Dragons  VS. u8 NY Knights 
DESCRIPTION:League Name: Rec Soccer Winter II 2025 - u8 Div.\nGame Type: Re
 gular\nGame Status: Complete\nHome Team: u8 NY Dragons \nAway Team: u8 NY 
 Knights \nHome Score: 0\nAway Score: 3
END:VEVENT
BEGIN:VEVENT
UID:16159985@ezleagues.ezfacility.com
DTSTAMP:20260419T183755Z
CREATED:20260419T183755Z
DTSTART:20250215T223000Z
DTEND:20250215T231300Z
LOCATION:Field 3A
CONTACT:
SUMMARY:u8 NY Dragons  VS. u8 Lyons FC 
DESCRIPTION:League Name: Rec Soccer Winter II 2025 - u8 Div.\nGame Type: Re
 gular\nGame Status: Complete\nHome Team: u8 NY Dragons \nAway Team: u8 Lyo
 ns FC \nHome Score: 2\nAway Score: 5
END:VEVENT
BEGIN:VEVENT
UID:16159991@ezleagues.ezfacility.com
DTSTAMP:20260419T183755Z
CREATED:20260419T183755Z
DTSTART:20250222T223000Z
DTEND:20250222T231300Z
LOCATION:Field 3A
CONTACT:
SUMMARY:u8 NY Dragons  VS. u8 Firebolts
DESCRIPTION:League Name: Rec Soccer Winter II 2025 - u8 Div.\nGame Type: Re
 gular\nGame Status: Complete\nHome Team: u8 NY Dragons \nAway Team: u8 Fir
 ebolts\nHome Score: 0\nAway Score: 3
END:VEVENT
BEGIN:VEVENT
UID:16159996@ezleagues.ezfacility.com
DTSTAMP:20260419T183755Z
CREATED:20260419T183755Z
DTSTART:20250301T214500Z
DTEND:20250301T222800Z
LOCATION:Field 3A
CONTACT:
SUMMARY:u8 NY Dragons  VS. u8 Lisle Purple
DESCRIPTION:League Name: Rec Soccer Winter II 2025 - u8 Div.\nGame Type: Re
 gular\nGame Status: Complete\nHome Team: u8 NY Dragons \nAway Team: u8 Lis
 le Purple\nHome Score: 7\nAway Score: 4
END:VEVENT
BEGIN:VEVENT
UID:16160027@ezleagues.ezfacility.com
DTSTAMP:20260419T183755Z
CREATED:20260419T183755Z
DTSTART:20250308T210000Z
DTEND:20250308T214300Z
LOCATION:Field 3B
CONTACT:
SUMMARY:u8 NY Wings FC VS. u8 NY Dragons 
DESCRIPTION:League Name: Rec Soccer Winter II 2025 - u8 Div.\nGame Type: Re
 gular\nGame Status: Complete\nHome Team: u8 NY Wings FC\nAway Team: u8 NY 
 Dragons \nHome Score: 7\nAway Score: 4
END:VEVENT
BEGIN:VEVENT
UID:16160034@ezleagues.ezfacility.com
DTSTAMP:20260419T183755Z
CREATED:20260419T183755Z
DTSTART:20250315T213000Z
DTEND:20250315T221300Z
LOCATION:Field 3B
CONTACT:
SUMMARY:u8 NY Dragons  VS. u8 NY Strikers
DESCRIPTION:League Name: Rec Soccer Winter II 2025 - u8 Div.\nGame Type: Re
 gular\nGame Status: Complete\nHome Team: u8 NY Dragons \nAway Team: u8 NY 
 Strikers\nHome Score: 2\nAway Score: 5
END:VEVENT
BEGIN:VEVENT
UID:16160040@ezleagues.ezfacility.com
DTSTAMP:20260419T183755Z
CREATED:20260419T183755Z
DTSTART:20250322T221500Z
DTEND:20250322T225800Z
LOCATION:Field 3B
CONTACT:
SUMMARY:u8 NY Dragons  VS. u8 Cardinals
DESCRIPTION:League Name: Rec Soccer Winter II 2025 - u8 Div.\nGame Type: Re
 gular\nGame Status: Complete\nHome Team: u8 NY Dragons \nAway Team: u8 Car
 dinals\nHome Score: 1\nAway Score: 4
END:VEVENT
END:VCALENDAR
