BEGIN:VCALENDAR
VERSION:2.0
PRODID:-//EZFacility.com, Inc.//EZL 2.5.5.28621
BEGIN:VEVENT
UID:16143335@ezleagues.ezfacility.com
DTSTAMP:20260424T043241Z
CREATED:20260424T043241Z
DTSTART:20241224T020000Z
DTEND:20241224T025000Z
LOCATION:Field 2 BLD
CONTACT:
SUMMARY:LA FC VS. Montesillo
DESCRIPTION:League Name: (12/16) LUNES LIBRE\nGame Type: Regular\nGame Stat
 us: Complete\nHome Team: LA FC\nAway Team: Montesillo\nHome Score: 6\nAway
  Score: 12
END:VEVENT
BEGIN:VEVENT
UID:16154329@ezleagues.ezfacility.com
DTSTAMP:20260424T043241Z
CREATED:20260424T043241Z
DTSTART:20241231T010000Z
DTEND:20241231T015000Z
LOCATION:Field 2 BLD
CONTACT:
SUMMARY:Mary FC Toxicos VS. Montesillo
DESCRIPTION:League Name: (12/16) LUNES LIBRE\nGame Type: Regular\nGame Stat
 us: Complete\nHome Team: Mary FC Toxicos\nAway Team: Montesillo\nHome Scor
 e: 13\nAway Score: 15
END:VEVENT
BEGIN:VEVENT
UID:16173589@ezleagues.ezfacility.com
DTSTAMP:20260424T043241Z
CREATED:20260424T043241Z
DTSTART:20250107T023000Z
DTEND:20250107T032000Z
LOCATION:Field 2 BLD
CONTACT:
SUMMARY:Los PLebes Futboleros FC VS. Montesillo
DESCRIPTION:League Name: (12/16) LUNES LIBRE\nGame Type: Regular\nGame Stat
 us: Complete\nHome Team: Los PLebes Futboleros FC\nAway Team: Montesillo\n
 Home Score: 11\nAway Score: 28
END:VEVENT
BEGIN:VEVENT
UID:16187658@ezleagues.ezfacility.com
DTSTAMP:20260424T043241Z
CREATED:20260424T043241Z
DTSTART:20250114T015000Z
DTEND:20250114T024000Z
LOCATION:Field 1 BLD
CONTACT:
SUMMARY:Dptvo Correcaminos VS. Montesillo
DESCRIPTION:League Name: (12/16) LUNES LIBRE\nGame Type: Regular\nGame Stat
 us: Complete\nHome Team: Dptvo Correcaminos\nAway Team: Montesillo\nHome S
 core: 11\nAway Score: 11
END:VEVENT
BEGIN:VEVENT
UID:16209945@ezleagues.ezfacility.com
DTSTAMP:20260424T043241Z
CREATED:20260424T043241Z
DTSTART:20250121T010000Z
DTEND:20250121T015000Z
LOCATION:Field 1 BLD
CONTACT:
SUMMARY:Napoli (Portugal) VS. Montesillo
DESCRIPTION:League Name: (12/16) LUNES LIBRE\nGame Type: Regular\nGame Stat
 us: Complete\nHome Team: Napoli (Portugal)\nAway Team: Montesillo\nHome Sc
 ore: 8\nAway Score: 7
END:VEVENT
BEGIN:VEVENT
UID:16209949@ezleagues.ezfacility.com
DTSTAMP:20260424T043241Z
CREATED:20260424T043241Z
DTSTART:20250121T020000Z
DTEND:20250121T025000Z
LOCATION:Field 1 BLD
CONTACT:
SUMMARY:Maldonado Guerrero VS. Montesillo
DESCRIPTION:League Name: (12/16) LUNES LIBRE\nGame Type: Regular\nGame Stat
 us: Complete\nHome Team: Maldonado Guerrero\nAway Team: Montesillo\nHome S
 core: 18\nAway Score: 15
END:VEVENT
BEGIN:VEVENT
UID:16213199@ezleagues.ezfacility.com
DTSTAMP:20260424T043241Z
CREATED:20260424T043241Z
DTSTART:20250128T020000Z
DTEND:20250128T025000Z
LOCATION:Field 2 BLD
CONTACT:
SUMMARY:Pachuca VS. Montesillo
DESCRIPTION:League Name: (12/16) LUNES LIBRE\nGame Type: Regular\nGame Stat
 us: Complete\nHome Team: Pachuca\nAway Team: Montesillo\nHome Score: 16\nA
 way Score: 15
END:VEVENT
BEGIN:VEVENT
UID:16231291@ezleagues.ezfacility.com
DTSTAMP:20260424T043241Z
CREATED:20260424T043241Z
DTSTART:20250211T020000Z
DTEND:20250211T025000Z
LOCATION:Field 1 BLD
CONTACT:
SUMMARY:Montesillo VS. Galaxy
DESCRIPTION:League Name: (12/16) LUNES LIBRE\nGame Type: Regular\nGame Stat
 us: Complete\nHome Team: Montesillo\nAway Team: Galaxy\nHome Score: 18\nAw
 ay Score: 8
END:VEVENT
BEGIN:VEVENT
UID:16248716@ezleagues.ezfacility.com
DTSTAMP:20260424T043241Z
CREATED:20260424T043241Z
DTSTART:20250218T000000Z
DTEND:20250218T005000Z
LOCATION:Field 2 BLD
CONTACT:
SUMMARY:Lexington VS. Montesillo
DESCRIPTION:League Name: (12/16) LUNES LIBRE\nGame Type: Regular\nGame Stat
 us: Complete\nHome Team: Lexington\nAway Team: Montesillo\nHome Score: 5\n
 Away Score: 14
END:VEVENT
BEGIN:VEVENT
UID:16260533@ezleagues.ezfacility.com
DTSTAMP:20260424T043241Z
CREATED:20260424T043241Z
DTSTART:20250225T015000Z
DTEND:20250225T024000Z
LOCATION:Field 2 BLD
CONTACT:
SUMMARY:Chelsea FC VS. Montesillo
DESCRIPTION:League Name: (12/16) LUNES LIBRE\nGame Type: Regular\nGame Stat
 us: Complete\nHome Team: Chelsea FC\nAway Team: Montesillo\nHome Score: 14
 \nAway Score: 21
END:VEVENT
BEGIN:VEVENT
UID:16275584@ezleagues.ezfacility.com
DTSTAMP:20260424T043241Z
CREATED:20260424T043241Z
DTSTART:20250304T020000Z
DTEND:20250304T025000Z
LOCATION:Field 2 BLD
CONTACT:
SUMMARY:Los Spartans (luis) VS. Montesillo
DESCRIPTION:League Name: (12/16) LUNES LIBRE\nGame Type: Regular\nGame Stat
 us: Complete\nHome Team: Los Spartans (luis)\nAway Team: Montesillo\nHome 
 Score: 4\nAway Score: 24
END:VEVENT
BEGIN:VEVENT
UID:16311687@ezleagues.ezfacility.com
DTSTAMP:20260424T043241Z
CREATED:20260424T043241Z
DTSTART:20250318T010000Z
DTEND:20250318T015000Z
LOCATION:Field 2 BLD
CONTACT:
SUMMARY:Montesillo VS. Camacho FC
DESCRIPTION:League Name: (12/16) LUNES LIBRE\nGame Type: Regular\nGame Stat
 us: Complete\nHome Team: Montesillo\nAway Team: Camacho FC\nHome Score: 15
 \nAway Score: 14
END:VEVENT
END:VCALENDAR
