BEGIN:VCALENDAR
VERSION:2.0
PRODID:-//EZFacility.com, Inc.//EZL 2.5.5.28621
BEGIN:VEVENT
UID:16145892@ezleagues.ezfacility.com
DTSTAMP:20260426T033630Z
CREATED:20260426T033630Z
DTSTART:20241227T000000Z
DTEND:20241227T010000Z
LOCATION:Field 4 BLD
CONTACT:
SUMMARY:Rincon VS. Pachuca
DESCRIPTION:League Name: MASTER 2 Jueves (12/26)\nGame Type: Regular\nGame 
 Status: Complete\nHome Team: Rincon\nAway Team: Pachuca\nHome Score: 12\nA
 way Score: 8
END:VEVENT
BEGIN:VEVENT
UID:16158772@ezleagues.ezfacility.com
DTSTAMP:20260426T033630Z
CREATED:20260426T033630Z
DTSTART:20250103T000000Z
DTEND:20250103T010000Z
LOCATION:Field 4 BLD
CONTACT:
SUMMARY:Pachuca VS. Cobras
DESCRIPTION:League Name: MASTER 2 Jueves (12/26)\nGame Type: Regular\nGame 
 Status: Complete\nHome Team: Pachuca\nAway Team: Cobras\nHome Score: 10\nA
 way Score: 18
END:VEVENT
BEGIN:VEVENT
UID:16177070@ezleagues.ezfacility.com
DTSTAMP:20260426T033630Z
CREATED:20260426T033630Z
DTSTART:20250110T000000Z
DTEND:20250110T010000Z
LOCATION:Field 2 BLD
CONTACT:
SUMMARY:Pachuca VS. Academia
DESCRIPTION:League Name: MASTER 2 Jueves (12/26)\nGame Type: Regular\nGame 
 Status: Complete\nHome Team: Pachuca\nAway Team: Academia\nHome Score: 12\
 nAway Score: 15
END:VEVENT
BEGIN:VEVENT
UID:16211032@ezleagues.ezfacility.com
DTSTAMP:20260426T033630Z
CREATED:20260426T033630Z
DTSTART:20250124T000000Z
DTEND:20250124T010000Z
LOCATION:Field 4 BLD
CONTACT:
SUMMARY:Pachuca VS. Puebla
DESCRIPTION:League Name: MASTER 2 Jueves (12/26)\nGame Type: Regular\nGame 
 Status: Complete\nHome Team: Pachuca\nAway Team: Puebla\nHome Score: 13\nA
 way Score: 12
END:VEVENT
BEGIN:VEVENT
UID:16217752@ezleagues.ezfacility.com
DTSTAMP:20260426T033630Z
CREATED:20260426T033630Z
DTSTART:20250131T000000Z
DTEND:20250131T010000Z
LOCATION:Field 4 BLD
CONTACT:
SUMMARY:Pachuca VS. Dorados
DESCRIPTION:League Name: MASTER 2 Jueves (12/26)\nGame Type: Regular\nGame 
 Status: Complete\nHome Team: Pachuca\nAway Team: Dorados\nHome Score: 10\n
 Away Score: 19
END:VEVENT
BEGIN:VEVENT
UID:16227425@ezleagues.ezfacility.com
DTSTAMP:20260426T033630Z
CREATED:20260426T033630Z
DTSTART:20250207T000000Z
DTEND:20250207T010000Z
LOCATION:Field 1 BLD
CONTACT:
SUMMARY:Pachuca VS. Sporting
DESCRIPTION:League Name: MASTER 2 Jueves (12/26)\nGame Type: Regular\nGame 
 Status: Complete\nHome Team: Pachuca\nAway Team: Sporting\nHome Score: 6\n
 Away Score: 11
END:VEVENT
BEGIN:VEVENT
UID:16235669@ezleagues.ezfacility.com
DTSTAMP:20260426T033630Z
CREATED:20260426T033630Z
DTSTART:20250214T000000Z
DTEND:20250214T010000Z
LOCATION:Field 2 BLD
CONTACT:
SUMMARY:Fat + Furious VS. Pachuca
DESCRIPTION:League Name: MASTER 2 Jueves (12/26)\nGame Type: Regular\nGame 
 Status: Complete\nHome Team: Fat + Furious\nAway Team: Pachuca\nHome Score
 : 12\nAway Score: 9
END:VEVENT
BEGIN:VEVENT
UID:16257457@ezleagues.ezfacility.com
DTSTAMP:20260426T033630Z
CREATED:20260426T033630Z
DTSTART:20250221T000000Z
DTEND:20250221T010000Z
LOCATION:Field 2 BLD
CONTACT:
SUMMARY:Atlante VS. Pachuca
DESCRIPTION:League Name: MASTER 2 Jueves (12/26)\nGame Type: Regular\nGame 
 Status: Complete\nHome Team: Atlante\nAway Team: Pachuca\nHome Score: 16\n
 Away Score: 15
END:VEVENT
BEGIN:VEVENT
UID:16270942@ezleagues.ezfacility.com
DTSTAMP:20260426T033630Z
CREATED:20260426T033630Z
DTSTART:20250228T010000Z
DTEND:20250228T020000Z
LOCATION:Field 2 BLD
CONTACT:
SUMMARY:Pachuca VS. Clasico
DESCRIPTION:League Name: MASTER 2 Jueves (12/26)\nGame Type: Regular\nGame 
 Status: Complete\nHome Team: Pachuca\nAway Team: Clasico\nHome Score: 16\n
 Away Score: 7
END:VEVENT
BEGIN:VEVENT
UID:16281445@ezleagues.ezfacility.com
DTSTAMP:20260426T033630Z
CREATED:20260426T033630Z
DTSTART:20250307T010000Z
DTEND:20250307T020000Z
LOCATION:Field 5 BLD
CONTACT:
SUMMARY:Pachuca VS. Destructores
DESCRIPTION:League Name: MASTER 2 Jueves (12/26)\nGame Type: Regular\nGame 
 Status: Complete\nHome Team: Pachuca\nAway Team: Destructores\nHome Score:
  5\nAway Score: 10
END:VEVENT
BEGIN:VEVENT
UID:16291867@ezleagues.ezfacility.com
DTSTAMP:20260426T033630Z
CREATED:20260426T033630Z
DTSTART:20250313T230000Z
DTEND:20250314T000000Z
LOCATION:Field 1 BLD
CONTACT:
SUMMARY:Rincon VS. Pachuca
DESCRIPTION:League Name: MASTER 2 Jueves (12/26)\nGame Type: Regular\nGame 
 Status: Complete\nHome Team: Rincon\nAway Team: Pachuca\nHome Score: 15\nA
 way Score: 10
END:VEVENT
BEGIN:VEVENT
UID:16332258@ezleagues.ezfacility.com
DTSTAMP:20260426T033630Z
CREATED:20260426T033630Z
DTSTART:20250320T230000Z
DTEND:20250321T000000Z
LOCATION:Field 4 BLD
CONTACT:
SUMMARY:Pachuca VS. Academia
DESCRIPTION:League Name: MASTER 2 Jueves (12/26)\nGame Type: Regular\nGame 
 Status: Complete\nHome Team: Pachuca\nAway Team: Academia\nHome Score: 19\
 nAway Score: 7
END:VEVENT
BEGIN:VEVENT
UID:16342926@ezleagues.ezfacility.com
DTSTAMP:20260426T033630Z
CREATED:20260426T033630Z
DTSTART:20250328T000000Z
DTEND:20250328T010000Z
LOCATION:Field 1 BLD
CONTACT:
SUMMARY:Pachuca VS. Dorados
DESCRIPTION:League Name: MASTER 2 Jueves (12/26)\nGame Type: Regular\nGame 
 Status: Complete\nHome Team: Pachuca\nAway Team: Dorados\nHome Score: 11\n
 Away Score: 12
END:VEVENT
BEGIN:VEVENT
UID:16357072@ezleagues.ezfacility.com
DTSTAMP:20260426T033630Z
CREATED:20260426T033630Z
DTSTART:20250403T230000Z
DTEND:20250404T000000Z
LOCATION:Field 3 BLD
CONTACT:
SUMMARY:Pachuca VS. Cobras
DESCRIPTION:League Name: MASTER 2 Jueves (12/26)\nGame Type: Regular\nGame 
 Status: Complete\nHome Team: Pachuca\nAway Team: Cobras\nHome Score: 8\nAw
 ay Score: 6
END:VEVENT
END:VCALENDAR
