BEGIN:VCALENDAR
VERSION:2.0
PRODID:-//EZFacility.com, Inc.//EZL 2.5.5.28621
BEGIN:VEVENT
UID:16146894@ezleagues.ezfacility.com
DTSTAMP:20260423T203705Z
CREATED:20260423T203705Z
DTSTART:20250112T220000Z
DTEND:20250112T230000Z
LOCATION:Field 1- South
CONTACT:
SUMMARY:Fairfield VS. Craze 3
DESCRIPTION:League Name: Girls High School - B\nGame Type: Regular\nGame St
 atus: Complete\nHome Team: Fairfield\nAway Team: Craze 3\nHome Score: 4\nA
 way Score: 2
END:VEVENT
BEGIN:VEVENT
UID:16146898@ezleagues.ezfacility.com
DTSTAMP:20260423T203705Z
CREATED:20260423T203705Z
DTSTART:20250118T021500Z
DTEND:20250118T031500Z
LOCATION:Field 1- South
CONTACT:
SUMMARY:Craze 3 VS. Littlestown II
DESCRIPTION:League Name: Girls High School - B\nGame Type: Regular\nGame St
 atus: Complete\nHome Team: Craze 3\nAway Team: Littlestown II\nHome Score:
  1\nAway Score: 4
END:VEVENT
BEGIN:VEVENT
UID:16146902@ezleagues.ezfacility.com
DTSTAMP:20260423T203705Z
CREATED:20260423T203705Z
DTSTART:20250126T210000Z
DTEND:20250126T220000Z
LOCATION:Field 1- South
CONTACT:
SUMMARY:Biglerville VS. Craze 3
DESCRIPTION:League Name: Girls High School - B\nGame Type: Regular\nGame St
 atus: Complete\nHome Team: Biglerville\nAway Team: Craze 3\nHome Score: 2\
 nAway Score: 3
END:VEVENT
BEGIN:VEVENT
UID:16146909@ezleagues.ezfacility.com
DTSTAMP:20260423T203705Z
CREATED:20260423T203705Z
DTSTART:20250216T210000Z
DTEND:20250216T220000Z
LOCATION:Field 1- South
CONTACT:
SUMMARY:Craze 3 VS. Fairfield
DESCRIPTION:League Name: Girls High School - B\nGame Type: Regular\nGame St
 atus: Complete\nHome Team: Craze 3\nAway Team: Fairfield\nHome Score: 1\nA
 way Score: 6
END:VEVENT
BEGIN:VEVENT
UID:16146913@ezleagues.ezfacility.com
DTSTAMP:20260423T203705Z
CREATED:20260423T203705Z
DTSTART:20250223T210000Z
DTEND:20250223T220000Z
LOCATION:Field 1- South
CONTACT:
SUMMARY:Craze 3 VS. Littlestown II
DESCRIPTION:League Name: Girls High School - B\nGame Type: Regular\nGame St
 atus: Complete\nHome Team: Craze 3\nAway Team: Littlestown II\nHome Score:
  0\nAway Score: 1
END:VEVENT
BEGIN:VEVENT
UID:16146917@ezleagues.ezfacility.com
DTSTAMP:20260423T203705Z
CREATED:20260423T203705Z
DTSTART:20250302T210000Z
DTEND:20250302T220000Z
LOCATION:Field 1- South
CONTACT:
SUMMARY:Craze 3 VS. Biglerville
DESCRIPTION:League Name: Girls High School - B\nGame Type: Regular\nGame St
 atus: Complete\nHome Team: Craze 3\nAway Team: Biglerville\nHome Score: 2\
 nAway Score: 3
END:VEVENT
BEGIN:VEVENT
UID:16146905@ezleagues.ezfacility.com
DTSTAMP:20260423T203705Z
CREATED:20260423T203705Z
DTSTART:20250308T011500Z
DTEND:20250308T021500Z
LOCATION:Field 1- South
CONTACT:
SUMMARY:Littlestown 1 VS. Craze 3
DESCRIPTION:League Name: Girls High School - B\nGame Type: Regular\nGame St
 atus: Complete\nHome Team: Littlestown 1\nAway Team: Craze 3\nHome Score: 
 1\nAway Score: 5
END:VEVENT
BEGIN:VEVENT
UID:16146907@ezleagues.ezfacility.com
DTSTAMP:20260423T203705Z
CREATED:20260423T203705Z
DTSTART:20250309T190000Z
DTEND:20250309T200000Z
LOCATION:Field 1- South
CONTACT:
SUMMARY:New Oxford VS. Craze 3
DESCRIPTION:League Name: Girls High School - B\nGame Type: Regular\nGame St
 atus: Pending\nHome Team: New Oxford\nAway Team: Craze 3\n
END:VEVENT
END:VCALENDAR
