BEGIN:VCALENDAR
VERSION:2.0
PRODID:-//EZFacility.com, Inc.//EZL 2.5.5.28621
BEGIN:VEVENT
UID:16147604@ezleagues.ezfacility.com
DTSTAMP:20260425T154845Z
CREATED:20260425T154845Z
DTSTART:20241228T220000Z
DTEND:20241228T230000Z
LOCATION:Field 4 BLD
CONTACT:
SUMMARY:Emma FC VS. Deportivo Hernandez
DESCRIPTION:League Name: (12/28) FEMENINO 2.DIV. SABADO\nGame Type: Regular
 \nGame Status: Complete\nHome Team: Emma FC\nAway Team: Deportivo Hernande
 z\nHome Score: 11\nAway Score: 8
END:VEVENT
BEGIN:VEVENT
UID:16170722@ezleagues.ezfacility.com
DTSTAMP:20260425T154845Z
CREATED:20260425T154845Z
DTSTART:20250104T230000Z
DTEND:20250105T000000Z
LOCATION:Field 3 BLD
CONTACT:
SUMMARY:Rising Stars  VS. Emma FC
DESCRIPTION:League Name: (12/28) FEMENINO 2.DIV. SABADO\nGame Type: Regular
 \nGame Status: Complete\nHome Team: Rising Stars \nAway Team: Emma FC\nHom
 e Score: 5\nAway Score: 9
END:VEVENT
BEGIN:VEVENT
UID:16198192@ezleagues.ezfacility.com
DTSTAMP:20260425T154845Z
CREATED:20260425T154845Z
DTSTART:20250118T230000Z
DTEND:20250119T000000Z
LOCATION:Field 3 BLD
CONTACT:
SUMMARY:Emma FC VS. NC FC
DESCRIPTION:League Name: (12/28) FEMENINO 2.DIV. SABADO\nGame Type: Regular
 \nGame Status: Complete\nHome Team: Emma FC\nAway Team: NC FC\nHome Score:
  12\nAway Score: 13
END:VEVENT
BEGIN:VEVENT
UID:16219359@ezleagues.ezfacility.com
DTSTAMP:20260425T154845Z
CREATED:20260425T154845Z
DTSTART:20250201T230000Z
DTEND:20250202T000000Z
LOCATION:Field 4 BLD
CONTACT:
SUMMARY:Dptvo Mary VS. Emma FC
DESCRIPTION:League Name: (12/28) FEMENINO 2.DIV. SABADO\nGame Type: Regular
 \nGame Status: Complete\nHome Team: Dptvo Mary\nAway Team: Emma FC\nHome S
 core: 11\nAway Score: 12
END:VEVENT
BEGIN:VEVENT
UID:16228287@ezleagues.ezfacility.com
DTSTAMP:20260425T154845Z
CREATED:20260425T154845Z
DTSTART:20250208T235500Z
DTEND:20250209T005500Z
LOCATION:Field 4 BLD
CONTACT:
SUMMARY:Emma FC VS. Chivas
DESCRIPTION:League Name: (12/28) FEMENINO 2.DIV. SABADO\nGame Type: Regular
 \nGame Status: Complete\nHome Team: Emma FC\nAway Team: Chivas\nHome Score
 : 11\nAway Score: 12
END:VEVENT
BEGIN:VEVENT
UID:16236448@ezleagues.ezfacility.com
DTSTAMP:20260425T154845Z
CREATED:20260425T154845Z
DTSTART:20250215T230000Z
DTEND:20250216T000000Z
LOCATION:Field 4 BLD
CONTACT:
SUMMARY:Emma FC VS. Pink Power FC (Yesenia)
DESCRIPTION:League Name: (12/28) FEMENINO 2.DIV. SABADO\nGame Type: Regular
 \nGame Status: Complete\nHome Team: Emma FC\nAway Team: Pink Power FC (Yes
 enia)\nHome Score: 11\nAway Score: 9
END:VEVENT
BEGIN:VEVENT
UID:16257599@ezleagues.ezfacility.com
DTSTAMP:20260425T154845Z
CREATED:20260425T154845Z
DTSTART:20250222T235500Z
DTEND:20250223T005500Z
LOCATION:Field 3 BLD
CONTACT:
SUMMARY:Emma FC VS. Deportivo Hernandez
DESCRIPTION:League Name: (12/28) FEMENINO 2.DIV. SABADO\nGame Type: Regular
 \nGame Status: Complete\nHome Team: Emma FC\nAway Team: Deportivo Hernande
 z\nHome Score: 8\nAway Score: 18
END:VEVENT
BEGIN:VEVENT
UID:16271091@ezleagues.ezfacility.com
DTSTAMP:20260425T154845Z
CREATED:20260425T154845Z
DTSTART:20250301T210000Z
DTEND:20250301T220000Z
LOCATION:Field 4 BLD
CONTACT:
SUMMARY:Emma FC VS. Statesville
DESCRIPTION:League Name: (12/28) FEMENINO 2.DIV. SABADO\nGame Type: Regular
 \nGame Status: Complete\nHome Team: Emma FC\nAway Team: Statesville\nHome 
 Score: 13\nAway Score: 3
END:VEVENT
BEGIN:VEVENT
UID:16286177@ezleagues.ezfacility.com
DTSTAMP:20260425T154845Z
CREATED:20260425T154845Z
DTSTART:20250309T000000Z
DTEND:20250309T010000Z
LOCATION:Field 4 BLD
CONTACT:
SUMMARY:Emma FC VS. LS Barcelona
DESCRIPTION:League Name: (12/28) FEMENINO 2.DIV. SABADO\nGame Type: Regular
 \nGame Status: Complete\nHome Team: Emma FC\nAway Team: LS Barcelona\nHome
  Score: 11\nAway Score: 8
END:VEVENT
BEGIN:VEVENT
UID:16302757@ezleagues.ezfacility.com
DTSTAMP:20260425T154845Z
CREATED:20260425T154845Z
DTSTART:20250315T200000Z
DTEND:20250315T210000Z
LOCATION:Field 3 BLD
CONTACT:
SUMMARY:Emma FC VS. Deportivo Diablas
DESCRIPTION:League Name: (12/28) FEMENINO 2.DIV. SABADO\nGame Type: Regular
 \nGame Status: Complete\nHome Team: Emma FC\nAway Team: Deportivo Diablas\
 nHome Score: 14\nAway Score: 9
END:VEVENT
BEGIN:VEVENT
UID:16353672@ezleagues.ezfacility.com
DTSTAMP:20260425T154845Z
CREATED:20260425T154845Z
DTSTART:20250329T220000Z
DTEND:20250329T230000Z
LOCATION:Field 3 BLD
CONTACT:
SUMMARY:Mom Squad VS. Emma FC
DESCRIPTION:League Name: (12/28) FEMENINO 2.DIV. SABADO\nGame Type: Regular
 \nGame Status: Complete\nHome Team: Mom Squad\nAway Team: Emma FC\nHome Sc
 ore: 9\nAway Score: 15
END:VEVENT
BEGIN:VEVENT
UID:16370281@ezleagues.ezfacility.com
DTSTAMP:20260425T154845Z
CREATED:20260425T154845Z
DTSTART:20250405T230000Z
DTEND:20250406T000000Z
LOCATION:Field 3 BLD
CONTACT:
SUMMARY:Montufar FC VS. Emma FC
DESCRIPTION:League Name: (12/28) FEMENINO 2.DIV. SABADO\nGame Type: Regular
 \nGame Status: Complete\nHome Team: Montufar FC\nAway Team: Emma FC\nHome 
 Score: 6\nAway Score: 4
END:VEVENT
BEGIN:VEVENT
UID:16388093@ezleagues.ezfacility.com
DTSTAMP:20260425T154845Z
CREATED:20260425T154845Z
DTSTART:20250412T230000Z
DTEND:20250413T000000Z
LOCATION:Field 3 BLD
CONTACT:
SUMMARY:Emma FC VS. Atleticas
DESCRIPTION:League Name: (12/28) FEMENINO 2.DIV. SABADO\nGame Type: Regular
 \nGame Status: Complete\nHome Team: Emma FC\nAway Team: Atleticas\nHome Sc
 ore: 10\nAway Score: 11
END:VEVENT
BEGIN:VEVENT
UID:16411498@ezleagues.ezfacility.com
DTSTAMP:20260425T154845Z
CREATED:20260425T154845Z
DTSTART:20250426T220000Z
DTEND:20250426T230000Z
LOCATION:Field 4 BLD
CONTACT:
SUMMARY:Emma FC VS. Chivas
DESCRIPTION:League Name: (12/28) FEMENINO 2.DIV. SABADO\nGame Type: Regular
 \nGame Status: Complete\nHome Team: Emma FC\nAway Team: Chivas\nHome Score
 : 8\nAway Score: 8
END:VEVENT
END:VCALENDAR
