BEGIN:VCALENDAR
VERSION:2.0
PRODID:-//EZFacility.com, Inc.//EZL 2.5.5.28621
BEGIN:VEVENT
UID:16172556@ezleagues.ezfacility.com
DTSTAMP:20260426T034933Z
CREATED:20260426T034933Z
DTSTART:20250106T000000Z
DTEND:20250106T004000Z
LOCATION:Court 1
CONTACT:
SUMMARY:House Team VS. Katie Detone
DESCRIPTION:League Name: 2025 Sunday Coed 4s League\nGame Type: Regular\nGa
 me Status: Complete\nHome Team: House Team\nAway Team: Katie Detone\nHome 
 Score: 1\nAway Score: 0
END:VEVENT
BEGIN:VEVENT
UID:16172566@ezleagues.ezfacility.com
DTSTAMP:20260426T034933Z
CREATED:20260426T034933Z
DTSTART:20250106T000000Z
DTEND:20250106T004000Z
LOCATION:Court 2
CONTACT:
SUMMARY:Nicholas Ribaric VS. Katie Detone
DESCRIPTION:League Name: 2025 Sunday Coed 4s League\nGame Type: Regular\nGa
 me Status: Complete\nHome Team: Nicholas Ribaric\nAway Team: Katie Detone\
 nHome Score: 1\nAway Score: 0
END:VEVENT
BEGIN:VEVENT
UID:16172582@ezleagues.ezfacility.com
DTSTAMP:20260426T034933Z
CREATED:20260426T034933Z
DTSTART:20250106T000000Z
DTEND:20250106T004000Z
LOCATION:Court 3
CONTACT:
SUMMARY:Jibril Abdrabboh VS. Katie Detone
DESCRIPTION:League Name: 2025 Sunday Coed 4s League\nGame Type: Regular\nGa
 me Status: Complete\nHome Team: Jibril Abdrabboh\nAway Team: Katie Detone\
 nHome Score: 1\nAway Score: 0
END:VEVENT
BEGIN:VEVENT
UID:16172588@ezleagues.ezfacility.com
DTSTAMP:20260426T034933Z
CREATED:20260426T034933Z
DTSTART:20250106T000000Z
DTEND:20250106T004000Z
LOCATION:Court 4
CONTACT:
SUMMARY:Nathan Hartwig VS. Katie Detone
DESCRIPTION:League Name: 2025 Sunday Coed 4s League\nGame Type: Regular\nGa
 me Status: Complete\nHome Team: Nathan Hartwig\nAway Team: Katie Detone\nH
 ome Score: 1\nAway Score: 0
END:VEVENT
BEGIN:VEVENT
UID:16172594@ezleagues.ezfacility.com
DTSTAMP:20260426T034933Z
CREATED:20260426T034933Z
DTSTART:20250106T000000Z
DTEND:20250106T004000Z
LOCATION:Court 5
CONTACT:
SUMMARY:Jessie Owens VS. Katie Detone
DESCRIPTION:League Name: 2025 Sunday Coed 4s League\nGame Type: Regular\nGa
 me Status: Complete\nHome Team: Jessie Owens\nAway Team: Katie Detone\nHom
 e Score: 1\nAway Score: 0
END:VEVENT
BEGIN:VEVENT
UID:16172600@ezleagues.ezfacility.com
DTSTAMP:20260426T034933Z
CREATED:20260426T034933Z
DTSTART:20250106T000000Z
DTEND:20250106T004000Z
LOCATION:Court 5
CONTACT:
SUMMARY:Michael Cardona VS. Katie Detone
DESCRIPTION:League Name: 2025 Sunday Coed 4s League\nGame Type: Regular\nGa
 me Status: Complete\nHome Team: Michael Cardona\nAway Team: Katie Detone\n
 Home Score: 1\nAway Score: 0
END:VEVENT
BEGIN:VEVENT
UID:16183978@ezleagues.ezfacility.com
DTSTAMP:20260426T034933Z
CREATED:20260426T034933Z
DTSTART:20250113T000000Z
DTEND:20250113T004000Z
LOCATION:Court 3
CONTACT:
SUMMARY:Bolivar Sarria VS. Katie Detone
DESCRIPTION:League Name: 2025 Sunday Coed 4s League\nGame Type: Regular\nGa
 me Status: Complete\nHome Team: Bolivar Sarria\nAway Team: Katie Detone\nH
 ome Score: 1\nAway Score: 0
END:VEVENT
BEGIN:VEVENT
UID:16184130@ezleagues.ezfacility.com
DTSTAMP:20260426T034933Z
CREATED:20260426T034933Z
DTSTART:20250113T000000Z
DTEND:20250113T004000Z
LOCATION:Court 4
CONTACT:
SUMMARY:Jack Kitchner VS. Katie Detone
DESCRIPTION:League Name: 2025 Sunday Coed 4s League\nGame Type: Regular\nGa
 me Status: Complete\nHome Team: Jack Kitchner\nAway Team: Katie Detone\nHo
 me Score: 1\nAway Score: 0
END:VEVENT
BEGIN:VEVENT
UID:16184144@ezleagues.ezfacility.com
DTSTAMP:20260426T034933Z
CREATED:20260426T034933Z
DTSTART:20250113T000000Z
DTEND:20250113T004000Z
LOCATION:Court 5
CONTACT:
SUMMARY:Kayla Boggess VS. Katie Detone
DESCRIPTION:League Name: 2025 Sunday Coed 4s League\nGame Type: Regular\nGa
 me Status: Complete\nHome Team: Kayla Boggess\nAway Team: Katie Detone\nHo
 me Score: 1\nAway Score: 0
END:VEVENT
BEGIN:VEVENT
UID:16184218@ezleagues.ezfacility.com
DTSTAMP:20260426T034933Z
CREATED:20260426T034933Z
DTSTART:20250113T000000Z
DTEND:20250113T004000Z
LOCATION:Court 5
CONTACT:
SUMMARY:House Team VS. Katie Detone
DESCRIPTION:League Name: 2025 Sunday Coed 4s League\nGame Type: Regular\nGa
 me Status: Complete\nHome Team: House Team\nAway Team: Katie Detone\nHome 
 Score: 1\nAway Score: 0
END:VEVENT
BEGIN:VEVENT
UID:16184235@ezleagues.ezfacility.com
DTSTAMP:20260426T034933Z
CREATED:20260426T034933Z
DTSTART:20250113T000000Z
DTEND:20250113T004000Z
LOCATION:Court 5
CONTACT:
SUMMARY:Kayla Boggess VS. Katie Detone
DESCRIPTION:League Name: 2025 Sunday Coed 4s League\nGame Type: Regular\nGa
 me Status: Complete\nHome Team: Kayla Boggess\nAway Team: Katie Detone\nHo
 me Score: 1\nAway Score: 0
END:VEVENT
BEGIN:VEVENT
UID:16184273@ezleagues.ezfacility.com
DTSTAMP:20260426T034933Z
CREATED:20260426T034933Z
DTSTART:20250113T000000Z
DTEND:20250113T004000Z
LOCATION:Court 5
CONTACT:
SUMMARY:House Team VS. Katie Detone
DESCRIPTION:League Name: 2025 Sunday Coed 4s League\nGame Type: Regular\nGa
 me Status: Complete\nHome Team: House Team\nAway Team: Katie Detone\nHome 
 Score: 1\nAway Score: 0
END:VEVENT
BEGIN:VEVENT
UID:16194592@ezleagues.ezfacility.com
DTSTAMP:20260426T034933Z
CREATED:20260426T034933Z
DTSTART:20250120T000000Z
DTEND:20250120T004000Z
LOCATION:Court 5
CONTACT:
SUMMARY:Nicholas Ribaric VS. Katie Detone
DESCRIPTION:League Name: 2025 Sunday Coed 4s League\nGame Type: Regular\nGa
 me Status: Complete\nHome Team: Nicholas Ribaric\nAway Team: Katie Detone\
 nHome Score: 1\nAway Score: 0
END:VEVENT
BEGIN:VEVENT
UID:16194597@ezleagues.ezfacility.com
DTSTAMP:20260426T034933Z
CREATED:20260426T034933Z
DTSTART:20250120T000000Z
DTEND:20250120T004000Z
LOCATION:Court 5
CONTACT:
SUMMARY:House Team VS. Katie Detone
DESCRIPTION:League Name: 2025 Sunday Coed 4s League\nGame Type: Regular\nGa
 me Status: Complete\nHome Team: House Team\nAway Team: Katie Detone\nHome 
 Score: 1\nAway Score: 0
END:VEVENT
BEGIN:VEVENT
UID:16194644@ezleagues.ezfacility.com
DTSTAMP:20260426T034933Z
CREATED:20260426T034933Z
DTSTART:20250120T000000Z
DTEND:20250120T004000Z
LOCATION:Court 5
CONTACT:
SUMMARY:Jessie Owens VS. Katie Detone
DESCRIPTION:League Name: 2025 Sunday Coed 4s League\nGame Type: Regular\nGa
 me Status: Complete\nHome Team: Jessie Owens\nAway Team: Katie Detone\nHom
 e Score: 1\nAway Score: 0
END:VEVENT
BEGIN:VEVENT
UID:16194649@ezleagues.ezfacility.com
DTSTAMP:20260426T034933Z
CREATED:20260426T034933Z
DTSTART:20250120T000000Z
DTEND:20250120T004000Z
LOCATION:Court 5
CONTACT:
SUMMARY:House Team VS. Katie Detone
DESCRIPTION:League Name: 2025 Sunday Coed 4s League\nGame Type: Regular\nGa
 me Status: Complete\nHome Team: House Team\nAway Team: Katie Detone\nHome 
 Score: 1\nAway Score: 0
END:VEVENT
BEGIN:VEVENT
UID:16194654@ezleagues.ezfacility.com
DTSTAMP:20260426T034933Z
CREATED:20260426T034933Z
DTSTART:20250120T000000Z
DTEND:20250120T004000Z
LOCATION:Court 5
CONTACT:
SUMMARY:Jessie Owens VS. Katie Detone
DESCRIPTION:League Name: 2025 Sunday Coed 4s League\nGame Type: Regular\nGa
 me Status: Complete\nHome Team: Jessie Owens\nAway Team: Katie Detone\nHom
 e Score: 1\nAway Score: 0
END:VEVENT
BEGIN:VEVENT
UID:16194659@ezleagues.ezfacility.com
DTSTAMP:20260426T034933Z
CREATED:20260426T034933Z
DTSTART:20250120T000000Z
DTEND:20250120T004000Z
LOCATION:Court 5
CONTACT:
SUMMARY:House Team VS. Katie Detone
DESCRIPTION:League Name: 2025 Sunday Coed 4s League\nGame Type: Regular\nGa
 me Status: Complete\nHome Team: House Team\nAway Team: Katie Detone\nHome 
 Score: 1\nAway Score: 0
END:VEVENT
BEGIN:VEVENT
UID:16209706@ezleagues.ezfacility.com
DTSTAMP:20260426T034933Z
CREATED:20260426T034933Z
DTSTART:20250127T000000Z
DTEND:20250127T004000Z
LOCATION:Court 2
CONTACT:
SUMMARY:Jack Kitchner VS. Katie Detone
DESCRIPTION:League Name: 2025 Sunday Coed 4s League\nGame Type: Regular\nGa
 me Status: Complete\nHome Team: Jack Kitchner\nAway Team: Katie Detone\nHo
 me Score: 1\nAway Score: 0
END:VEVENT
BEGIN:VEVENT
UID:16209714@ezleagues.ezfacility.com
DTSTAMP:20260426T034933Z
CREATED:20260426T034933Z
DTSTART:20250127T000000Z
DTEND:20250127T004000Z
LOCATION:Court 3
CONTACT:
SUMMARY:Cole Skinner VS. Katie Detone
DESCRIPTION:League Name: 2025 Sunday Coed 4s League\nGame Type: Regular\nGa
 me Status: Complete\nHome Team: Cole Skinner\nAway Team: Katie Detone\nHom
 e Score: 1\nAway Score: 0
END:VEVENT
BEGIN:VEVENT
UID:16209701@ezleagues.ezfacility.com
DTSTAMP:20260426T034933Z
CREATED:20260426T034933Z
DTSTART:20250127T000000Z
DTEND:20250127T004000Z
LOCATION:Court 3
CONTACT:
SUMMARY:Katie Detone VS. Kayla Boggess
DESCRIPTION:League Name: 2025 Sunday Coed 4s League\nGame Type: Regular\nGa
 me Status: Complete\nHome Team: Katie Detone\nAway Team: Kayla Boggess\nHo
 me Score: 1\nAway Score: 0
END:VEVENT
BEGIN:VEVENT
UID:16209725@ezleagues.ezfacility.com
DTSTAMP:20260426T034933Z
CREATED:20260426T034933Z
DTSTART:20250127T000000Z
DTEND:20250127T004000Z
LOCATION:Court 4
CONTACT:
SUMMARY:Kayla Boggess VS. Katie Detone
DESCRIPTION:League Name: 2025 Sunday Coed 4s League\nGame Type: Regular\nGa
 me Status: Complete\nHome Team: Kayla Boggess\nAway Team: Katie Detone\nHo
 me Score: 1\nAway Score: 0
END:VEVENT
BEGIN:VEVENT
UID:16209736@ezleagues.ezfacility.com
DTSTAMP:20260426T034933Z
CREATED:20260426T034933Z
DTSTART:20250127T000000Z
DTEND:20250127T004000Z
LOCATION:Court 4
CONTACT:
SUMMARY:Kayla Boggess VS. Katie Detone
DESCRIPTION:League Name: 2025 Sunday Coed 4s League\nGame Type: Regular\nGa
 me Status: Complete\nHome Team: Kayla Boggess\nAway Team: Katie Detone\nHo
 me Score: 1\nAway Score: 0
END:VEVENT
BEGIN:VEVENT
UID:16209732@ezleagues.ezfacility.com
DTSTAMP:20260426T034933Z
CREATED:20260426T034933Z
DTSTART:20250127T000000Z
DTEND:20250127T004000Z
LOCATION:Court 5
CONTACT:
SUMMARY:Katie Detone VS. Jessie Owens
DESCRIPTION:League Name: 2025 Sunday Coed 4s League\nGame Type: Regular\nGa
 me Status: Complete\nHome Team: Katie Detone\nAway Team: Jessie Owens\nHom
 e Score: 1\nAway Score: 0
END:VEVENT
BEGIN:VEVENT
UID:16223088@ezleagues.ezfacility.com
DTSTAMP:20260426T034933Z
CREATED:20260426T034933Z
DTSTART:20250203T000000Z
DTEND:20250203T004000Z
LOCATION:Court 4
CONTACT:
SUMMARY:Bolivar Sarria VS. Katie Detone
DESCRIPTION:League Name: 2025 Sunday Coed 4s League\nGame Type: Regular\nGa
 me Status: Complete\nHome Team: Bolivar Sarria\nAway Team: Katie Detone\nH
 ome Score: 1\nAway Score: 0
END:VEVENT
BEGIN:VEVENT
UID:16223036@ezleagues.ezfacility.com
DTSTAMP:20260426T034933Z
CREATED:20260426T034933Z
DTSTART:20250203T000000Z
DTEND:20250203T004000Z
LOCATION:Court 5
CONTACT:
SUMMARY:Katie Detone VS. Nicholas Ribaric
DESCRIPTION:League Name: 2025 Sunday Coed 4s League\nGame Type: Regular\nGa
 me Status: Complete\nHome Team: Katie Detone\nAway Team: Nicholas Ribaric\
 nHome Score: 1\nAway Score: 0
END:VEVENT
BEGIN:VEVENT
UID:16222973@ezleagues.ezfacility.com
DTSTAMP:20260426T034933Z
CREATED:20260426T034933Z
DTSTART:20250203T000000Z
DTEND:20250203T004000Z
LOCATION:Court 5
CONTACT:
SUMMARY:Duke Karl VS. Katie Detone
DESCRIPTION:League Name: 2025 Sunday Coed 4s League\nGame Type: Regular\nGa
 me Status: Complete\nHome Team: Duke Karl\nAway Team: Katie Detone\nHome S
 core: 1\nAway Score: 0
END:VEVENT
BEGIN:VEVENT
UID:16222978@ezleagues.ezfacility.com
DTSTAMP:20260426T034933Z
CREATED:20260426T034933Z
DTSTART:20250203T000000Z
DTEND:20250203T004000Z
LOCATION:Court 5
CONTACT:
SUMMARY:Kayla Boggess VS. Katie Detone
DESCRIPTION:League Name: 2025 Sunday Coed 4s League\nGame Type: Regular\nGa
 me Status: Complete\nHome Team: Kayla Boggess\nAway Team: Katie Detone\nHo
 me Score: 1\nAway Score: 0
END:VEVENT
BEGIN:VEVENT
UID:16223024@ezleagues.ezfacility.com
DTSTAMP:20260426T034933Z
CREATED:20260426T034933Z
DTSTART:20250203T000000Z
DTEND:20250203T004000Z
LOCATION:Court 5
CONTACT:
SUMMARY:Nicholas Ribaric VS. Katie Detone
DESCRIPTION:League Name: 2025 Sunday Coed 4s League\nGame Type: Regular\nGa
 me Status: Complete\nHome Team: Nicholas Ribaric\nAway Team: Katie Detone\
 nHome Score: 1\nAway Score: 0
END:VEVENT
BEGIN:VEVENT
UID:16223029@ezleagues.ezfacility.com
DTSTAMP:20260426T034933Z
CREATED:20260426T034933Z
DTSTART:20250203T000000Z
DTEND:20250203T004000Z
LOCATION:Court 5
CONTACT:
SUMMARY:Jessie Owens VS. Katie Detone
DESCRIPTION:League Name: 2025 Sunday Coed 4s League\nGame Type: Regular\nGa
 me Status: Complete\nHome Team: Jessie Owens\nAway Team: Katie Detone\nHom
 e Score: 1\nAway Score: 0
END:VEVENT
BEGIN:VEVENT
UID:16260922@ezleagues.ezfacility.com
DTSTAMP:20260426T034933Z
CREATED:20260426T034933Z
DTSTART:20250224T000000Z
DTEND:20250224T004000Z
LOCATION:Court 3
CONTACT:
SUMMARY:Jibril Abdrabboh VS. Katie Detone
DESCRIPTION:League Name: 2025 Sunday Coed 4s League\nGame Type: Regular\nGa
 me Status: Complete\nHome Team: Jibril Abdrabboh\nAway Team: Katie Detone\
 nHome Score: 1\nAway Score: 0
END:VEVENT
BEGIN:VEVENT
UID:16260928@ezleagues.ezfacility.com
DTSTAMP:20260426T034933Z
CREATED:20260426T034933Z
DTSTART:20250224T000000Z
DTEND:20250224T004000Z
LOCATION:Court 4
CONTACT:
SUMMARY:Michael Cardona VS. Katie Detone
DESCRIPTION:League Name: 2025 Sunday Coed 4s League\nGame Type: Regular\nGa
 me Status: Complete\nHome Team: Michael Cardona\nAway Team: Katie Detone\n
 Home Score: 1\nAway Score: 0
END:VEVENT
BEGIN:VEVENT
UID:16260943@ezleagues.ezfacility.com
DTSTAMP:20260426T034933Z
CREATED:20260426T034933Z
DTSTART:20250224T000000Z
DTEND:20250224T004000Z
LOCATION:Court 4
CONTACT:
SUMMARY:Nicholas Ribaric VS. Katie Detone
DESCRIPTION:League Name: 2025 Sunday Coed 4s League\nGame Type: Regular\nGa
 me Status: Complete\nHome Team: Nicholas Ribaric\nAway Team: Katie Detone\
 nHome Score: 1\nAway Score: 0
END:VEVENT
BEGIN:VEVENT
UID:16260939@ezleagues.ezfacility.com
DTSTAMP:20260426T034933Z
CREATED:20260426T034933Z
DTSTART:20250224T000000Z
DTEND:20250224T004000Z
LOCATION:Court 5
CONTACT:
SUMMARY:Katie Detone VS. Kayla Boggess
DESCRIPTION:League Name: 2025 Sunday Coed 4s League\nGame Type: Regular\nGa
 me Status: Complete\nHome Team: Katie Detone\nAway Team: Kayla Boggess\nHo
 me Score: 1\nAway Score: 0
END:VEVENT
BEGIN:VEVENT
UID:16260934@ezleagues.ezfacility.com
DTSTAMP:20260426T034933Z
CREATED:20260426T034933Z
DTSTART:20250224T000000Z
DTEND:20250224T004000Z
LOCATION:Court 5
CONTACT:
SUMMARY:Jessie Owens VS. Katie Detone
DESCRIPTION:League Name: 2025 Sunday Coed 4s League\nGame Type: Regular\nGa
 me Status: Complete\nHome Team: Jessie Owens\nAway Team: Katie Detone\nHom
 e Score: 1\nAway Score: 0
END:VEVENT
BEGIN:VEVENT
UID:16260949@ezleagues.ezfacility.com
DTSTAMP:20260426T034933Z
CREATED:20260426T034933Z
DTSTART:20250224T000000Z
DTEND:20250224T004000Z
LOCATION:Court 5
CONTACT:
SUMMARY:Nathan Hartwig VS. Katie Detone
DESCRIPTION:League Name: 2025 Sunday Coed 4s League\nGame Type: Regular\nGa
 me Status: Complete\nHome Team: Nathan Hartwig\nAway Team: Katie Detone\nH
 ome Score: 1\nAway Score: 0
END:VEVENT
BEGIN:VEVENT
UID:16304978@ezleagues.ezfacility.com
DTSTAMP:20260426T034933Z
CREATED:20260426T034933Z
DTSTART:20250316T230000Z
DTEND:20250316T234000Z
LOCATION:Court 2
CONTACT:
SUMMARY:Brian Granger VS. Katie Detone
DESCRIPTION:League Name: 2025 Sunday Coed 4s League\nGame Type: Regular\nGa
 me Status: Complete\nHome Team: Brian Granger\nAway Team: Katie Detone\nHo
 me Score: 1\nAway Score: 0
END:VEVENT
BEGIN:VEVENT
UID:16304985@ezleagues.ezfacility.com
DTSTAMP:20260426T034933Z
CREATED:20260426T034933Z
DTSTART:20250316T230000Z
DTEND:20250316T234000Z
LOCATION:Court 3
CONTACT:
SUMMARY:Kayla Boggess VS. Katie Detone
DESCRIPTION:League Name: 2025 Sunday Coed 4s League\nGame Type: Regular\nGa
 me Status: Complete\nHome Team: Kayla Boggess\nAway Team: Katie Detone\nHo
 me Score: 1\nAway Score: 0
END:VEVENT
BEGIN:VEVENT
UID:16304993@ezleagues.ezfacility.com
DTSTAMP:20260426T034933Z
CREATED:20260426T034933Z
DTSTART:20250316T230000Z
DTEND:20250316T234000Z
LOCATION:Court 4
CONTACT:
SUMMARY:House Team VS. Katie Detone
DESCRIPTION:League Name: 2025 Sunday Coed 4s League\nGame Type: Regular\nGa
 me Status: Complete\nHome Team: House Team\nAway Team: Katie Detone\nHome 
 Score: 1\nAway Score: 0
END:VEVENT
BEGIN:VEVENT
UID:16305009@ezleagues.ezfacility.com
DTSTAMP:20260426T034933Z
CREATED:20260426T034933Z
DTSTART:20250316T230000Z
DTEND:20250316T234000Z
LOCATION:Court 4
CONTACT:
SUMMARY:Nathan Hartwig VS. Katie Detone
DESCRIPTION:League Name: 2025 Sunday Coed 4s League\nGame Type: Regular\nGa
 me Status: Complete\nHome Team: Nathan Hartwig\nAway Team: Katie Detone\nH
 ome Score: 1\nAway Score: 0
END:VEVENT
BEGIN:VEVENT
UID:16305005@ezleagues.ezfacility.com
DTSTAMP:20260426T034933Z
CREATED:20260426T034933Z
DTSTART:20250316T230000Z
DTEND:20250316T234000Z
LOCATION:Court 5
CONTACT:
SUMMARY:Katie Detone VS. Nicholas Ribaric
DESCRIPTION:League Name: 2025 Sunday Coed 4s League\nGame Type: Regular\nGa
 me Status: Complete\nHome Team: Katie Detone\nAway Team: Nicholas Ribaric\
 nHome Score: 1\nAway Score: 0
END:VEVENT
BEGIN:VEVENT
UID:16304999@ezleagues.ezfacility.com
DTSTAMP:20260426T034933Z
CREATED:20260426T034933Z
DTSTART:20250316T230000Z
DTEND:20250316T234000Z
LOCATION:Court 5
CONTACT:
SUMMARY:Jibril Abdrabboh VS. Katie Detone
DESCRIPTION:League Name: 2025 Sunday Coed 4s League\nGame Type: Regular\nGa
 me Status: Complete\nHome Team: Jibril Abdrabboh\nAway Team: Katie Detone\
 nHome Score: 1\nAway Score: 0
END:VEVENT
BEGIN:VEVENT
UID:16325345@ezleagues.ezfacility.com
DTSTAMP:20260426T034933Z
CREATED:20260426T034933Z
DTSTART:20250323T230000Z
DTEND:20250323T234000Z
LOCATION:Court 1
CONTACT:
SUMMARY:Nathan Hartwig VS. Katie Detone
DESCRIPTION:League Name: 2025 Sunday Coed 4s League\nGame Type: Regular\nGa
 me Status: Complete\nHome Team: Nathan Hartwig\nAway Team: Katie Detone\nH
 ome Score: 1\nAway Score: 0
END:VEVENT
BEGIN:VEVENT
UID:16325352@ezleagues.ezfacility.com
DTSTAMP:20260426T034933Z
CREATED:20260426T034933Z
DTSTART:20250323T230000Z
DTEND:20250323T234000Z
LOCATION:Court 2
CONTACT:
SUMMARY:Colleen Szakacs VS. Katie Detone
DESCRIPTION:League Name: 2025 Sunday Coed 4s League\nGame Type: Regular\nGa
 me Status: Complete\nHome Team: Colleen Szakacs\nAway Team: Katie Detone\n
 Home Score: 1\nAway Score: 0
END:VEVENT
BEGIN:VEVENT
UID:16325365@ezleagues.ezfacility.com
DTSTAMP:20260426T034933Z
CREATED:20260426T034933Z
DTSTART:20250323T230000Z
DTEND:20250323T234000Z
LOCATION:Court 3
CONTACT:
SUMMARY:Michael Cardona VS. Katie Detone
DESCRIPTION:League Name: 2025 Sunday Coed 4s League\nGame Type: Regular\nGa
 me Status: Complete\nHome Team: Michael Cardona\nAway Team: Katie Detone\n
 Home Score: 1\nAway Score: 0
END:VEVENT
BEGIN:VEVENT
UID:16325372@ezleagues.ezfacility.com
DTSTAMP:20260426T034933Z
CREATED:20260426T034933Z
DTSTART:20250323T230000Z
DTEND:20250323T234000Z
LOCATION:Court 4
CONTACT:
SUMMARY:Jessie Owens VS. Katie Detone
DESCRIPTION:League Name: 2025 Sunday Coed 4s League\nGame Type: Regular\nGa
 me Status: Complete\nHome Team: Jessie Owens\nAway Team: Katie Detone\nHom
 e Score: 1\nAway Score: 0
END:VEVENT
BEGIN:VEVENT
UID:16325378@ezleagues.ezfacility.com
DTSTAMP:20260426T034933Z
CREATED:20260426T034933Z
DTSTART:20250323T230000Z
DTEND:20250323T234000Z
LOCATION:Court 5
CONTACT:
SUMMARY:Nicholas Ribaric VS. Katie Detone
DESCRIPTION:League Name: 2025 Sunday Coed 4s League\nGame Type: Regular\nGa
 me Status: Complete\nHome Team: Nicholas Ribaric\nAway Team: Katie Detone\
 nHome Score: 1\nAway Score: 0
END:VEVENT
BEGIN:VEVENT
UID:16325383@ezleagues.ezfacility.com
DTSTAMP:20260426T034933Z
CREATED:20260426T034933Z
DTSTART:20250323T230000Z
DTEND:20250323T234000Z
LOCATION:Court 5
CONTACT:
SUMMARY:Nathan Hartwig VS. Katie Detone
DESCRIPTION:League Name: 2025 Sunday Coed 4s League\nGame Type: Regular\nGa
 me Status: Complete\nHome Team: Nathan Hartwig\nAway Team: Katie Detone\nH
 ome Score: 1\nAway Score: 0
END:VEVENT
BEGIN:VEVENT
UID:16345217@ezleagues.ezfacility.com
DTSTAMP:20260426T034933Z
CREATED:20260426T034933Z
DTSTART:20250330T230000Z
DTEND:20250330T234000Z
LOCATION:Court 1
CONTACT:
SUMMARY:Katie Detone VS. Jessie Owens
DESCRIPTION:League Name: 2025 Sunday Coed 4s League\nGame Type: Regular\nGa
 me Status: Complete\nHome Team: Katie Detone\nAway Team: Jessie Owens\nHom
 e Score: 1\nAway Score: 0
END:VEVENT
BEGIN:VEVENT
UID:16345222@ezleagues.ezfacility.com
DTSTAMP:20260426T034933Z
CREATED:20260426T034933Z
DTSTART:20250330T230000Z
DTEND:20250330T234000Z
LOCATION:Court 1
CONTACT:
SUMMARY:Katie Detone VS. Brian Granger
DESCRIPTION:League Name: 2025 Sunday Coed 4s League\nGame Type: Regular\nGa
 me Status: Complete\nHome Team: Katie Detone\nAway Team: Brian Granger\nHo
 me Score: 1\nAway Score: 0
END:VEVENT
BEGIN:VEVENT
UID:16345213@ezleagues.ezfacility.com
DTSTAMP:20260426T034933Z
CREATED:20260426T034933Z
DTSTART:20250330T230000Z
DTEND:20250330T234000Z
LOCATION:Court 2
CONTACT:
SUMMARY:Katie Detone VS. Bolivar Sarria
DESCRIPTION:League Name: 2025 Sunday Coed 4s League\nGame Type: Regular\nGa
 me Status: Complete\nHome Team: Katie Detone\nAway Team: Bolivar Sarria\nH
 ome Score: 1\nAway Score: 0
END:VEVENT
BEGIN:VEVENT
UID:16345209@ezleagues.ezfacility.com
DTSTAMP:20260426T034933Z
CREATED:20260426T034933Z
DTSTART:20250330T230000Z
DTEND:20250330T234000Z
LOCATION:Court 3
CONTACT:
SUMMARY:Katie Detone VS. Shakir Ahmed
DESCRIPTION:League Name: 2025 Sunday Coed 4s League\nGame Type: Regular\nGa
 me Status: Complete\nHome Team: Katie Detone\nAway Team: Shakir Ahmed\nHom
 e Score: 1\nAway Score: 0
END:VEVENT
BEGIN:VEVENT
UID:16345205@ezleagues.ezfacility.com
DTSTAMP:20260426T034933Z
CREATED:20260426T034933Z
DTSTART:20250330T230000Z
DTEND:20250330T234000Z
LOCATION:Court 4
CONTACT:
SUMMARY:Katie Detone VS. Nicholas Ribaric
DESCRIPTION:League Name: 2025 Sunday Coed 4s League\nGame Type: Regular\nGa
 me Status: Complete\nHome Team: Katie Detone\nAway Team: Nicholas Ribaric\
 nHome Score: 1\nAway Score: 0
END:VEVENT
BEGIN:VEVENT
UID:16345201@ezleagues.ezfacility.com
DTSTAMP:20260426T034933Z
CREATED:20260426T034933Z
DTSTART:20250330T230000Z
DTEND:20250330T234000Z
LOCATION:Court 5
CONTACT:
SUMMARY:Katie Detone VS. Jibril Abdrabboh
DESCRIPTION:League Name: 2025 Sunday Coed 4s League\nGame Type: Regular\nGa
 me Status: Complete\nHome Team: Katie Detone\nAway Team: Jibril Abdrabboh\
 nHome Score: 1\nAway Score: 0
END:VEVENT
END:VCALENDAR
