BEGIN:VCALENDAR
VERSION:2.0
PRODID:-//EZFacility.com, Inc.//EZL 2.5.5.28621
BEGIN:VEVENT
UID:16152622@ezleagues.ezfacility.com
DTSTAMP:20260426T034935Z
CREATED:20260426T034935Z
DTSTART:20250104T221500Z
DTEND:20250104T230000Z
LOCATION:Indoor East
CONTACT:
SUMMARY:UVUEM JN VS. Copper Mountain 14 BH
DESCRIPTION:League Name: Boys 2014 Silver - 2015 Gold Indoor\nGame Type: Re
 gular\nGame Status: Complete\nHome Team: UVUEM JN\nAway Team: Copper Mount
 ain 14 BH\nHome Score: 3\nAway Score: 8
END:VEVENT
BEGIN:VEVENT
UID:16152627@ezleagues.ezfacility.com
DTSTAMP:20260426T034935Z
CREATED:20260426T034935Z
DTSTART:20250123T004500Z
DTEND:20250123T013000Z
LOCATION:Indoor East
CONTACT:
SUMMARY:Copper Mountain 14 BH VS. Elite FC 2014 Black Team
DESCRIPTION:League Name: Boys 2014 Silver - 2015 Gold Indoor\nGame Type: Re
 gular\nGame Status: Complete\nHome Team: Copper Mountain 14 BH\nAway Team:
  Elite FC 2014 Black Team\nHome Score: 5\nAway Score: 4
END:VEVENT
BEGIN:VEVENT
UID:16152642@ezleagues.ezfacility.com
DTSTAMP:20260426T034935Z
CREATED:20260426T034935Z
DTSTART:20250201T161500Z
DTEND:20250201T170000Z
LOCATION:Indoor West
CONTACT:
SUMMARY:Copper Mountain 14 BH VS. 2014 Copper Mountain ZP
DESCRIPTION:League Name: Boys 2014 Silver - 2015 Gold Indoor\nGame Type: Re
 gular\nGame Status: Complete\nHome Team: Copper Mountain 14 BH\nAway Team:
  2014 Copper Mountain ZP\nHome Score: 5\nAway Score: 5
END:VEVENT
BEGIN:VEVENT
UID:16152656@ezleagues.ezfacility.com
DTSTAMP:20260426T034935Z
CREATED:20260426T034935Z
DTSTART:20250215T183000Z
DTEND:20250215T191500Z
LOCATION:Indoor East
CONTACT:
SUMMARY:Copper Mountain 14 BH VS. Impact City FC Daybreak 14B
DESCRIPTION:League Name: Boys 2014 Silver - 2015 Gold Indoor\nGame Type: Re
 gular\nGame Status: Complete\nHome Team: Copper Mountain 14 BH\nAway Team:
  Impact City FC Daybreak 14B\nHome Score: 10\nAway Score: 0
END:VEVENT
BEGIN:VEVENT
UID:16152663@ezleagues.ezfacility.com
DTSTAMP:20260426T034935Z
CREATED:20260426T034935Z
DTSTART:20250222T230000Z
DTEND:20250222T234500Z
LOCATION:Indoor West
CONTACT:
SUMMARY:Avalanche Blue SL 2014 VS. Copper Mountain 14 BH
DESCRIPTION:League Name: Boys 2014 Silver - 2015 Gold Indoor\nGame Type: Re
 gular\nGame Status: Complete\nHome Team: Avalanche Blue SL 2014\nAway Team
 : Copper Mountain 14 BH\nHome Score: 4\nAway Score: 8
END:VEVENT
BEGIN:VEVENT
UID:16152670@ezleagues.ezfacility.com
DTSTAMP:20260426T034935Z
CREATED:20260426T034935Z
DTSTART:20250301T230000Z
DTEND:20250301T234500Z
LOCATION:Indoor East
CONTACT:
SUMMARY:Copper Mountain 14 BH VS. Impact City FC Daybreak 15B
DESCRIPTION:League Name: Boys 2014 Silver - 2015 Gold Indoor\nGame Type: Re
 gular\nGame Status: Complete\nHome Team: Copper Mountain 14 BH\nAway Team:
  Impact City FC Daybreak 15B\nHome Score: 4\nAway Score: 4
END:VEVENT
BEGIN:VEVENT
UID:16152649@ezleagues.ezfacility.com
DTSTAMP:20260426T034935Z
CREATED:20260426T034935Z
DTSTART:20250308T221500Z
DTEND:20250308T230000Z
LOCATION:Indoor West
CONTACT:
SUMMARY:Real Valley FC 15 VS. Copper Mountain 14 BH
DESCRIPTION:League Name: Boys 2014 Silver - 2015 Gold Indoor\nGame Type: Re
 gular\nGame Status: Complete\nHome Team: Real Valley FC 15\nAway Team: Cop
 per Mountain 14 BH\nHome Score: 1\nAway Score: 7
END:VEVENT
BEGIN:VEVENT
UID:16152632@ezleagues.ezfacility.com
DTSTAMP:20260426T034935Z
CREATED:20260426T034935Z
DTSTART:20250322T211500Z
DTEND:20250322T220000Z
LOCATION:Indoor West
CONTACT:
SUMMARY:Avalanche Boys 14 Black WE VS. Copper Mountain 14 BH
DESCRIPTION:League Name: Boys 2014 Silver - 2015 Gold Indoor\nGame Type: Re
 gular\nGame Status: Complete\nHome Team: Avalanche Boys 14 Black WE\nAway 
 Team: Copper Mountain 14 BH\nHome Score: 0\nAway Score: 11
END:VEVENT
END:VCALENDAR
