BEGIN:VCALENDAR
VERSION:2.0
PRODID:-//EZFacility.com, Inc.//EZL 2.5.5.28621
BEGIN:VEVENT
UID:16153400@ezleagues.ezfacility.com
DTSTAMP:20260422T140528Z
CREATED:20260422T140528Z
DTSTART:20250104T232500Z
DTEND:20250105T001000Z
LOCATION:Futsal North
CONTACT:
SUMMARY:CFC G13 Gray JB - A VS. Atomic Athletics SC 13G Premier - TD
DESCRIPTION:League Name: Girls 2013 Silver Futsal\nGame Type: Regular\nGame
  Status: Complete\nHome Team: CFC G13 Gray JB - A\nAway Team: Atomic Athle
 tics SC 13G Premier - TD\nHome Score: 2\nAway Score: 9
END:VEVENT
BEGIN:VEVENT
UID:16153406@ezleagues.ezfacility.com
DTSTAMP:20260422T140528Z
CREATED:20260422T140528Z
DTSTART:20250111T202500Z
DTEND:20250111T211000Z
LOCATION:Futsal North
CONTACT:
SUMMARY:Spart United 2013 Girls VS. CFC G13 Gray JB - A
DESCRIPTION:League Name: Girls 2013 Silver Futsal\nGame Type: Regular\nGame
  Status: Complete\nHome Team: Spart United 2013 Girls\nAway Team: CFC G13 
 Gray JB - A\nHome Score: 1\nAway Score: 5
END:VEVENT
BEGIN:VEVENT
UID:16153418@ezleagues.ezfacility.com
DTSTAMP:20260422T140528Z
CREATED:20260422T140528Z
DTSTART:20250125T185500Z
DTEND:20250125T194000Z
LOCATION:Futsal South
CONTACT:
SUMMARY:La Roca CP VS. CFC G13 Gray JB - A
DESCRIPTION:League Name: Girls 2013 Silver Futsal\nGame Type: Regular\nGame
  Status: Complete\nHome Team: La Roca CP\nAway Team: CFC G13 Gray JB - A\n
 Home Score: 7\nAway Score: 4
END:VEVENT
BEGIN:VEVENT
UID:16153424@ezleagues.ezfacility.com
DTSTAMP:20260422T140528Z
CREATED:20260422T140528Z
DTSTART:20250201T194000Z
DTEND:20250201T202500Z
LOCATION:Futsal North
CONTACT:
SUMMARY:CFC G13 Gray JB - A VS. Avalanche 14 White SL 2
DESCRIPTION:League Name: Girls 2013 Silver Futsal\nGame Type: Regular\nGame
  Status: Complete\nHome Team: CFC G13 Gray JB - A\nAway Team: Avalanche 14
  White SL 2\nHome Score: 0\nAway Score: 6
END:VEVENT
BEGIN:VEVENT
UID:16153437@ezleagues.ezfacility.com
DTSTAMP:20260422T140528Z
CREATED:20260422T140528Z
DTSTART:20250222T215500Z
DTEND:20250222T224000Z
LOCATION:Futsal North
CONTACT:
SUMMARY:CFC G13 Gray JB - A VS. Sparta G13 KK
DESCRIPTION:League Name: Girls 2013 Silver Futsal\nGame Type: Regular\nGame
  Status: Complete\nHome Team: CFC G13 Gray JB - A\nAway Team: Sparta G13 K
 K\nHome Score: 1\nAway Score: 9
END:VEVENT
BEGIN:VEVENT
UID:16153441@ezleagues.ezfacility.com
DTSTAMP:20260422T140528Z
CREATED:20260422T140528Z
DTSTART:20250301T172500Z
DTEND:20250301T181000Z
LOCATION:Futsal North
CONTACT:
SUMMARY:CFC G13 Gray JB- B VS. CFC G13 Gray JB - A
DESCRIPTION:League Name: Girls 2013 Silver Futsal\nGame Type: Regular\nGame
  Status: Complete\nHome Team: CFC G13 Gray JB- B\nAway Team: CFC G13 Gray 
 JB - A\nHome Score: 1\nAway Score: 4
END:VEVENT
BEGIN:VEVENT
UID:16153433@ezleagues.ezfacility.com
DTSTAMP:20260422T140528Z
CREATED:20260422T140528Z
DTSTART:20250316T013000Z
DTEND:20250316T021500Z
LOCATION:Futsal North
CONTACT:
SUMMARY:WJFC VS. CFC G13 Gray JB - A
DESCRIPTION:League Name: Girls 2013 Silver Futsal\nGame Type: Regular\nGame
  Status: Complete\nHome Team: WJFC\nAway Team: CFC G13 Gray JB - A\nHome S
 core: 3\nAway Score: 4
END:VEVENT
BEGIN:VEVENT
UID:16153429@ezleagues.ezfacility.com
DTSTAMP:20260422T140528Z
CREATED:20260422T140528Z
DTSTART:20250322T192500Z
DTEND:20250322T201000Z
LOCATION:Futsal North
CONTACT:
SUMMARY:CFC G13 Gray JB - A VS. Impact PW G13-2
DESCRIPTION:League Name: Girls 2013 Silver Futsal\nGame Type: Regular\nGame
  Status: Complete\nHome Team: CFC G13 Gray JB - A\nAway Team: Impact PW G1
 3-2\nHome Score: 14\nAway Score: 0
END:VEVENT
END:VCALENDAR
