BEGIN:VCALENDAR
VERSION:2.0
PRODID:-//EZFacility.com, Inc.//EZL 2.5.5.28621
BEGIN:VEVENT
UID:16154388@ezleagues.ezfacility.com
DTSTAMP:20260419T124804Z
CREATED:20260419T124804Z
DTSTART:20250110T041000Z
DTEND:20250110T051000Z
LOCATION:Field 3
CONTACT:
SUMMARY:Legacy VS. No Mames Gueys
DESCRIPTION:League Name: Men's Softball - Winter/Spring 2025\nGame Type: Re
 gular\nGame Status: Complete\nHome Team: Legacy\nAway Team: No Mames Gueys
 \nHome Score: 21\nAway Score: 3
END:VEVENT
BEGIN:VEVENT
UID:16157016@ezleagues.ezfacility.com
DTSTAMP:20260419T124804Z
CREATED:20260419T124804Z
DTSTART:20250131T024000Z
DTEND:20250131T034000Z
LOCATION:Field 2
CONTACT:
SUMMARY:Fallbrook Avocado Gobblers VS. Legacy
DESCRIPTION:League Name: Men's Softball - Winter/Spring 2025\nGame Type: Re
 gular\nGame Status: Complete\nHome Team: Fallbrook Avocado Gobblers\nAway 
 Team: Legacy\nHome Score: 6\nAway Score: 22
END:VEVENT
BEGIN:VEVENT
UID:16154405@ezleagues.ezfacility.com
DTSTAMP:20260419T124804Z
CREATED:20260419T124804Z
DTSTART:20250131T035000Z
DTEND:20250131T045000Z
LOCATION:Field 2
CONTACT:
SUMMARY:FER VS. Legacy
DESCRIPTION:League Name: Men's Softball - Winter/Spring 2025\nGame Type: Re
 gular\nGame Status: Complete\nHome Team: FER\nAway Team: Legacy\nHome Scor
 e: 10\nAway Score: 22
END:VEVENT
BEGIN:VEVENT
UID:16154413@ezleagues.ezfacility.com
DTSTAMP:20260419T124804Z
CREATED:20260419T124804Z
DTSTART:20250207T051000Z
DTEND:20250207T061000Z
LOCATION:Field 3
CONTACT:
SUMMARY:EDCO VS. Legacy
DESCRIPTION:League Name: Men's Softball - Winter/Spring 2025\nGame Type: Re
 gular\nGame Status: Complete\nHome Team: EDCO\nAway Team: Legacy\nHome Sco
 re: 20\nAway Score: 12
END:VEVENT
BEGIN:VEVENT
UID:16154423@ezleagues.ezfacility.com
DTSTAMP:20260419T124804Z
CREATED:20260419T124804Z
DTSTART:20250221T035000Z
DTEND:20250221T045000Z
LOCATION:Field 2
CONTACT:
SUMMARY:Regulators VS. Legacy
DESCRIPTION:League Name: Men's Softball - Winter/Spring 2025\nGame Type: Re
 gular\nGame Status: Complete\nHome Team: Regulators\nAway Team: Legacy\nHo
 me Score: 12\nAway Score: 20
END:VEVENT
BEGIN:VEVENT
UID:16154428@ezleagues.ezfacility.com
DTSTAMP:20260419T124804Z
CREATED:20260419T124804Z
DTSTART:20250228T035000Z
DTEND:20250228T045000Z
LOCATION:Field 2
CONTACT:
SUMMARY:Pool Guys VS. Legacy
DESCRIPTION:League Name: Men's Softball - Winter/Spring 2025\nGame Type: Re
 gular\nGame Status: Complete\nHome Team: Pool Guys\nAway Team: Legacy\nHom
 e Score: 10\nAway Score: 20
END:VEVENT
BEGIN:VEVENT
UID:16156582@ezleagues.ezfacility.com
DTSTAMP:20260419T124804Z
CREATED:20260419T124804Z
DTSTART:20250321T040000Z
DTEND:20250321T050000Z
LOCATION:Field 2
CONTACT:
SUMMARY:Legacy VS. MUDWORMS
DESCRIPTION:League Name: Men's Softball - Winter/Spring 2025\nGame Type: Re
 gular\nGame Status: Complete\nHome Team: Legacy\nAway Team: MUDWORMS\nHome
  Score: 14\nAway Score: 13
END:VEVENT
BEGIN:VEVENT
UID:16154418@ezleagues.ezfacility.com
DTSTAMP:20260419T124804Z
CREATED:20260419T124804Z
DTSTART:20250404T014000Z
DTEND:20250404T024000Z
LOCATION:Field 2
CONTACT:
SUMMARY:Maddogs VS. Legacy
DESCRIPTION:League Name: Men's Softball - Winter/Spring 2025\nGame Type: Re
 gular\nGame Status: Complete\nHome Team: Maddogs\nAway Team: Legacy\nHome 
 Score: 18\nAway Score: 20
END:VEVENT
BEGIN:VEVENT
UID:16154433@ezleagues.ezfacility.com
DTSTAMP:20260419T124804Z
CREATED:20260419T124804Z
DTSTART:20250411T040000Z
DTEND:20250411T050000Z
LOCATION:Field 2
CONTACT:
SUMMARY:Legacy VS. Cooters
DESCRIPTION:League Name: Men's Softball - Winter/Spring 2025\nGame Type: Re
 gular\nGame Status: Complete\nHome Team: Legacy\nAway Team: Cooters\nHome 
 Score: 19\nAway Score: 3
END:VEVENT
BEGIN:VEVENT
UID:16154440@ezleagues.ezfacility.com
DTSTAMP:20260419T124804Z
CREATED:20260419T124804Z
DTSTART:20250418T031000Z
DTEND:20250418T041000Z
LOCATION:Field 3
CONTACT:
SUMMARY:Legacy VS. Cully Repair
DESCRIPTION:League Name: Men's Softball - Winter/Spring 2025\nGame Type: Re
 gular\nGame Status: Complete\nHome Team: Legacy\nAway Team: Cully Repair\n
 Home Score: 12\nAway Score: 13
END:VEVENT
BEGIN:VEVENT
UID:16399908@ezleagues.ezfacility.com
DTSTAMP:20260419T124804Z
CREATED:20260419T124804Z
DTSTART:20250502T014000Z
DTEND:20250502T024000Z
LOCATION:Field 2
CONTACT:
SUMMARY:Legacy VS. Maddogs
DESCRIPTION:League Name: Men's Softball - Winter/Spring 2025\nGame Type: Po
 stseason\nGame Status: Complete\nHome Team: Legacy\nAway Team: Maddogs\nHo
 me Score: 11\nAway Score: 13
END:VEVENT
END:VCALENDAR
