BEGIN:VCALENDAR
VERSION:2.0
PRODID:-//EZFacility.com, Inc.//EZL 2.5.5.28621
BEGIN:VEVENT
UID:16155524@ezleagues.ezfacility.com
DTSTAMP:20260424T030704Z
CREATED:20260424T030704Z
DTSTART:20250114T033000Z
DTEND:20250114T041500Z
LOCATION:Blue Field #2
CONTACT:
SUMMARY:Austins VS. Chicks With Kicks
DESCRIPTION:League Name: AISL Women's 30+ January 2025\nGame Type: Regular\
 nGame Status: Complete\nHome Team: Austins\nAway Team: Chicks With Kicks\n
 Home Score: 0\nAway Score: 1
END:VEVENT
BEGIN:VEVENT
UID:16155516@ezleagues.ezfacility.com
DTSTAMP:20260424T030704Z
CREATED:20260424T030704Z
DTSTART:20250121T020000Z
DTEND:20250121T024500Z
LOCATION:Blue Field #2
CONTACT:
SUMMARY:Last Call VS. Austins
DESCRIPTION:League Name: AISL Women's 30+ January 2025\nGame Type: Regular\
 nGame Status: Complete\nHome Team: Last Call\nAway Team: Austins\nHome Sco
 re: 2\nAway Score: 2
END:VEVENT
BEGIN:VEVENT
UID:16155534@ezleagues.ezfacility.com
DTSTAMP:20260424T030704Z
CREATED:20260424T030704Z
DTSTART:20250128T024500Z
DTEND:20250128T033000Z
LOCATION:Green Field #1
CONTACT:
SUMMARY:Reunited VS. Austins
DESCRIPTION:League Name: AISL Women's 30+ January 2025\nGame Type: Regular\
 nGame Status: Complete\nHome Team: Reunited\nAway Team: Austins\nHome Scor
 e: 4\nAway Score: 6
END:VEVENT
BEGIN:VEVENT
UID:16155529@ezleagues.ezfacility.com
DTSTAMP:20260424T030704Z
CREATED:20260424T030704Z
DTSTART:20250204T020000Z
DTEND:20250204T024500Z
LOCATION:Blue Field #2
CONTACT:
SUMMARY:Out of Shape All-Stars VS. Austins
DESCRIPTION:League Name: AISL Women's 30+ January 2025\nGame Type: Regular\
 nGame Status: Complete\nHome Team: Out of Shape All-Stars\nAway Team: Aust
 ins\nHome Score: 1\nAway Score: 15
END:VEVENT
BEGIN:VEVENT
UID:16155548@ezleagues.ezfacility.com
DTSTAMP:20260424T030704Z
CREATED:20260424T030704Z
DTSTART:20250211T020000Z
DTEND:20250211T024500Z
LOCATION:Green Field #1
CONTACT:
SUMMARY:Winning Isn't Everything VS. Austins
DESCRIPTION:League Name: AISL Women's 30+ January 2025\nGame Type: Regular\
 nGame Status: Complete\nHome Team: Winning Isn't Everything\nAway Team: Au
 stins\nHome Score: 2\nAway Score: 3
END:VEVENT
BEGIN:VEVENT
UID:16155555@ezleagues.ezfacility.com
DTSTAMP:20260424T030704Z
CREATED:20260424T030704Z
DTSTART:20250218T024500Z
DTEND:20250218T033000Z
LOCATION:Green Field #1
CONTACT:
SUMMARY:Austins VS. Mickey Finn's
DESCRIPTION:League Name: AISL Women's 30+ January 2025\nGame Type: Regular\
 nGame Status: Complete\nHome Team: Austins\nAway Team: Mickey Finn's\nHome
  Score: 3\nAway Score: 0
END:VEVENT
BEGIN:VEVENT
UID:16260524@ezleagues.ezfacility.com
DTSTAMP:20260424T030704Z
CREATED:20260424T030704Z
DTSTART:20250225T020000Z
DTEND:20250225T030000Z
LOCATION:Blue Field #2
CONTACT:
SUMMARY:Chicks With Kicks VS. Austins
DESCRIPTION:League Name: AISL Women's 30+ January 2025\nGame Type: Regular\
 nGame Status: Pending\nHome Team: Chicks With Kicks\nAway Team: Austins\n
END:VEVENT
BEGIN:VEVENT
UID:16237413@ezleagues.ezfacility.com
DTSTAMP:20260424T030704Z
CREATED:20260424T030704Z
DTSTART:20250225T024500Z
DTEND:20250225T033000Z
LOCATION:Green Field #1
CONTACT:
SUMMARY:Last Call VS. Austins
DESCRIPTION:League Name: AISL Women's 30+ January 2025\nGame Type: Postseas
 on\nGame Status: Pending\nHome Team: Last Call\nAway Team: Austins\n
END:VEVENT
BEGIN:VEVENT
UID:16260525@ezleagues.ezfacility.com
DTSTAMP:20260424T030704Z
CREATED:20260424T030704Z
DTSTART:20250304T020000Z
DTEND:20250304T030000Z
LOCATION:Blue Field #2
CONTACT:
SUMMARY:Chicks With Kicks VS. Austins
DESCRIPTION:League Name: AISL Women's 30+ January 2025\nGame Type: Regular\
 nGame Status: Complete\nHome Team: Chicks With Kicks\nAway Team: Austins\n
 Home Score: 1\nAway Score: 0
END:VEVENT
END:VCALENDAR
