BEGIN:VCALENDAR
VERSION:2.0
PRODID:-//EZFacility.com, Inc.//EZL 2.5.5.28621
BEGIN:VEVENT
UID:16155540@ezleagues.ezfacility.com
DTSTAMP:20260426T035100Z
CREATED:20260426T035100Z
DTSTART:20250107T033000Z
DTEND:20250107T041500Z
LOCATION:Blue Field #2
CONTACT:
SUMMARY:Black and Blue VS. Reunited
DESCRIPTION:League Name: AISL Women's 30+ January 2025\nGame Type: Regular\
 nGame Status: Complete\nHome Team: Black and Blue\nAway Team: Reunited\nHo
 me Score: 4\nAway Score: 8
END:VEVENT
BEGIN:VEVENT
UID:16155525@ezleagues.ezfacility.com
DTSTAMP:20260426T035100Z
CREATED:20260426T035100Z
DTSTART:20250114T020000Z
DTEND:20250114T024500Z
LOCATION:Blue Field #2
CONTACT:
SUMMARY:Black and Blue VS. Mickey Finn's
DESCRIPTION:League Name: AISL Women's 30+ January 2025\nGame Type: Regular\
 nGame Status: Complete\nHome Team: Black and Blue\nAway Team: Mickey Finn'
 s\nHome Score: 2\nAway Score: 7
END:VEVENT
BEGIN:VEVENT
UID:16155520@ezleagues.ezfacility.com
DTSTAMP:20260426T035100Z
CREATED:20260426T035100Z
DTSTART:20250121T024500Z
DTEND:20250121T033000Z
LOCATION:Green Field #1
CONTACT:
SUMMARY:Winning Isn't Everything VS. Black and Blue
DESCRIPTION:League Name: AISL Women's 30+ January 2025\nGame Type: Regular\
 nGame Status: Complete\nHome Team: Winning Isn't Everything\nAway Team: Bl
 ack and Blue\nHome Score: 5\nAway Score: 2
END:VEVENT
BEGIN:VEVENT
UID:16155535@ezleagues.ezfacility.com
DTSTAMP:20260426T035100Z
CREATED:20260426T035100Z
DTSTART:20250128T020000Z
DTEND:20250128T024500Z
LOCATION:Green Field #1
CONTACT:
SUMMARY:Black and Blue VS. Two Left Feet
DESCRIPTION:League Name: AISL Women's 30+ January 2025\nGame Type: Regular\
 nGame Status: Complete\nHome Team: Black and Blue\nAway Team: Two Left Fee
 t\nHome Score: 5\nAway Score: 1
END:VEVENT
BEGIN:VEVENT
UID:16155547@ezleagues.ezfacility.com
DTSTAMP:20260426T035100Z
CREATED:20260426T035100Z
DTSTART:20250211T024500Z
DTEND:20250211T033000Z
LOCATION:Green Field #1
CONTACT:
SUMMARY:Brothers Barbershop VS. Black and Blue
DESCRIPTION:League Name: AISL Women's 30+ January 2025\nGame Type: Regular\
 nGame Status: Complete\nHome Team: Brothers Barbershop\nAway Team: Black a
 nd Blue\nHome Score: 3\nAway Score: 8
END:VEVENT
BEGIN:VEVENT
UID:16155554@ezleagues.ezfacility.com
DTSTAMP:20260426T035100Z
CREATED:20260426T035100Z
DTSTART:20250218T033000Z
DTEND:20250218T041500Z
LOCATION:Blue Field #2
CONTACT:
SUMMARY:Black and Blue VS. Richmond FC
DESCRIPTION:League Name: AISL Women's 30+ January 2025\nGame Type: Regular\
 nGame Status: Complete\nHome Team: Black and Blue\nAway Team: Richmond FC\
 nHome Score: 0\nAway Score: 13
END:VEVENT
BEGIN:VEVENT
UID:16237410@ezleagues.ezfacility.com
DTSTAMP:20260426T035100Z
CREATED:20260426T035100Z
DTSTART:20250225T024500Z
DTEND:20250225T033000Z
LOCATION:Blue Field #2
CONTACT:
SUMMARY:Winning Isn't Everything VS. Black and Blue
DESCRIPTION:League Name: AISL Women's 30+ January 2025\nGame Type: Postseas
 on\nGame Status: Complete\nHome Team: Winning Isn't Everything\nAway Team:
  Black and Blue\nHome Score: 2\nAway Score: 6
END:VEVENT
BEGIN:VEVENT
UID:16260632@ezleagues.ezfacility.com
DTSTAMP:20260426T035100Z
CREATED:20260426T035100Z
DTSTART:20250304T033000Z
DTEND:20250304T043000Z
LOCATION:Green Field #1
CONTACT:
SUMMARY:Black and Blue VS. Two Left Feet
DESCRIPTION:League Name: AISL Women's 30+ January 2025\nGame Type: Regular\
 nGame Status: Complete\nHome Team: Black and Blue\nAway Team: Two Left Fee
 t\nHome Score: 4\nAway Score: 1
END:VEVENT
END:VCALENDAR
