BEGIN:VCALENDAR
VERSION:2.0
PRODID:-//EZFacility.com, Inc.//EZL 2.5.5.28621
BEGIN:VEVENT
UID:16158230@ezleagues.ezfacility.com
DTSTAMP:20260424T044234Z
CREATED:20260424T044234Z
DTSTART:20250105T213000Z
DTEND:20250105T222000Z
LOCATION:Red Field
CONTACT:
SUMMARY:Grand Niagara VS. NWAA Wolves 2007G - Durst
DESCRIPTION:League Name: Winter B Soccer Session (2025) - U17/19 Girls Divi
 sion\nGame Type: Regular\nGame Status: Complete\nHome Team: Grand Niagara\
 nAway Team: NWAA Wolves 2007G - Durst\nHome Score: 0\nAway Score: 4
END:VEVENT
BEGIN:VEVENT
UID:16165674@ezleagues.ezfacility.com
DTSTAMP:20260424T044234Z
CREATED:20260424T044234Z
DTSTART:20250112T211000Z
DTEND:20250112T220000Z
LOCATION:Blue Field
CONTACT:
SUMMARY:Kenmore Ambush VS. Grand Niagara
DESCRIPTION:League Name: Winter B Soccer Session (2025) - U17/19 Girls Divi
 sion\nGame Type: Regular\nGame Status: Complete\nHome Team: Kenmore Ambush
 \nAway Team: Grand Niagara\nHome Score: 3\nAway Score: 3
END:VEVENT
BEGIN:VEVENT
UID:16165658@ezleagues.ezfacility.com
DTSTAMP:20260424T044234Z
CREATED:20260424T044234Z
DTSTART:20250126T120000Z
DTEND:20250126T125000Z
LOCATION:Red Field
CONTACT:
SUMMARY:Grand Niagara VS. Lockport Lightning G2008
DESCRIPTION:League Name: Winter B Soccer Session (2025) - U17/19 Girls Divi
 sion\nGame Type: Regular\nGame Status: Complete\nHome Team: Grand Niagara\
 nAway Team: Lockport Lightning G2008\nHome Score: 4\nAway Score: 0
END:VEVENT
BEGIN:VEVENT
UID:16165679@ezleagues.ezfacility.com
DTSTAMP:20260424T044234Z
CREATED:20260424T044234Z
DTSTART:20250202T232500Z
DTEND:20250203T001500Z
LOCATION:Red Field
CONTACT:
SUMMARY:Roy Hart VS. Grand Niagara
DESCRIPTION:League Name: Winter B Soccer Session (2025) - U17/19 Girls Divi
 sion\nGame Type: Regular\nGame Status: Complete\nHome Team: Roy Hart\nAway
  Team: Grand Niagara\nHome Score: 2\nAway Score: 4
END:VEVENT
BEGIN:VEVENT
UID:16165669@ezleagues.ezfacility.com
DTSTAMP:20260424T044234Z
CREATED:20260424T044234Z
DTSTART:20250216T180000Z
DTEND:20250216T185000Z
LOCATION:Blue Field
CONTACT:
SUMMARY:Canooks VS. Grand Niagara
DESCRIPTION:League Name: Winter B Soccer Session (2025) - U17/19 Girls Divi
 sion\nGame Type: Regular\nGame Status: Complete\nHome Team: Canooks\nAway 
 Team: Grand Niagara\nHome Score: 0\nAway Score: 3
END:VEVENT
BEGIN:VEVENT
UID:16165684@ezleagues.ezfacility.com
DTSTAMP:20260424T044234Z
CREATED:20260424T044234Z
DTSTART:20250223T191000Z
DTEND:20250223T200000Z
LOCATION:Red Field
CONTACT:
SUMMARY:Grand Niagara VS. NWAA WOLVES 2008 GIRLS STRANGIO
DESCRIPTION:League Name: Winter B Soccer Session (2025) - U17/19 Girls Divi
 sion\nGame Type: Regular\nGame Status: Complete\nHome Team: Grand Niagara\
 nAway Team: NWAA WOLVES 2008 GIRLS STRANGIO\nHome Score: 0\nAway Score: 4
END:VEVENT
BEGIN:VEVENT
UID:16165664@ezleagues.ezfacility.com
DTSTAMP:20260424T044234Z
CREATED:20260424T044234Z
DTSTART:20250302T120000Z
DTEND:20250302T125000Z
LOCATION:Red Field
CONTACT:
SUMMARY:Clarence Inferno Girls u15 Black VS. Grand Niagara
DESCRIPTION:League Name: Winter B Soccer Session (2025) - U17/19 Girls Divi
 sion\nGame Type: Regular\nGame Status: Complete\nHome Team: Clarence Infer
 no Girls u15 Black\nAway Team: Grand Niagara\nHome Score: 4\nAway Score: 1
END:VEVENT
BEGIN:VEVENT
UID:16165696@ezleagues.ezfacility.com
DTSTAMP:20260424T044234Z
CREATED:20260424T044234Z
DTSTART:20250317T010000Z
DTEND:20250317T015000Z
LOCATION:Blue Field
CONTACT:
SUMMARY:2008G Amherst United - White VS. Grand Niagara
DESCRIPTION:League Name: Winter B Soccer Session (2025) - U17/19 Girls Divi
 sion\nGame Type: Regular\nGame Status: Complete\nHome Team: 2008G Amherst 
 United - White\nAway Team: Grand Niagara\nHome Score: 5\nAway Score: 3
END:VEVENT
BEGIN:VEVENT
UID:16165703@ezleagues.ezfacility.com
DTSTAMP:20260424T044234Z
CREATED:20260424T044234Z
DTSTART:20250330T171000Z
DTEND:20250330T180000Z
LOCATION:Blue Field
CONTACT:
SUMMARY:Grand Niagara VS. Clarence Inferno GU17 Red
DESCRIPTION:League Name: Winter B Soccer Session (2025) - U17/19 Girls Divi
 sion\nGame Type: Regular\nGame Status: Complete\nHome Team: Grand Niagara\
 nAway Team: Clarence Inferno GU17 Red\nHome Score: 0\nAway Score: 3
END:VEVENT
BEGIN:VEVENT
UID:16165689@ezleagues.ezfacility.com
DTSTAMP:20260424T044234Z
CREATED:20260424T044234Z
DTSTART:20250406T200000Z
DTEND:20250406T205000Z
LOCATION:Red Field
CONTACT:
SUMMARY:Grand Niagara VS. 2008G Amherst United - Red
DESCRIPTION:League Name: Winter B Soccer Session (2025) - U17/19 Girls Divi
 sion\nGame Type: Regular\nGame Status: Complete\nHome Team: Grand Niagara\
 nAway Team: 2008G Amherst United - Red\nHome Score: 1\nAway Score: 0
END:VEVENT
BEGIN:VEVENT
UID:16225473@ezleagues.ezfacility.com
DTSTAMP:20260424T044234Z
CREATED:20260424T044234Z
DTSTART:20250426T232500Z
DTEND:20250427T001500Z
LOCATION:Red Field
CONTACT:
SUMMARY:Grand Niagara VS. Kenmore Ambush
DESCRIPTION:League Name: Winter B Soccer Session (2025) - U17/19 Girls Divi
 sion\nGame Type: Postseason\nGame Status: Rescheduled\nHome Team: Grand Ni
 agara\nAway Team: Kenmore Ambush\n
END:VEVENT
BEGIN:VEVENT
UID:16398566@ezleagues.ezfacility.com
DTSTAMP:20260424T044234Z
CREATED:20260424T044234Z
DTSTART:20250426T232500Z
DTEND:20250427T001500Z
LOCATION:Red Field
CONTACT:
SUMMARY:Grand Niagara VS. Kenmore Ambush
DESCRIPTION:League Name: Winter B Soccer Session (2025) - U17/19 Girls Divi
 sion\nGame Type: Postseason\nGame Status: Complete\nHome Team: Grand Niaga
 ra\nAway Team: Kenmore Ambush\nHome Score: 3\nAway Score: 0
END:VEVENT
BEGIN:VEVENT
UID:16227479@ezleagues.ezfacility.com
DTSTAMP:20260424T044234Z
CREATED:20260424T044234Z
DTSTART:20250504T165500Z
DTEND:20250504T174500Z
LOCATION:Blue Field
CONTACT:
SUMMARY:2008G Amherst United - Red VS. Grand Niagara
DESCRIPTION:League Name: Winter B Soccer Session (2025) - U17/19 Girls Divi
 sion\nGame Type: Postseason\nGame Status: Cancelled\nHome Team: 2008G Amhe
 rst United - Red\nAway Team: Grand Niagara\n
END:VEVENT
END:VCALENDAR
