BEGIN:VCALENDAR
VERSION:2.0
PRODID:-//EZFacility.com, Inc.//EZL 2.5.5.28621
BEGIN:VEVENT
UID:16158198@ezleagues.ezfacility.com
DTSTAMP:20260426T034951Z
CREATED:20260426T034951Z
DTSTART:20250105T130000Z
DTEND:20250105T135000Z
LOCATION:Red Field
CONTACT:
SUMMARY:Clarence Red 2011 Fritz VS. Lancaster Bulldogs
DESCRIPTION:League Name: Winter B Soccer Session (2025) - U13/14 Girls Divi
 sion\nGame Type: Regular\nGame Status: Complete\nHome Team: Clarence Red 2
 011 Fritz\nAway Team: Lancaster Bulldogs\nHome Score: 4\nAway Score: 2
END:VEVENT
BEGIN:VEVENT
UID:16165232@ezleagues.ezfacility.com
DTSTAMP:20260426T034951Z
CREATED:20260426T034951Z
DTSTART:20250112T130000Z
DTEND:20250112T135000Z
LOCATION:Blue Field
CONTACT:
SUMMARY:DSC Courage VS. Clarence Red 2011 Fritz
DESCRIPTION:League Name: Winter B Soccer Session (2025) - U13/14 Girls Divi
 sion\nGame Type: Regular\nGame Status: Complete\nHome Team: DSC Courage\nA
 way Team: Clarence Red 2011 Fritz\nHome Score: 0\nAway Score: 0
END:VEVENT
BEGIN:VEVENT
UID:16165183@ezleagues.ezfacility.com
DTSTAMP:20260426T034951Z
CREATED:20260426T034951Z
DTSTART:20250119T120000Z
DTEND:20250119T125000Z
LOCATION:Blue Field
CONTACT:
SUMMARY:Clarence Red 2011 Fritz VS. Niagara United FC Spirit
DESCRIPTION:League Name: Winter B Soccer Session (2025) - U13/14 Girls Divi
 sion\nGame Type: Regular\nGame Status: Complete\nHome Team: Clarence Red 2
 011 Fritz\nAway Team: Niagara United FC Spirit\nHome Score: 0\nAway Score:
  0
END:VEVENT
BEGIN:VEVENT
UID:16165209@ezleagues.ezfacility.com
DTSTAMP:20260426T034951Z
CREATED:20260426T034951Z
DTSTART:20250202T185500Z
DTEND:20250202T194500Z
LOCATION:Blue Field
CONTACT:
SUMMARY:Clarence Red 2011 Fritz VS. Grand Island 2012G
DESCRIPTION:League Name: Winter B Soccer Session (2025) - U13/14 Girls Divi
 sion\nGame Type: Regular\nGame Status: Complete\nHome Team: Clarence Red 2
 011 Fritz\nAway Team: Grand Island 2012G\nHome Score: 3\nAway Score: 6
END:VEVENT
BEGIN:VEVENT
UID:16165243@ezleagues.ezfacility.com
DTSTAMP:20260426T034951Z
CREATED:20260426T034951Z
DTSTART:20250216T130000Z
DTEND:20250216T135000Z
LOCATION:Blue Field
CONTACT:
SUMMARY:Lockport Lightning VS. Clarence Red 2011 Fritz
DESCRIPTION:League Name: Winter B Soccer Session (2025) - U13/14 Girls Divi
 sion\nGame Type: Regular\nGame Status: Complete\nHome Team: Lockport Light
 ning\nAway Team: Clarence Red 2011 Fritz\nHome Score: 3\nAway Score: 2
END:VEVENT
BEGIN:VEVENT
UID:16165170@ezleagues.ezfacility.com
DTSTAMP:20260426T034951Z
CREATED:20260426T034951Z
DTSTART:20250302T120000Z
DTEND:20250302T125000Z
LOCATION:Blue Field
CONTACT:
SUMMARY:Clarence Red 2011 Fritz VS. Kenmore BlueBomBers 2012G
DESCRIPTION:League Name: Winter B Soccer Session (2025) - U13/14 Girls Divi
 sion\nGame Type: Regular\nGame Status: Complete\nHome Team: Clarence Red 2
 011 Fritz\nAway Team: Kenmore BlueBomBers 2012G\nHome Score: 0\nAway Score
 : 5
END:VEVENT
BEGIN:VEVENT
UID:16165221@ezleagues.ezfacility.com
DTSTAMP:20260426T034951Z
CREATED:20260426T034951Z
DTSTART:20250309T181000Z
DTEND:20250309T190000Z
LOCATION:Red Field
CONTACT:
SUMMARY:Amherst Storm - Sammon VS. Clarence Red 2011 Fritz
DESCRIPTION:League Name: Winter B Soccer Session (2025) - U13/14 Girls Divi
 sion\nGame Type: Regular\nGame Status: Complete\nHome Team: Amherst Storm 
 - Sammon\nAway Team: Clarence Red 2011 Fritz\nHome Score: 0\nAway Score: 1
END:VEVENT
BEGIN:VEVENT
UID:16165196@ezleagues.ezfacility.com
DTSTAMP:20260426T034951Z
CREATED:20260426T034951Z
DTSTART:20250323T181000Z
DTEND:20250323T190000Z
LOCATION:Red Field
CONTACT:
SUMMARY:Clarence Red 2011 Fritz VS. Niagara Pioneer Hurricanes
DESCRIPTION:League Name: Winter B Soccer Session (2025) - U13/14 Girls Divi
 sion\nGame Type: Regular\nGame Status: Complete\nHome Team: Clarence Red 2
 011 Fritz\nAway Team: Niagara Pioneer Hurricanes\nHome Score: 4\nAway Scor
 e: 5
END:VEVENT
BEGIN:VEVENT
UID:16165254@ezleagues.ezfacility.com
DTSTAMP:20260426T034951Z
CREATED:20260426T034951Z
DTSTART:20250330T181500Z
DTEND:20250330T190500Z
LOCATION:Red Field
CONTACT:
SUMMARY:NWAA Wolves 2012G - Terbot VS. Clarence Red 2011 Fritz
DESCRIPTION:League Name: Winter B Soccer Session (2025) - U13/14 Girls Divi
 sion\nGame Type: Regular\nGame Status: Complete\nHome Team: NWAA Wolves 20
 12G - Terbot\nAway Team: Clarence Red 2011 Fritz\nHome Score: 0\nAway Scor
 e: 10
END:VEVENT
BEGIN:VEVENT
UID:16165276@ezleagues.ezfacility.com
DTSTAMP:20260426T034951Z
CREATED:20260426T034951Z
DTSTART:20250406T161500Z
DTEND:20250406T170500Z
LOCATION:Blue Field
CONTACT:
SUMMARY:Clarence Red 2011 Fritz VS. Amherst Storm - Budin
DESCRIPTION:League Name: Winter B Soccer Session (2025) - U13/14 Girls Divi
 sion\nGame Type: Regular\nGame Status: Complete\nHome Team: Clarence Red 2
 011 Fritz\nAway Team: Amherst Storm - Budin\nHome Score: 4\nAway Score: 0
END:VEVENT
BEGIN:VEVENT
UID:16225442@ezleagues.ezfacility.com
DTSTAMP:20260426T034951Z
CREATED:20260426T034951Z
DTSTART:20250427T120000Z
DTEND:20250427T125000Z
LOCATION:Blue Field
CONTACT:
SUMMARY:Clarence Red 2011 Fritz VS. DSC Courage
DESCRIPTION:League Name: Winter B Soccer Session (2025) - U13/14 Girls Divi
 sion\nGame Type: Postseason\nGame Status: Complete\nHome Team: Clarence Re
 d 2011 Fritz\nAway Team: DSC Courage\nHome Score: 1\nAway Score: 2
END:VEVENT
BEGIN:VEVENT
UID:16225450@ezleagues.ezfacility.com
DTSTAMP:20260426T034951Z
CREATED:20260426T034951Z
DTSTART:20250504T130000Z
DTEND:20250504T135000Z
LOCATION:Blue Field
CONTACT:
SUMMARY:Buffalo United GU14 VS. Clarence Red 2011 Fritz
DESCRIPTION:League Name: Winter B Soccer Session (2025) - U13/14 Girls Divi
 sion\nGame Type: Postseason\nGame Status: Cancelled\nHome Team: Buffalo Un
 ited GU14\nAway Team: Clarence Red 2011 Fritz\n
END:VEVENT
END:VCALENDAR
