BEGIN:VCALENDAR
VERSION:2.0
PRODID:-//EZFacility.com, Inc.//EZL 2.5.5.28621
BEGIN:VEVENT
UID:16165214@ezleagues.ezfacility.com
DTSTAMP:20260426T035119Z
CREATED:20260426T035119Z
DTSTART:20250112T230500Z
DTEND:20250112T235500Z
LOCATION:Red Field
CONTACT:
SUMMARY:Amherst U19 VS. Niagara Pioneer Revolution A
DESCRIPTION:League Name: Winter B Soccer Session (2025) - U17/19 Boys Divis
 ion\nGame Type: Regular\nGame Status: Complete\nHome Team: Amherst U19\nAw
 ay Team: Niagara Pioneer Revolution A\nHome Score: 3\nAway Score: 0
END:VEVENT
BEGIN:VEVENT
UID:16165227@ezleagues.ezfacility.com
DTSTAMP:20260426T035119Z
CREATED:20260426T035119Z
DTSTART:20250120T014000Z
DTEND:20250120T023000Z
LOCATION:Red Field
CONTACT:
SUMMARY:Amherst U19 VS. Buffalo United U17
DESCRIPTION:League Name: Winter B Soccer Session (2025) - U17/19 Boys Divis
 ion\nGame Type: Regular\nGame Status: Rescheduled\nHome Team: Amherst U19\
 nAway Team: Buffalo United U17\n
END:VEVENT
BEGIN:VEVENT
UID:16165201@ezleagues.ezfacility.com
DTSTAMP:20260426T035119Z
CREATED:20260426T035119Z
DTSTART:20250127T020000Z
DTEND:20250127T025000Z
LOCATION:Blue Field
CONTACT:
SUMMARY:Amherst U19 VS. NWAA Wolves 2008B - Suitor
DESCRIPTION:League Name: Winter B Soccer Session (2025) - U17/19 Boys Divis
 ion\nGame Type: Regular\nGame Status: Rescheduled\nHome Team: Amherst U19\
 nAway Team: NWAA Wolves 2008B - Suitor\n
END:VEVENT
BEGIN:VEVENT
UID:16165250@ezleagues.ezfacility.com
DTSTAMP:20260426T035119Z
CREATED:20260426T035119Z
DTSTART:20250208T020500Z
DTEND:20250208T025500Z
LOCATION:Red Field
CONTACT:
SUMMARY:Lancaster Depew Knights VS. Amherst U19
DESCRIPTION:League Name: Winter B Soccer Session (2025) - U17/19 Boys Divis
 ion\nGame Type: Regular\nGame Status: Complete\nHome Team: Lancaster Depew
  Knights\nAway Team: Amherst U19\nHome Score: 2\nAway Score: 2
END:VEVENT
BEGIN:VEVENT
UID:16165175@ezleagues.ezfacility.com
DTSTAMP:20260426T035119Z
CREATED:20260426T035119Z
DTSTART:20250224T004500Z
DTEND:20250224T013500Z
LOCATION:Red Field
CONTACT:
SUMMARY:Amherst U19 VS. Grand Island Quack Pack
DESCRIPTION:League Name: Winter B Soccer Session (2025) - U17/19 Boys Divis
 ion\nGame Type: Regular\nGame Status: Complete\nHome Team: Amherst U19\nAw
 ay Team: Grand Island Quack Pack\nHome Score: 3\nAway Score: 3
END:VEVENT
BEGIN:VEVENT
UID:16165261@ezleagues.ezfacility.com
DTSTAMP:20260426T035119Z
CREATED:20260426T035119Z
DTSTART:20250301T020500Z
DTEND:20250301T025500Z
LOCATION:Blue Field
CONTACT:
SUMMARY:NWAA Wolves 2006B - Strangio VS. Amherst U19
DESCRIPTION:League Name: Winter B Soccer Session (2025) - U17/19 Boys Divis
 ion\nGame Type: Regular\nGame Status: Complete\nHome Team: NWAA Wolves 200
 6B - Strangio\nAway Team: Amherst U19\nHome Score: 3\nAway Score: 1
END:VEVENT
BEGIN:VEVENT
UID:16165188@ezleagues.ezfacility.com
DTSTAMP:20260426T035119Z
CREATED:20260426T035119Z
DTSTART:20250317T013500Z
DTEND:20250317T022500Z
LOCATION:Red Field
CONTACT:
SUMMARY:Amherst U19 VS. Niagara Pioneer Revolution B
DESCRIPTION:League Name: Winter B Soccer Session (2025) - U17/19 Boys Divis
 ion\nGame Type: Regular\nGame Status: Complete\nHome Team: Amherst U19\nAw
 ay Team: Niagara Pioneer Revolution B\nHome Score: 2\nAway Score: 3
END:VEVENT
BEGIN:VEVENT
UID:16190500@ezleagues.ezfacility.com
DTSTAMP:20260426T035119Z
CREATED:20260426T035119Z
DTSTART:20250323T010500Z
DTEND:20250323T015500Z
LOCATION:Red Field
CONTACT:
SUMMARY:Amherst U19 VS. Buffalo United U17
DESCRIPTION:League Name: Winter B Soccer Session (2025) - U17/19 Boys Divis
 ion\nGame Type: Regular\nGame Status: Complete\nHome Team: Amherst U19\nAw
 ay Team: Buffalo United U17\nHome Score: 5\nAway Score: 1
END:VEVENT
BEGIN:VEVENT
UID:16165239@ezleagues.ezfacility.com
DTSTAMP:20260426T035119Z
CREATED:20260426T035119Z
DTSTART:20250323T234500Z
DTEND:20250324T003500Z
LOCATION:Red Field
CONTACT:
SUMMARY:Buffalo United BU19 VS. Amherst U19
DESCRIPTION:League Name: Winter B Soccer Session (2025) - U17/19 Boys Divis
 ion\nGame Type: Regular\nGame Status: Complete\nHome Team: Buffalo United 
 BU19\nAway Team: Amherst U19\nHome Score: 3\nAway Score: 1
END:VEVENT
BEGIN:VEVENT
UID:16203584@ezleagues.ezfacility.com
DTSTAMP:20260426T035119Z
CREATED:20260426T035119Z
DTSTART:20250330T010500Z
DTEND:20250330T015500Z
LOCATION:Red Field
CONTACT:
SUMMARY:Amherst U19 VS. NWAA Wolves 2008B - Suitor
DESCRIPTION:League Name: Winter B Soccer Session (2025) - U17/19 Boys Divis
 ion\nGame Type: Regular\nGame Status: Complete\nHome Team: Amherst U19\nAw
 ay Team: NWAA Wolves 2008B - Suitor\nHome Score: 0\nAway Score: 3
END:VEVENT
BEGIN:VEVENT
UID:16165283@ezleagues.ezfacility.com
DTSTAMP:20260426T035119Z
CREATED:20260426T035119Z
DTSTART:20250331T010000Z
DTEND:20250331T015000Z
LOCATION:Blue Field
CONTACT:
SUMMARY:Kenmore Blue Devils VS. Amherst U19
DESCRIPTION:League Name: Winter B Soccer Session (2025) - U17/19 Boys Divis
 ion\nGame Type: Regular\nGame Status: Complete\nHome Team: Kenmore Blue De
 vils\nAway Team: Amherst U19\nHome Score: 0\nAway Score: 5
END:VEVENT
BEGIN:VEVENT
UID:16165272@ezleagues.ezfacility.com
DTSTAMP:20260426T035119Z
CREATED:20260426T035119Z
DTSTART:20250414T000500Z
DTEND:20250414T005500Z
LOCATION:Blue Field
CONTACT:
SUMMARY:Niagara United FC VS. Amherst U19
DESCRIPTION:League Name: Winter B Soccer Session (2025) - U17/19 Boys Divis
 ion\nGame Type: Regular\nGame Status: Complete\nHome Team: Niagara United 
 FC\nAway Team: Amherst U19\nHome Score: 0\nAway Score: 8
END:VEVENT
BEGIN:VEVENT
UID:16225518@ezleagues.ezfacility.com
DTSTAMP:20260426T035119Z
CREATED:20260426T035119Z
DTSTART:20250428T000000Z
DTEND:20250428T005000Z
LOCATION:Red Field
CONTACT:
SUMMARY:Niagara Pioneer Revolution A VS. Amherst U19
DESCRIPTION:League Name: Winter B Soccer Session (2025) - U17/19 Boys Divis
 ion\nGame Type: Postseason\nGame Status: Complete\nHome Team: Niagara Pion
 eer Revolution A\nAway Team: Amherst U19\nHome Score: 2\nAway Score: 9
END:VEVENT
BEGIN:VEVENT
UID:16225614@ezleagues.ezfacility.com
DTSTAMP:20260426T035119Z
CREATED:20260426T035119Z
DTSTART:20250505T010000Z
DTEND:20250505T015000Z
LOCATION:Red Field
CONTACT:
SUMMARY:Amherst U19 VS. Lancaster Depew Knights
DESCRIPTION:League Name: Winter B Soccer Session (2025) - U17/19 Boys Divis
 ion\nGame Type: Postseason\nGame Status: Rescheduled\nHome Team: Amherst U
 19\nAway Team: Lancaster Depew Knights\n
END:VEVENT
BEGIN:VEVENT
UID:16414916@ezleagues.ezfacility.com
DTSTAMP:20260426T035119Z
CREATED:20260426T035119Z
DTSTART:20250509T003000Z
DTEND:20250509T012000Z
LOCATION:Blue Field
CONTACT:
SUMMARY:Amherst U19 VS. Lancaster Depew Knights
DESCRIPTION:League Name: Winter B Soccer Session (2025) - U17/19 Boys Divis
 ion\nGame Type: Postseason\nGame Status: Complete\nHome Team: Amherst U19\
 nAway Team: Lancaster Depew Knights\nHome Score: 1\nAway Score: 4
END:VEVENT
END:VCALENDAR
