BEGIN:VCALENDAR
VERSION:2.0
PRODID:-//EZFacility.com, Inc.//EZL 2.5.5.28621
BEGIN:VEVENT
UID:16158263@ezleagues.ezfacility.com
DTSTAMP:20260423T154144Z
CREATED:20260423T154144Z
DTSTART:20250109T025500Z
DTEND:20250109T034500Z
LOCATION:Field 1
CONTACT:
SUMMARY:CTS VS. LCFC
DESCRIPTION:League Name: Session #1 - Men's Division 3\nGame Type: Regular\
 nGame Status: Complete\nHome Team: CTS\nAway Team: LCFC\nHome Score: 9\nAw
 ay Score: 6
END:VEVENT
BEGIN:VEVENT
UID:16158267@ezleagues.ezfacility.com
DTSTAMP:20260423T154144Z
CREATED:20260423T154144Z
DTSTART:20250116T043500Z
DTEND:20250116T052500Z
LOCATION:Field 2
CONTACT:Garcia 
SUMMARY:Chavinda VS. LCFC
DESCRIPTION:League Name: Session #1 - Men's Division 3\nGame Type: Regular\
 nGame Status: Complete\nHome Team: Chavinda\nAway Team: LCFC\nHome Score: 
 8\nAway Score: 8
END:VEVENT
BEGIN:VEVENT
UID:16158270@ezleagues.ezfacility.com
DTSTAMP:20260423T154144Z
CREATED:20260423T154144Z
DTSTART:20250123T020500Z
DTEND:20250123T025500Z
LOCATION:Field 1
CONTACT:Andrade
SUMMARY:Aztecas VS. LCFC
DESCRIPTION:League Name: Session #1 - Men's Division 3\nGame Type: Regular\
 nGame Status: Complete\nHome Team: Aztecas\nAway Team: LCFC\nHome Score: 9
 \nAway Score: 13
END:VEVENT
BEGIN:VEVENT
UID:16158277@ezleagues.ezfacility.com
DTSTAMP:20260423T154144Z
CREATED:20260423T154144Z
DTSTART:20250130T025500Z
DTEND:20250130T034500Z
LOCATION:Field 2
CONTACT:
SUMMARY:LCFC VS. Mac FC
DESCRIPTION:League Name: Session #1 - Men's Division 3\nGame Type: Regular\
 nGame Status: Complete\nHome Team: LCFC\nAway Team: Mac FC\nHome Score: 5\
 nAway Score: 7
END:VEVENT
BEGIN:VEVENT
UID:16158283@ezleagues.ezfacility.com
DTSTAMP:20260423T154144Z
CREATED:20260423T154144Z
DTSTART:20250206T043500Z
DTEND:20250206T052500Z
LOCATION:Field 1
CONTACT:Andrade
SUMMARY:LCFC VS. Gallos Blancos
DESCRIPTION:League Name: Session #1 - Men's Division 3\nGame Type: Regular\
 nGame Status: Complete\nHome Team: LCFC\nAway Team: Gallos Blancos\nHome S
 core: 14\nAway Score: 3
END:VEVENT
BEGIN:VEVENT
UID:16158289@ezleagues.ezfacility.com
DTSTAMP:20260423T154144Z
CREATED:20260423T154144Z
DTSTART:20250213T034500Z
DTEND:20250213T043500Z
LOCATION:Field 2
CONTACT:
SUMMARY:LCFC VS. Borrachos
DESCRIPTION:League Name: Session #1 - Men's Division 3\nGame Type: Regular\
 nGame Status: Complete\nHome Team: LCFC\nAway Team: Borrachos\nHome Score:
  7\nAway Score: 8
END:VEVENT
BEGIN:VEVENT
UID:16158292@ezleagues.ezfacility.com
DTSTAMP:20260423T154144Z
CREATED:20260423T154144Z
DTSTART:20250220T043500Z
DTEND:20250220T052500Z
LOCATION:Field 1
CONTACT:
SUMMARY:LCFC VS. Espana
DESCRIPTION:League Name: Session #1 - Men's Division 3\nGame Type: Regular\
 nGame Status: Complete\nHome Team: LCFC\nAway Team: Espana\nHome Score: 3\
 nAway Score: 0
END:VEVENT
BEGIN:VEVENT
UID:16158299@ezleagues.ezfacility.com
DTSTAMP:20260423T154144Z
CREATED:20260423T154144Z
DTSTART:20250227T052500Z
DTEND:20250227T061500Z
LOCATION:Field 2
CONTACT:
SUMMARY:Los Trakas VS. LCFC
DESCRIPTION:League Name: Session #1 - Men's Division 3\nGame Type: Regular\
 nGame Status: Complete\nHome Team: Los Trakas\nAway Team: LCFC\nHome Score
 : 5\nAway Score: 7
END:VEVENT
END:VCALENDAR
