BEGIN:VCALENDAR
VERSION:2.0
PRODID:-//EZFacility.com, Inc.//EZL 2.5.5.28621
BEGIN:VEVENT
UID:16162118@ezleagues.ezfacility.com
DTSTAMP:20260423T091209Z
CREATED:20260423T091209Z
DTSTART:20250108T040000Z
DTEND:20250108T050000Z
LOCATION:Field 4
CONTACT:
SUMMARY:MEM FC VS. Right Angle
DESCRIPTION:League Name: Adult League Red\nGame Type: Regular\nGame Status:
  Complete\nHome Team: MEM FC\nAway Team: Right Angle\nHome Score: 5\nAway 
 Score: 3
END:VEVENT
BEGIN:VEVENT
UID:16162122@ezleagues.ezfacility.com
DTSTAMP:20260423T091209Z
CREATED:20260423T091209Z
DTSTART:20250115T023000Z
DTEND:20250115T033000Z
LOCATION:Field 1
CONTACT:
SUMMARY:GRFC VS. Right Angle
DESCRIPTION:League Name: Adult League Red\nGame Type: Regular\nGame Status:
  Complete\nHome Team: GRFC\nAway Team: Right Angle\nHome Score: 7\nAway Sc
 ore: 2
END:VEVENT
BEGIN:VEVENT
UID:16162127@ezleagues.ezfacility.com
DTSTAMP:20260423T091209Z
CREATED:20260423T091209Z
DTSTART:20250122T023000Z
DTEND:20250122T033000Z
LOCATION:Field 3
CONTACT:
SUMMARY:Ridgewood United VS. Right Angle
DESCRIPTION:League Name: Adult League Red\nGame Type: Regular\nGame Status:
  Complete\nHome Team: Ridgewood United\nAway Team: Right Angle\nHome Score
 : 7\nAway Score: 3
END:VEVENT
BEGIN:VEVENT
UID:16162134@ezleagues.ezfacility.com
DTSTAMP:20260423T091209Z
CREATED:20260423T091209Z
DTSTART:20250129T020000Z
DTEND:20250129T030000Z
LOCATION:Field 4
CONTACT:
SUMMARY:Footy Squad VS. Right Angle
DESCRIPTION:League Name: Adult League Red\nGame Type: Regular\nGame Status:
  Complete\nHome Team: Footy Squad\nAway Team: Right Angle\nHome Score: 2\n
 Away Score: 2
END:VEVENT
BEGIN:VEVENT
UID:16162136@ezleagues.ezfacility.com
DTSTAMP:20260423T091209Z
CREATED:20260423T091209Z
DTSTART:20250205T023000Z
DTEND:20250205T033000Z
LOCATION:Field 2
CONTACT:
SUMMARY:The Sticks VS. Right Angle
DESCRIPTION:League Name: Adult League Red\nGame Type: Regular\nGame Status:
  Complete\nHome Team: The Sticks\nAway Team: Right Angle\nHome Score: 2\nA
 way Score: 3
END:VEVENT
BEGIN:VEVENT
UID:16162141@ezleagues.ezfacility.com
DTSTAMP:20260423T091209Z
CREATED:20260423T091209Z
DTSTART:20250212T020000Z
DTEND:20250212T030000Z
LOCATION:Field 4
CONTACT:
SUMMARY:Right Angle VS. Oakland Strikers
DESCRIPTION:League Name: Adult League Red\nGame Type: Regular\nGame Status:
  Complete\nHome Team: Right Angle\nAway Team: Oakland Strikers\nHome Score
 : 6\nAway Score: 1
END:VEVENT
BEGIN:VEVENT
UID:16162150@ezleagues.ezfacility.com
DTSTAMP:20260423T091209Z
CREATED:20260423T091209Z
DTSTART:20250219T023000Z
DTEND:20250219T033000Z
LOCATION:Field 3
CONTACT:
SUMMARY:Right Angle VS. The Sticks
DESCRIPTION:League Name: Adult League Red\nGame Type: Regular\nGame Status:
  Complete\nHome Team: Right Angle\nAway Team: The Sticks\nHome Score: 4\nA
 way Score: 4
END:VEVENT
BEGIN:VEVENT
UID:16162152@ezleagues.ezfacility.com
DTSTAMP:20260423T091209Z
CREATED:20260423T091209Z
DTSTART:20250226T033000Z
DTEND:20250226T043000Z
LOCATION:Field 2
CONTACT:
SUMMARY:Right Angle VS. Dynamo FC
DESCRIPTION:League Name: Adult League Red\nGame Type: Regular\nGame Status:
  Pending\nHome Team: Right Angle\nAway Team: Dynamo FC\n
END:VEVENT
END:VCALENDAR
