BEGIN:VCALENDAR
VERSION:2.0
PRODID:-//EZFacility.com, Inc.//EZL 2.5.5.28621
BEGIN:VEVENT
UID:16160053@ezleagues.ezfacility.com
DTSTAMP:20260426T033709Z
CREATED:20260426T033709Z
DTSTART:20250112T021500Z
DTEND:20250112T025800Z
LOCATION:Field 3A
CONTACT:
SUMMARY:u10 Fire Tigers VS. u10 Lyons FC
DESCRIPTION:League Name: Rec Soccer Winter II 2025 - u10 Div.\nGame Type: R
 egular\nGame Status: Complete\nHome Team: u10 Fire Tigers\nAway Team: u10 
 Lyons FC\nHome Score: 1\nAway Score: 4
END:VEVENT
BEGIN:VEVENT
UID:16160056@ezleagues.ezfacility.com
DTSTAMP:20260426T033709Z
CREATED:20260426T033709Z
DTSTART:20250119T004500Z
DTEND:20250119T012800Z
LOCATION:Field 3A
CONTACT:
SUMMARY:u10 Fire Tigers VS. u10 Galaxy Boys 2016
DESCRIPTION:League Name: Rec Soccer Winter II 2025 - u10 Div.\nGame Type: R
 egular\nGame Status: Complete\nHome Team: u10 Fire Tigers\nAway Team: u10 
 Galaxy Boys 2016\nHome Score: 0\nAway Score: 3
END:VEVENT
BEGIN:VEVENT
UID:16160062@ezleagues.ezfacility.com
DTSTAMP:20260426T033709Z
CREATED:20260426T033709Z
DTSTART:20250126T013000Z
DTEND:20250126T021300Z
LOCATION:Field 3A
CONTACT:
SUMMARY:u10 Fire Tigers VS. u10 Gryffindor F.C.
DESCRIPTION:League Name: Rec Soccer Winter II 2025 - u10 Div.\nGame Type: R
 egular\nGame Status: Complete\nHome Team: u10 Fire Tigers\nAway Team: u10 
 Gryffindor F.C.\nHome Score: 1\nAway Score: 4
END:VEVENT
BEGIN:VEVENT
UID:16160068@ezleagues.ezfacility.com
DTSTAMP:20260426T033709Z
CREATED:20260426T033709Z
DTSTART:20250202T000000Z
DTEND:20250202T004300Z
LOCATION:Field 3A
CONTACT:
SUMMARY:u10 Lisle CSL VS. u10 Fire Tigers
DESCRIPTION:League Name: Rec Soccer Winter II 2025 - u10 Div.\nGame Type: R
 egular\nGame Status: Complete\nHome Team: u10 Lisle CSL\nAway Team: u10 Fi
 re Tigers\nHome Score: 3\nAway Score: 6
END:VEVENT
BEGIN:VEVENT
UID:16160071@ezleagues.ezfacility.com
DTSTAMP:20260426T033709Z
CREATED:20260426T033709Z
DTSTART:20250209T000000Z
DTEND:20250209T004300Z
LOCATION:Field 3B
CONTACT:
SUMMARY:u10 Messi FC VS. u10 Fire Tigers
DESCRIPTION:League Name: Rec Soccer Winter II 2025 - u10 Div.\nGame Type: R
 egular\nGame Status: Complete\nHome Team: u10 Messi FC\nAway Team: u10 Fir
 e Tigers\nHome Score: 3\nAway Score: 0
END:VEVENT
BEGIN:VEVENT
UID:16160074@ezleagues.ezfacility.com
DTSTAMP:20260426T033709Z
CREATED:20260426T033709Z
DTSTART:20250215T223000Z
DTEND:20250215T231300Z
LOCATION:Field 3B
CONTACT:
SUMMARY:u10 Paris Saint-Germain F.C. VS. u10 Fire Tigers
DESCRIPTION:League Name: Rec Soccer Winter II 2025 - u10 Div.\nGame Type: R
 egular\nGame Status: Complete\nHome Team: u10 Paris Saint-Germain F.C.\nAw
 ay Team: u10 Fire Tigers\nHome Score: 5\nAway Score: 2
END:VEVENT
BEGIN:VEVENT
UID:16160079@ezleagues.ezfacility.com
DTSTAMP:20260426T033709Z
CREATED:20260426T033709Z
DTSTART:20250222T223000Z
DTEND:20250222T231300Z
LOCATION:Field 3B
CONTACT:
SUMMARY:u10 NY Inter Miami  VS. u10 Fire Tigers
DESCRIPTION:League Name: Rec Soccer Winter II 2025 - u10 Div.\nGame Type: R
 egular\nGame Status: Complete\nHome Team: u10 NY Inter Miami \nAway Team: 
 u10 Fire Tigers\nHome Score: 5\nAway Score: 2
END:VEVENT
BEGIN:VEVENT
UID:16160087@ezleagues.ezfacility.com
DTSTAMP:20260426T033709Z
CREATED:20260426T033709Z
DTSTART:20250302T000000Z
DTEND:20250302T004300Z
LOCATION:Field 3B
CONTACT:
SUMMARY:u10 NY Barcelona FC  VS. u10 Fire Tigers
DESCRIPTION:League Name: Rec Soccer Winter II 2025 - u10 Div.\nGame Type: R
 egular\nGame Status: Complete\nHome Team: u10 NY Barcelona FC \nAway Team:
  u10 Fire Tigers\nHome Score: 3\nAway Score: 3
END:VEVENT
BEGIN:VEVENT
UID:16160092@ezleagues.ezfacility.com
DTSTAMP:20260426T033709Z
CREATED:20260426T033709Z
DTSTART:20250309T000000Z
DTEND:20250309T004300Z
LOCATION:Field 3B
CONTACT:
SUMMARY:u10 Naperville Fire VS. u10 Fire Tigers
DESCRIPTION:League Name: Rec Soccer Winter II 2025 - u10 Div.\nGame Type: R
 egular\nGame Status: Complete\nHome Team: u10 Naperville Fire\nAway Team: 
 u10 Fire Tigers\nHome Score: 3\nAway Score: 0
END:VEVENT
BEGIN:VEVENT
UID:16160097@ezleagues.ezfacility.com
DTSTAMP:20260426T033709Z
CREATED:20260426T033709Z
DTSTART:20250315T221500Z
DTEND:20250315T225800Z
LOCATION:Field 3B
CONTACT:
SUMMARY:u10 Lyons FC VS. u10 Fire Tigers
DESCRIPTION:League Name: Rec Soccer Winter II 2025 - u10 Div.\nGame Type: R
 egular\nGame Status: Complete\nHome Team: u10 Lyons FC\nAway Team: u10 Fir
 e Tigers\nHome Score: 3\nAway Score: 0
END:VEVENT
BEGIN:VEVENT
UID:16160103@ezleagues.ezfacility.com
DTSTAMP:20260426T033709Z
CREATED:20260426T033709Z
DTSTART:20250323T011500Z
DTEND:20250323T015800Z
LOCATION:Field 3B
CONTACT:
SUMMARY:u10 Lisle CSL VS. u10 Fire Tigers
DESCRIPTION:League Name: Rec Soccer Winter II 2025 - u10 Div.\nGame Type: R
 egular\nGame Status: Complete\nHome Team: u10 Lisle CSL\nAway Team: u10 Fi
 re Tigers\nHome Score: 1\nAway Score: 2
END:VEVENT
END:VCALENDAR
