BEGIN:VCALENDAR
VERSION:2.0
PRODID:-//EZFacility.com, Inc.//EZL 2.5.5.28621
BEGIN:VEVENT
UID:16161408@ezleagues.ezfacility.com
DTSTAMP:20260426T033602Z
CREATED:20260426T033602Z
DTSTART:20250108T233000Z
DTEND:20250109T001500Z
LOCATION:Field 1
CONTACT:
SUMMARY:NOKC 2015 Girls Red VS. NOKC 2016 Girls Red
DESCRIPTION:League Name: Wednesday Academy (U9/U10) White - Winter II\nGame
  Type: Regular\nGame Status: Complete\nHome Team: NOKC 2015 Girls Red\nAwa
 y Team: NOKC 2016 Girls Red\nHome Score: 5\nAway Score: 1
END:VEVENT
BEGIN:VEVENT
UID:16161411@ezleagues.ezfacility.com
DTSTAMP:20260426T033602Z
CREATED:20260426T033602Z
DTSTART:20250116T010000Z
DTEND:20250116T014500Z
LOCATION:Field 1
CONTACT:
SUMMARY:ESC 2015 Girls White VS. NOKC 2016 Girls Red
DESCRIPTION:League Name: Wednesday Academy (U9/U10) White - Winter II\nGame
  Type: Regular\nGame Status: Complete\nHome Team: ESC 2015 Girls White\nAw
 ay Team: NOKC 2016 Girls Red\nHome Score: 7\nAway Score: 0
END:VEVENT
END:VCALENDAR
