BEGIN:VCALENDAR
VERSION:2.0
PRODID:-//EZFacility.com, Inc.//EZL 2.5.5.28621
BEGIN:VEVENT
UID:16165135@ezleagues.ezfacility.com
DTSTAMP:20260424T044112Z
CREATED:20260424T044112Z
DTSTART:20250111T065000Z
DTEND:20250111T074000Z
LOCATION:Game Field
CONTACT:Ruisenor
SUMMARY:Latin Lovers VS. Los Mineros
DESCRIPTION:League Name: Friday COED M35+/W30+ B\nGame Type: Regular\nGame 
 Status: Complete\nHome Team: Latin Lovers\nAway Team: Los Mineros\nHome Sc
 ore: 6\nAway Score: 4
END:VEVENT
BEGIN:VEVENT
UID:16165139@ezleagues.ezfacility.com
DTSTAMP:20260424T044112Z
CREATED:20260424T044112Z
DTSTART:20250118T051000Z
DTEND:20250118T060000Z
LOCATION:Game Field
CONTACT:Ruisenor
SUMMARY:Latin Lovers VS. Still Kickin
DESCRIPTION:League Name: Friday COED M35+/W30+ B\nGame Type: Regular\nGame 
 Status: Complete\nHome Team: Latin Lovers\nAway Team: Still Kickin\nHome S
 core: 10\nAway Score: 3
END:VEVENT
BEGIN:VEVENT
UID:16165143@ezleagues.ezfacility.com
DTSTAMP:20260424T044112Z
CREATED:20260424T044112Z
DTSTART:20250125T060000Z
DTEND:20250125T065000Z
LOCATION:Game Field
CONTACT:Ruisenor
SUMMARY:Latin Lovers VS. Aztecas
DESCRIPTION:League Name: Friday COED M35+/W30+ B\nGame Type: Regular\nGame 
 Status: Complete\nHome Team: Latin Lovers\nAway Team: Aztecas\nHome Score:
  6\nAway Score: 2
END:VEVENT
BEGIN:VEVENT
UID:16165147@ezleagues.ezfacility.com
DTSTAMP:20260424T044112Z
CREATED:20260424T044112Z
DTSTART:20250201T051000Z
DTEND:20250201T060000Z
LOCATION:Game Field
CONTACT:Ruisenor
SUMMARY:Latin Lovers VS. La Familia
DESCRIPTION:League Name: Friday COED M35+/W30+ B\nGame Type: Regular\nGame 
 Status: Complete\nHome Team: Latin Lovers\nAway Team: La Familia\nHome Sco
 re: 10\nAway Score: 1
END:VEVENT
BEGIN:VEVENT
UID:16165151@ezleagues.ezfacility.com
DTSTAMP:20260424T044112Z
CREATED:20260424T044112Z
DTSTART:20250208T024000Z
DTEND:20250208T033000Z
LOCATION:Game Field
CONTACT:Le
SUMMARY:Warriorz VS. Latin Lovers
DESCRIPTION:League Name: Friday COED M35+/W30+ B\nGame Type: Regular\nGame 
 Status: Complete\nHome Team: Warriorz\nAway Team: Latin Lovers\nHome Score
 : 0\nAway Score: 5
END:VEVENT
BEGIN:VEVENT
UID:16165155@ezleagues.ezfacility.com
DTSTAMP:20260424T044112Z
CREATED:20260424T044112Z
DTSTART:20250215T015000Z
DTEND:20250215T024000Z
LOCATION:Game Field
CONTACT:Le
SUMMARY:Happy Hour VS. Latin Lovers
DESCRIPTION:League Name: Friday COED M35+/W30+ B\nGame Type: Regular\nGame 
 Status: Complete\nHome Team: Happy Hour\nAway Team: Latin Lovers\nHome Sco
 re: 3\nAway Score: 7
END:VEVENT
BEGIN:VEVENT
UID:16165162@ezleagues.ezfacility.com
DTSTAMP:20260424T044112Z
CREATED:20260424T044112Z
DTSTART:20250222T033000Z
DTEND:20250222T042000Z
LOCATION:Game Field
CONTACT:Le\, Ruisenor
SUMMARY:Latin Lovers VS. La Familia
DESCRIPTION:League Name: Friday COED M35+/W30+ B\nGame Type: Regular\nGame 
 Status: Complete\nHome Team: Latin Lovers\nAway Team: La Familia\nHome Sco
 re: 5\nAway Score: 2
END:VEVENT
BEGIN:VEVENT
UID:16165166@ezleagues.ezfacility.com
DTSTAMP:20260424T044112Z
CREATED:20260424T044112Z
DTSTART:20250301T051000Z
DTEND:20250301T060000Z
LOCATION:Game Field
CONTACT:Le\, Ruisenor
SUMMARY:Aztecas VS. Latin Lovers
DESCRIPTION:League Name: Friday COED M35+/W30+ B\nGame Type: Regular\nGame 
 Status: Complete\nHome Team: Aztecas\nAway Team: Latin Lovers\nHome Score:
  6\nAway Score: 4
END:VEVENT
END:VCALENDAR
