BEGIN:VCALENDAR
VERSION:2.0
PRODID:-//EZFacility.com, Inc.//EZL 2.5.5.28621
BEGIN:VEVENT
UID:16167722@ezleagues.ezfacility.com
DTSTAMP:20260420T142359Z
CREATED:20260420T142359Z
DTSTART:20250116T233000Z
DTEND:20250117T002000Z
LOCATION:Field 1 South
CONTACT:
SUMMARY:NOKC 2018 Boys Red VS. 405 2018 Boys
DESCRIPTION:League Name: Thursday Academy (4v4) RED - Winter II\nGame Type:
  Regular\nGame Status: Pending\nHome Team: NOKC 2018 Boys Red\nAway Team: 
 405 2018 Boys\n
END:VEVENT
BEGIN:VEVENT
UID:16167730@ezleagues.ezfacility.com
DTSTAMP:20260420T142359Z
CREATED:20260420T142359Z
DTSTART:20250131T001500Z
DTEND:20250131T010500Z
LOCATION:Field 1 North
CONTACT:
SUMMARY:ESC 2018 Boys White VS. NOKC 2018 Boys Red
DESCRIPTION:League Name: Thursday Academy (4v4) RED - Winter II\nGame Type:
  Regular\nGame Status: Complete\nHome Team: ESC 2018 Boys White\nAway Team
 : NOKC 2018 Boys Red\nHome Score: 7\nAway Score: 5
END:VEVENT
BEGIN:VEVENT
UID:16167734@ezleagues.ezfacility.com
DTSTAMP:20260420T142359Z
CREATED:20260420T142359Z
DTSTART:20250206T233000Z
DTEND:20250207T002000Z
LOCATION:Field 1 South
CONTACT:
SUMMARY:NOKC 2018 Boys Red VS. ESC 2017 Boys Black
DESCRIPTION:League Name: Thursday Academy (4v4) RED - Winter II\nGame Type:
  Regular\nGame Status: Complete\nHome Team: NOKC 2018 Boys Red\nAway Team:
  ESC 2017 Boys Black\nHome Score: 9\nAway Score: 8
END:VEVENT
BEGIN:VEVENT
UID:16167738@ezleagues.ezfacility.com
DTSTAMP:20260420T142359Z
CREATED:20260420T142359Z
DTSTART:20250213T233000Z
DTEND:20250214T001500Z
LOCATION:Field 1 South
CONTACT:
SUMMARY:NOKC 2018 Boys Red VS. ESC 2018 Boys Gold
DESCRIPTION:League Name: Thursday Academy (4v4) RED - Winter II\nGame Type:
  Regular\nGame Status: Complete\nHome Team: NOKC 2018 Boys Red\nAway Team:
  ESC 2018 Boys Gold\nHome Score: 10\nAway Score: 10
END:VEVENT
BEGIN:VEVENT
UID:16167719@ezleagues.ezfacility.com
DTSTAMP:20260420T142359Z
CREATED:20260420T142359Z
DTSTART:20250220T233000Z
DTEND:20250221T002000Z
LOCATION:Field 1 North
CONTACT:
SUMMARY:NOKC 2018 Boys Red VS. NOKC 2017 Boys Blue
DESCRIPTION:League Name: Thursday Academy (4v4) RED - Winter II\nGame Type:
  Regular\nGame Status: Complete\nHome Team: NOKC 2018 Boys Red\nAway Team:
  NOKC 2017 Boys Blue\nHome Score: 4\nAway Score: 10
END:VEVENT
BEGIN:VEVENT
UID:16187645@ezleagues.ezfacility.com
DTSTAMP:20260420T142359Z
CREATED:20260420T142359Z
DTSTART:20250227T233000Z
DTEND:20250228T001500Z
LOCATION:Field 1 North
CONTACT:
SUMMARY:NOKC 2018 Boys Red VS. 405 2018 Boys Green
DESCRIPTION:League Name: Thursday Academy (4v4) RED - Winter II\nGame Type:
  Regular\nGame Status: Complete\nHome Team: NOKC 2018 Boys Red\nAway Team:
  405 2018 Boys Green\nHome Score: 3\nAway Score: 10
END:VEVENT
END:VCALENDAR
