BEGIN:VCALENDAR
VERSION:2.0
PRODID:-//EZFacility.com, Inc.//EZL 2.5.5.28621
BEGIN:VEVENT
UID:16161614@ezleagues.ezfacility.com
DTSTAMP:20260419T234632Z
CREATED:20260419T234632Z
DTSTART:20250118T190000Z
DTEND:20250118T194000Z
LOCATION:Turf Field 1
CONTACT:
SUMMARY:Madisonville VS. Spirit Storm
DESCRIPTION:League Name: 2025 Winter 2 Turf Side\nGame Type: Regular\nGame 
 Status: Pending\nHome Team: Madisonville\nAway Team: Spirit Storm\n
END:VEVENT
BEGIN:VEVENT
UID:16161606@ezleagues.ezfacility.com
DTSTAMP:20260419T234632Z
CREATED:20260419T234632Z
DTSTART:20250125T190000Z
DTEND:20250125T194000Z
LOCATION:Turf Field 2
CONTACT:
SUMMARY:Madisonville VS. Pocket City Juniors
DESCRIPTION:League Name: 2025 Winter 2 Turf Side\nGame Type: Regular\nGame 
 Status: Pending\nHome Team: Madisonville\nAway Team: Pocket City Juniors\n
END:VEVENT
BEGIN:VEVENT
UID:16161620@ezleagues.ezfacility.com
DTSTAMP:20260419T234632Z
CREATED:20260419T234632Z
DTSTART:20250201T190000Z
DTEND:20250201T194000Z
LOCATION:Turf Field 1
CONTACT:
SUMMARY:Madisonville VS. MV Brothers
DESCRIPTION:League Name: 2025 Winter 2 Turf Side\nGame Type: Regular\nGame 
 Status: Pending\nHome Team: Madisonville\nAway Team: MV Brothers\n
END:VEVENT
BEGIN:VEVENT
UID:16161647@ezleagues.ezfacility.com
DTSTAMP:20260419T234632Z
CREATED:20260419T234632Z
DTSTART:20250208T180000Z
DTEND:20250208T184000Z
LOCATION:Turf Field 2
CONTACT:
SUMMARY:Madisonville VS. Tigers
DESCRIPTION:League Name: 2025 Winter 2 Turf Side\nGame Type: Regular\nGame 
 Status: Pending\nHome Team: Madisonville\nAway Team: Tigers\n
END:VEVENT
BEGIN:VEVENT
UID:16161673@ezleagues.ezfacility.com
DTSTAMP:20260419T234632Z
CREATED:20260419T234632Z
DTSTART:20250215T190000Z
DTEND:20250215T194000Z
LOCATION:Turf Field 2
CONTACT:
SUMMARY:Chelsea VS. Madisonville
DESCRIPTION:League Name: 2025 Winter 2 Turf Side\nGame Type: Regular\nGame 
 Status: Pending\nHome Team: Chelsea\nAway Team: Madisonville\n
END:VEVENT
BEGIN:VEVENT
UID:16161687@ezleagues.ezfacility.com
DTSTAMP:20260419T234632Z
CREATED:20260419T234632Z
DTSTART:20250222T180000Z
DTEND:20250222T184000Z
LOCATION:Turf Field 2
CONTACT:
SUMMARY:Pocket City Juniors VS. Madisonville
DESCRIPTION:League Name: 2025 Winter 2 Turf Side\nGame Type: Regular\nGame 
 Status: Pending\nHome Team: Pocket City Juniors\nAway Team: Madisonville\n
END:VEVENT
END:VCALENDAR
