BEGIN:VCALENDAR
VERSION:2.0
PRODID:-//EZFacility.com, Inc.//EZL 2.5.5.28621
BEGIN:VEVENT
UID:16161613@ezleagues.ezfacility.com
DTSTAMP:20260421T025717Z
CREATED:20260421T025717Z
DTSTART:20250118T180000Z
DTEND:20250118T184000Z
LOCATION:Turf Field 1
CONTACT:
SUMMARY:Swisa Chace VS. Pocket City Juniors
DESCRIPTION:League Name: 2025 Winter 2 Turf Side\nGame Type: Regular\nGame 
 Status: Pending\nHome Team: Swisa Chace\nAway Team: Pocket City Juniors\n
END:VEVENT
BEGIN:VEVENT
UID:16161603@ezleagues.ezfacility.com
DTSTAMP:20260421T025717Z
CREATED:20260421T025717Z
DTSTART:20250125T180000Z
DTEND:20250125T184000Z
LOCATION:Turf Field 1
CONTACT:
SUMMARY:Swisa Chace VS. Tigers
DESCRIPTION:League Name: 2025 Winter 2 Turf Side\nGame Type: Regular\nGame 
 Status: Pending\nHome Team: Swisa Chace\nAway Team: Tigers\n
END:VEVENT
BEGIN:VEVENT
UID:16161643@ezleagues.ezfacility.com
DTSTAMP:20260421T025717Z
CREATED:20260421T025717Z
DTSTART:20250201T170000Z
DTEND:20250201T174000Z
LOCATION:Turf Field 2
CONTACT:
SUMMARY:Swisa Chace VS. Rizzly Bears
DESCRIPTION:League Name: 2025 Winter 2 Turf Side\nGame Type: Regular\nGame 
 Status: Pending\nHome Team: Swisa Chace\nAway Team: Rizzly Bears\n
END:VEVENT
BEGIN:VEVENT
UID:16161646@ezleagues.ezfacility.com
DTSTAMP:20260421T025717Z
CREATED:20260421T025717Z
DTSTART:20250208T170000Z
DTEND:20250208T174000Z
LOCATION:Turf Field 2
CONTACT:
SUMMARY:SPURS VS. Swisa Chace
DESCRIPTION:League Name: 2025 Winter 2 Turf Side\nGame Type: Regular\nGame 
 Status: Pending\nHome Team: SPURS\nAway Team: Swisa Chace\n
END:VEVENT
BEGIN:VEVENT
UID:16161666@ezleagues.ezfacility.com
DTSTAMP:20260421T025717Z
CREATED:20260421T025717Z
DTSTART:20250215T180000Z
DTEND:20250215T184000Z
LOCATION:Turf Field 1
CONTACT:
SUMMARY:Swisa Chace VS. No Boys Allowed
DESCRIPTION:League Name: 2025 Winter 2 Turf Side\nGame Type: Regular\nGame 
 Status: Pending\nHome Team: Swisa Chace\nAway Team: No Boys Allowed\n
END:VEVENT
BEGIN:VEVENT
UID:16161700@ezleagues.ezfacility.com
DTSTAMP:20260421T025717Z
CREATED:20260421T025717Z
DTSTART:20250222T180000Z
DTEND:20250222T184000Z
LOCATION:Turf Field 1
CONTACT:
SUMMARY:Rizzly Bears VS. Swisa Chace
DESCRIPTION:League Name: 2025 Winter 2 Turf Side\nGame Type: Regular\nGame 
 Status: Pending\nHome Team: Rizzly Bears\nAway Team: Swisa Chace\n
END:VEVENT
END:VCALENDAR
