BEGIN:VCALENDAR
VERSION:2.0
PRODID:-//EZFacility.com, Inc.//EZL 2.5.5.28621
BEGIN:VEVENT
UID:16175008@ezleagues.ezfacility.com
DTSTAMP:20260426T035013Z
CREATED:20260426T035013Z
DTSTART:20250110T020500Z
DTEND:20250110T025500Z
LOCATION:Field 1
CONTACT:Enrique 
SUMMARY:Fuerza Ebria VS. Los Parceros
DESCRIPTION:League Name: Session #1 - Men's Divsion 6A\nGame Type: Regular\
 nGame Status: Complete\nHome Team: Fuerza Ebria\nAway Team: Los Parceros\n
 Home Score: 2\nAway Score: 12
END:VEVENT
BEGIN:VEVENT
UID:16175010@ezleagues.ezfacility.com
DTSTAMP:20260426T035013Z
CREATED:20260426T035013Z
DTSTART:20250117T043500Z
DTEND:20250117T052500Z
LOCATION:Field 2
CONTACT:Enrique 
SUMMARY:Cachorros FC VS. Los Parceros
DESCRIPTION:League Name: Session #1 - Men's Divsion 6A\nGame Type: Regular\
 nGame Status: Complete\nHome Team: Cachorros FC\nAway Team: Los Parceros\n
 Home Score: 7\nAway Score: 4
END:VEVENT
BEGIN:VEVENT
UID:16175018@ezleagues.ezfacility.com
DTSTAMP:20260426T035013Z
CREATED:20260426T035013Z
DTSTART:20250124T020500Z
DTEND:20250124T025500Z
LOCATION:Field 1
CONTACT:
SUMMARY:Los Parceros VS. Aguilas FC
DESCRIPTION:League Name: Session #1 - Men's Divsion 6A\nGame Type: Regular\
 nGame Status: Complete\nHome Team: Los Parceros\nAway Team: Aguilas FC\nHo
 me Score: 0\nAway Score: 3
END:VEVENT
BEGIN:VEVENT
UID:16175023@ezleagues.ezfacility.com
DTSTAMP:20260426T035013Z
CREATED:20260426T035013Z
DTSTART:20250131T025500Z
DTEND:20250131T034500Z
LOCATION:Field 2
CONTACT:Enrique 
SUMMARY:Los Parceros VS. Straw Hats Pirates
DESCRIPTION:League Name: Session #1 - Men's Divsion 6A\nGame Type: Regular\
 nGame Status: Complete\nHome Team: Los Parceros\nAway Team: Straw Hats Pir
 ates\nHome Score: 9\nAway Score: 5
END:VEVENT
BEGIN:VEVENT
UID:16175029@ezleagues.ezfacility.com
DTSTAMP:20260426T035013Z
CREATED:20260426T035013Z
DTSTART:20250207T025500Z
DTEND:20250207T034500Z
LOCATION:Field 1
CONTACT:
SUMMARY:Los Parceros VS. Los Crudos
DESCRIPTION:League Name: Session #1 - Men's Divsion 6A\nGame Type: Regular\
 nGame Status: Complete\nHome Team: Los Parceros\nAway Team: Los Crudos\nHo
 me Score: 4\nAway Score: 6
END:VEVENT
BEGIN:VEVENT
UID:16175032@ezleagues.ezfacility.com
DTSTAMP:20260426T035013Z
CREATED:20260426T035013Z
DTSTART:20250214T052500Z
DTEND:20250214T061500Z
LOCATION:Field 2
CONTACT:
SUMMARY:Los Parceros VS. La Tribu
DESCRIPTION:League Name: Session #1 - Men's Divsion 6A\nGame Type: Regular\
 nGame Status: Complete\nHome Team: Los Parceros\nAway Team: La Tribu\nHome
  Score: 9\nAway Score: 5
END:VEVENT
BEGIN:VEVENT
UID:16175039@ezleagues.ezfacility.com
DTSTAMP:20260426T035013Z
CREATED:20260426T035013Z
DTSTART:20250221T020500Z
DTEND:20250221T025500Z
LOCATION:Field 1
CONTACT:Uriel 
SUMMARY:Potros VS. Los Parceros
DESCRIPTION:League Name: Session #1 - Men's Divsion 6A\nGame Type: Regular\
 nGame Status: Complete\nHome Team: Potros\nAway Team: Los Parceros\nHome S
 core: 5\nAway Score: 2
END:VEVENT
BEGIN:VEVENT
UID:16175043@ezleagues.ezfacility.com
DTSTAMP:20260426T035013Z
CREATED:20260426T035013Z
DTSTART:20250228T034500Z
DTEND:20250228T043500Z
LOCATION:Field 1
CONTACT:Andrade
SUMMARY:MX FC VS. Los Parceros
DESCRIPTION:League Name: Session #1 - Men's Divsion 6A\nGame Type: Regular\
 nGame Status: Complete\nHome Team: MX FC\nAway Team: Los Parceros\nHome Sc
 ore: 0\nAway Score: 3
END:VEVENT
END:VCALENDAR
