BEGIN:VCALENDAR
VERSION:2.0
PRODID:-//EZFacility.com, Inc.//EZL 2.5.5.28621
BEGIN:VEVENT
UID:16164217@ezleagues.ezfacility.com
DTSTAMP:20260426T034044Z
CREATED:20260426T034044Z
DTSTART:20250112T003500Z
DTEND:20250112T012500Z
LOCATION:Blue Field
CONTACT:
SUMMARY:NWAA Wolves 2011B - Hanes VS. LFC
DESCRIPTION:League Name: Winter B Soccer Session (2025) - U13/14 Boys "Blue
 " Division\nGame Type: Regular\nGame Status: Complete\nHome Team: NWAA Wol
 ves 2011B - Hanes\nAway Team: LFC\nHome Score: 1\nAway Score: 9
END:VEVENT
BEGIN:VEVENT
UID:16164229@ezleagues.ezfacility.com
DTSTAMP:20260426T034044Z
CREATED:20260426T034044Z
DTSTART:20250118T135500Z
DTEND:20250118T144500Z
LOCATION:Blue Field
CONTACT:
SUMMARY:Lockport Thunder VS. LFC
DESCRIPTION:League Name: Winter B Soccer Session (2025) - U13/14 Boys "Blue
 " Division\nGame Type: Regular\nGame Status: Complete\nHome Team: Lockport
  Thunder\nAway Team: LFC\nHome Score: 1\nAway Score: 9
END:VEVENT
BEGIN:VEVENT
UID:16164240@ezleagues.ezfacility.com
DTSTAMP:20260426T034044Z
CREATED:20260426T034044Z
DTSTART:20250125T222000Z
DTEND:20250125T231000Z
LOCATION:Red Field
CONTACT:
SUMMARY:LFC VS. Kenmore Invaders
DESCRIPTION:League Name: Winter B Soccer Session (2025) - U13/14 Boys "Blue
 " Division\nGame Type: Regular\nGame Status: Complete\nHome Team: LFC\nAwa
 y Team: Kenmore Invaders\nHome Score: 8\nAway Score: 0
END:VEVENT
BEGIN:VEVENT
UID:16164232@ezleagues.ezfacility.com
DTSTAMP:20260426T034044Z
CREATED:20260426T034044Z
DTSTART:20250208T224500Z
DTEND:20250208T233500Z
LOCATION:Blue Field
CONTACT:
SUMMARY:OP GUNNERS 2012 VS. LFC
DESCRIPTION:League Name: Winter B Soccer Session (2025) - U13/14 Boys "Blue
 " Division\nGame Type: Regular\nGame Status: Complete\nHome Team: OP GUNNE
 RS 2012\nAway Team: LFC\nHome Score: 0\nAway Score: 6
END:VEVENT
BEGIN:VEVENT
UID:16164235@ezleagues.ezfacility.com
DTSTAMP:20260426T034044Z
CREATED:20260426T034044Z
DTSTART:20250216T003500Z
DTEND:20250216T012500Z
LOCATION:Blue Field
CONTACT:
SUMMARY:LFC VS. Kenmore Bulldogs 2012
DESCRIPTION:League Name: Winter B Soccer Session (2025) - U13/14 Boys "Blue
 " Division\nGame Type: Regular\nGame Status: Complete\nHome Team: LFC\nAwa
 y Team: Kenmore Bulldogs 2012\nHome Score: 8\nAway Score: 1
END:VEVENT
BEGIN:VEVENT
UID:16164222@ezleagues.ezfacility.com
DTSTAMP:20260426T034044Z
CREATED:20260426T034044Z
DTSTART:20250222T120000Z
DTEND:20250222T125000Z
LOCATION:Red Field
CONTACT:
SUMMARY:Niagara United FC Panthers VS. LFC
DESCRIPTION:League Name: Winter B Soccer Session (2025) - U13/14 Boys "Blue
 " Division\nGame Type: Regular\nGame Status: Complete\nHome Team: Niagara 
 United FC Panthers\nAway Team: LFC\nHome Score: 1\nAway Score: 7
END:VEVENT
BEGIN:VEVENT
UID:16164226@ezleagues.ezfacility.com
DTSTAMP:20260426T034044Z
CREATED:20260426T034044Z
DTSTART:20250308T234000Z
DTEND:20250309T003000Z
LOCATION:Blue Field
CONTACT:
SUMMARY:LFC VS. Kenmore Elite 2011
DESCRIPTION:League Name: Winter B Soccer Session (2025) - U13/14 Boys "Blue
 " Division\nGame Type: Regular\nGame Status: Complete\nHome Team: LFC\nAwa
 y Team: Kenmore Elite 2011\nHome Score: 1\nAway Score: 4
END:VEVENT
BEGIN:VEVENT
UID:16164250@ezleagues.ezfacility.com
DTSTAMP:20260426T034044Z
CREATED:20260426T034044Z
DTSTART:20250315T233500Z
DTEND:20250316T002500Z
LOCATION:Blue Field
CONTACT:
SUMMARY:LFC VS. Niagara United FC Panthers
DESCRIPTION:League Name: Winter B Soccer Session (2025) - U13/14 Boys "Blue
 " Division\nGame Type: Regular\nGame Status: Complete\nHome Team: LFC\nAwa
 y Team: Niagara United FC Panthers\nHome Score: 5\nAway Score: 2
END:VEVENT
BEGIN:VEVENT
UID:16164245@ezleagues.ezfacility.com
DTSTAMP:20260426T034044Z
CREATED:20260426T034044Z
DTSTART:20250322T233500Z
DTEND:20250323T002500Z
LOCATION:Blue Field
CONTACT:
SUMMARY:LFC VS. NWAA Wolves 2011B - Hanes
DESCRIPTION:League Name: Winter B Soccer Session (2025) - U13/14 Boys "Blue
 " Division\nGame Type: Regular\nGame Status: Complete\nHome Team: LFC\nAwa
 y Team: NWAA Wolves 2011B - Hanes\nHome Score: 11\nAway Score: 1
END:VEVENT
BEGIN:VEVENT
UID:16164254@ezleagues.ezfacility.com
DTSTAMP:20260426T034044Z
CREATED:20260426T034044Z
DTSTART:20250405T231500Z
DTEND:20250406T000500Z
LOCATION:Red Field
CONTACT:
SUMMARY:Kenmore Elite 2011 VS. LFC
DESCRIPTION:League Name: Winter B Soccer Session (2025) - U13/14 Boys "Blue
 " Division\nGame Type: Regular\nGame Status: Rescheduled\nHome Team: Kenmo
 re Elite 2011\nAway Team: LFC\n
END:VEVENT
BEGIN:VEVENT
UID:16347941@ezleagues.ezfacility.com
DTSTAMP:20260426T034044Z
CREATED:20260426T034044Z
DTSTART:20250409T224000Z
DTEND:20250409T233000Z
LOCATION:Red Field
CONTACT:
SUMMARY:Kenmore Elite 2011 VS. LFC
DESCRIPTION:League Name: Winter B Soccer Session (2025) - U13/14 Boys "Blue
 " Division\nGame Type: Regular\nGame Status: Complete\nHome Team: Kenmore 
 Elite 2011\nAway Team: LFC\nHome Score: 2\nAway Score: 7
END:VEVENT
BEGIN:VEVENT
UID:16225694@ezleagues.ezfacility.com
DTSTAMP:20260426T034044Z
CREATED:20260426T034044Z
DTSTART:20250426T213000Z
DTEND:20250426T222000Z
LOCATION:Red Field
CONTACT:
SUMMARY:LFC VS. Kenmore Bulldogs 2012
DESCRIPTION:League Name: Winter B Soccer Session (2025) - U13/14 Boys "Blue
 " Division\nGame Type: Postseason\nGame Status: Rescheduled\nHome Team: LF
 C\nAway Team: Kenmore Bulldogs 2012\n
END:VEVENT
BEGIN:VEVENT
UID:16381338@ezleagues.ezfacility.com
DTSTAMP:20260426T034044Z
CREATED:20260426T034044Z
DTSTART:20250430T213000Z
DTEND:20250430T222000Z
LOCATION:Blue Field
CONTACT:
SUMMARY:LFC VS. Kenmore Bulldogs 2012
DESCRIPTION:League Name: Winter B Soccer Session (2025) - U13/14 Boys "Blue
 " Division\nGame Type: Postseason\nGame Status: Complete\nHome Team: LFC\n
 Away Team: Kenmore Bulldogs 2012\nHome Score: 1\nAway Score: 3
END:VEVENT
BEGIN:VEVENT
UID:16225704@ezleagues.ezfacility.com
DTSTAMP:20260426T034044Z
CREATED:20260426T034044Z
DTSTART:20250503T223000Z
DTEND:20250503T232000Z
LOCATION:Red Field
CONTACT:
SUMMARY:LFC VS. Kenmore Invaders
DESCRIPTION:League Name: Winter B Soccer Session (2025) - U13/14 Boys "Blue
 " Division\nGame Type: Postseason\nGame Status: Cancelled\nHome Team: LFC\
 nAway Team: Kenmore Invaders\n
END:VEVENT
END:VCALENDAR
