BEGIN:VCALENDAR
VERSION:2.0
PRODID:-//EZFacility.com, Inc.//EZL 2.5.5.28621
BEGIN:VEVENT
UID:16165921@ezleagues.ezfacility.com
DTSTAMP:20260424T043916Z
CREATED:20260424T043916Z
DTSTART:20250109T043000Z
DTEND:20250109T052000Z
LOCATION:Field 2
CONTACT:
SUMMARY:The A Team VS. Maradona's Nostrils FC
DESCRIPTION:League Name: Adult Soccer Session 4-A League\nGame Type: Regula
 r\nGame Status: Complete\nHome Team: The A Team\nAway Team: Maradona's Nos
 trils FC\nHome Score: 12\nAway Score: 7
END:VEVENT
BEGIN:VEVENT
UID:16165923@ezleagues.ezfacility.com
DTSTAMP:20260424T043916Z
CREATED:20260424T043916Z
DTSTART:20250116T034000Z
DTEND:20250116T043000Z
LOCATION:Field 2
CONTACT:
SUMMARY:The A Team VS. Jarlaths
DESCRIPTION:League Name: Adult Soccer Session 4-A League\nGame Type: Regula
 r\nGame Status: Complete\nHome Team: The A Team\nAway Team: Jarlaths\nHome
  Score: 5\nAway Score: 9
END:VEVENT
BEGIN:VEVENT
UID:16165925@ezleagues.ezfacility.com
DTSTAMP:20260424T043916Z
CREATED:20260424T043916Z
DTSTART:20250123T025000Z
DTEND:20250123T034000Z
LOCATION:Field 2
CONTACT:
SUMMARY:Milan FC VS. The A Team
DESCRIPTION:League Name: Adult Soccer Session 4-A League\nGame Type: Regula
 r\nGame Status: Complete\nHome Team: Milan FC\nAway Team: The A Team\nHome
  Score: 10\nAway Score: 3
END:VEVENT
BEGIN:VEVENT
UID:16165929@ezleagues.ezfacility.com
DTSTAMP:20260424T043916Z
CREATED:20260424T043916Z
DTSTART:20250130T025000Z
DTEND:20250130T034000Z
LOCATION:Field 2
CONTACT:
SUMMARY:The A Team VS. Chicago Warriors
DESCRIPTION:League Name: Adult Soccer Session 4-A League\nGame Type: Regula
 r\nGame Status: Complete\nHome Team: The A Team\nAway Team: Chicago Warrio
 rs\nHome Score: 4\nAway Score: 1
END:VEVENT
BEGIN:VEVENT
UID:16165933@ezleagues.ezfacility.com
DTSTAMP:20260424T043916Z
CREATED:20260424T043916Z
DTSTART:20250206T034000Z
DTEND:20250206T043000Z
LOCATION:Field 3
CONTACT:
SUMMARY:The A Team VS. Siemano SK
DESCRIPTION:League Name: Adult Soccer Session 4-A League\nGame Type: Regula
 r\nGame Status: Complete\nHome Team: The A Team\nAway Team: Siemano SK\nHo
 me Score: 2\nAway Score: 7
END:VEVENT
BEGIN:VEVENT
UID:16165935@ezleagues.ezfacility.com
DTSTAMP:20260424T043916Z
CREATED:20260424T043916Z
DTSTART:20250213T025000Z
DTEND:20250213T034000Z
LOCATION:Field 2
CONTACT:
SUMMARY:Beginners luck VS. The A Team
DESCRIPTION:League Name: Adult Soccer Session 4-A League\nGame Type: Regula
 r\nGame Status: Complete\nHome Team: Beginners luck\nAway Team: The A Team
 \nHome Score: 3\nAway Score: 4
END:VEVENT
BEGIN:VEVENT
UID:16165939@ezleagues.ezfacility.com
DTSTAMP:20260424T043916Z
CREATED:20260424T043916Z
DTSTART:20250220T043000Z
DTEND:20250220T052000Z
LOCATION:Field 2
CONTACT:
SUMMARY:The A Team VS. Palistino
DESCRIPTION:League Name: Adult Soccer Session 4-A League\nGame Type: Regula
 r\nGame Status: Complete\nHome Team: The A Team\nAway Team: Palistino\nHom
 e Score: 7\nAway Score: 11
END:VEVENT
BEGIN:VEVENT
UID:16234049@ezleagues.ezfacility.com
DTSTAMP:20260424T043916Z
CREATED:20260424T043916Z
DTSTART:20250227T020000Z
DTEND:20250227T025000Z
LOCATION:Field 2
CONTACT:
SUMMARY:The A Team VS. Chicago Warriors
DESCRIPTION:League Name: Adult Soccer Session 4-A League\nGame Type: Friend
 ly\nGame Status: Pending\nHome Team: The A Team\nAway Team: Chicago Warrio
 rs\n
END:VEVENT
END:VCALENDAR
