BEGIN:VCALENDAR
VERSION:2.0
PRODID:-//EZFacility.com, Inc.//EZL 2.5.5.28621
BEGIN:VEVENT
UID:16169803@ezleagues.ezfacility.com
DTSTAMP:20260422T121031Z
CREATED:20260422T121031Z
DTSTART:20250112T181500Z
DTEND:20250112T185500Z
LOCATION:Field 2
CONTACT:Enrique 
SUMMARY:Hollister Tremors Chelsea  VS. PV United 2016 Boys
DESCRIPTION:League Name: Youth League - Boys 2016 (U9)\nGame Type: Regular\
 nGame Status: Complete\nHome Team: Hollister Tremors Chelsea \nAway Team: 
 PV United 2016 Boys\nHome Score: 1\nAway Score: 20
END:VEVENT
BEGIN:VEVENT
UID:16169811@ezleagues.ezfacility.com
DTSTAMP:20260422T121031Z
CREATED:20260422T121031Z
DTSTART:20250119T190000Z
DTEND:20250119T194000Z
LOCATION:Field 2
CONTACT:
SUMMARY:Santa Cruz United 2016 VS. Hollister Tremors Chelsea 
DESCRIPTION:League Name: Youth League - Boys 2016 (U9)\nGame Type: Regular\
 nGame Status: Complete\nHome Team: Santa Cruz United 2016\nAway Team: Holl
 ister Tremors Chelsea \nHome Score: 6\nAway Score: 1
END:VEVENT
BEGIN:VEVENT
UID:16169819@ezleagues.ezfacility.com
DTSTAMP:20260422T121031Z
CREATED:20260422T121031Z
DTSTART:20250126T160000Z
DTEND:20250126T164000Z
LOCATION:Field 2
CONTACT:JLuis 
SUMMARY:Hollister Tremors Chelsea  VS. Central Coast FC (Grey)
DESCRIPTION:League Name: Youth League - Boys 2016 (U9)\nGame Type: Regular\
 nGame Status: Complete\nHome Team: Hollister Tremors Chelsea \nAway Team: 
 Central Coast FC (Grey)\nHome Score: 11\nAway Score: 2
END:VEVENT
BEGIN:VEVENT
UID:16169827@ezleagues.ezfacility.com
DTSTAMP:20260422T121031Z
CREATED:20260422T121031Z
DTSTART:20250202T203000Z
DTEND:20250202T211000Z
LOCATION:Field 2
CONTACT:Enrique 
SUMMARY:Monterey Surf B16 Academy II VS. Hollister Tremors Chelsea 
DESCRIPTION:League Name: Youth League - Boys 2016 (U9)\nGame Type: Regular\
 nGame Status: Complete\nHome Team: Monterey Surf B16 Academy II\nAway Team
 : Hollister Tremors Chelsea \nHome Score: 2\nAway Score: 6
END:VEVENT
BEGIN:VEVENT
UID:16169834@ezleagues.ezfacility.com
DTSTAMP:20260422T121031Z
CREATED:20260422T121031Z
DTSTART:20250209T203000Z
DTEND:20250209T211000Z
LOCATION:Field 2
CONTACT:
SUMMARY:Dragones FC VS. Hollister Tremors Chelsea 
DESCRIPTION:League Name: Youth League - Boys 2016 (U9)\nGame Type: Regular\
 nGame Status: Complete\nHome Team: Dragones FC\nAway Team: Hollister Tremo
 rs Chelsea \nHome Score: 8\nAway Score: 0
END:VEVENT
BEGIN:VEVENT
UID:16169840@ezleagues.ezfacility.com
DTSTAMP:20260422T121031Z
CREATED:20260422T121031Z
DTSTART:20250216T190000Z
DTEND:20250216T194000Z
LOCATION:Field 2
CONTACT:Enrique 
SUMMARY:Hollister Tremors Chelsea  VS. Chivitas 
DESCRIPTION:League Name: Youth League - Boys 2016 (U9)\nGame Type: Regular\
 nGame Status: Complete\nHome Team: Hollister Tremors Chelsea \nAway Team: 
 Chivitas \nHome Score: 4\nAway Score: 3
END:VEVENT
BEGIN:VEVENT
UID:16169846@ezleagues.ezfacility.com
DTSTAMP:20260422T121031Z
CREATED:20260422T121031Z
DTSTART:20250223T194500Z
DTEND:20250223T202500Z
LOCATION:Field 2
CONTACT:
SUMMARY:Monterey Surf B16 Academy I VS. Hollister Tremors Chelsea 
DESCRIPTION:League Name: Youth League - Boys 2016 (U9)\nGame Type: Regular\
 nGame Status: Complete\nHome Team: Monterey Surf B16 Academy I\nAway Team:
  Hollister Tremors Chelsea \nHome Score: 11\nAway Score: 1
END:VEVENT
BEGIN:VEVENT
UID:16169852@ezleagues.ezfacility.com
DTSTAMP:20260422T121031Z
CREATED:20260422T121031Z
DTSTART:20250302T164500Z
DTEND:20250302T172500Z
LOCATION:Field 2
CONTACT:
SUMMARY:Hollister Tremors Chelsea  VS. PV United 16 Red
DESCRIPTION:League Name: Youth League - Boys 2016 (U9)\nGame Type: Regular\
 nGame Status: Complete\nHome Team: Hollister Tremors Chelsea \nAway Team: 
 PV United 16 Red\nHome Score: 5\nAway Score: 0
END:VEVENT
END:VCALENDAR
