BEGIN:VCALENDAR
VERSION:2.0
PRODID:-//EZFacility.com, Inc.//EZL 2.5.5.28621
BEGIN:VEVENT
UID:16169804@ezleagues.ezfacility.com
DTSTAMP:20260426T034944Z
CREATED:20260426T034944Z
DTSTART:20250112T190000Z
DTEND:20250112T194000Z
LOCATION:Field 2
CONTACT:Enrique 
SUMMARY:Monterey Surf B16 Academy II VS. PV United 16 Red
DESCRIPTION:League Name: Youth League - Boys 2016 (U9)\nGame Type: Regular\
 nGame Status: Complete\nHome Team: Monterey Surf B16 Academy II\nAway Team
 : PV United 16 Red\nHome Score: 3\nAway Score: 7
END:VEVENT
BEGIN:VEVENT
UID:16169820@ezleagues.ezfacility.com
DTSTAMP:20260426T034944Z
CREATED:20260426T034944Z
DTSTART:20250126T164500Z
DTEND:20250126T172500Z
LOCATION:Field 2
CONTACT:JLuis 
SUMMARY:PV United 2016 Blue VS. Monterey Surf B16 Academy II
DESCRIPTION:League Name: Youth League - Boys 2016 (U9)\nGame Type: Regular\
 nGame Status: Complete\nHome Team: PV United 2016 Blue\nAway Team: Montere
 y Surf B16 Academy II\nHome Score: 7\nAway Score: 2
END:VEVENT
BEGIN:VEVENT
UID:16169824@ezleagues.ezfacility.com
DTSTAMP:20260426T034944Z
CREATED:20260426T034944Z
DTSTART:20250202T194500Z
DTEND:20250202T202500Z
LOCATION:Field 2
CONTACT:Enrique 
SUMMARY:Monterey Surf B16 Academy II VS. Chivitas 
DESCRIPTION:League Name: Youth League - Boys 2016 (U9)\nGame Type: Regular\
 nGame Status: Complete\nHome Team: Monterey Surf B16 Academy II\nAway Team
 : Chivitas \nHome Score: 4\nAway Score: 4
END:VEVENT
BEGIN:VEVENT
UID:16169827@ezleagues.ezfacility.com
DTSTAMP:20260426T034944Z
CREATED:20260426T034944Z
DTSTART:20250202T203000Z
DTEND:20250202T211000Z
LOCATION:Field 2
CONTACT:Enrique 
SUMMARY:Monterey Surf B16 Academy II VS. Hollister Tremors Chelsea 
DESCRIPTION:League Name: Youth League - Boys 2016 (U9)\nGame Type: Regular\
 nGame Status: Complete\nHome Team: Monterey Surf B16 Academy II\nAway Team
 : Hollister Tremors Chelsea \nHome Score: 2\nAway Score: 6
END:VEVENT
BEGIN:VEVENT
UID:16169833@ezleagues.ezfacility.com
DTSTAMP:20260426T034944Z
CREATED:20260426T034944Z
DTSTART:20250209T164500Z
DTEND:20250209T172500Z
LOCATION:Field 2
CONTACT:
SUMMARY:Central Coast FC 16 Black VS. Monterey Surf B16 Academy II
DESCRIPTION:League Name: Youth League - Boys 2016 (U9)\nGame Type: Regular\
 nGame Status: Complete\nHome Team: Central Coast FC 16 Black\nAway Team: M
 onterey Surf B16 Academy II\nHome Score: 11\nAway Score: 3
END:VEVENT
BEGIN:VEVENT
UID:16169839@ezleagues.ezfacility.com
DTSTAMP:20260426T034944Z
CREATED:20260426T034944Z
DTSTART:20250216T181500Z
DTEND:20250216T185500Z
LOCATION:Field 2
CONTACT:Enrique 
SUMMARY:Monterey Surf B16 Academy II VS. Ecfc 2016 Pre-Ecnl 
DESCRIPTION:League Name: Youth League - Boys 2016 (U9)\nGame Type: Regular\
 nGame Status: Complete\nHome Team: Monterey Surf B16 Academy II\nAway Team
 : Ecfc 2016 Pre-Ecnl \nHome Score: 3\nAway Score: 0
END:VEVENT
BEGIN:VEVENT
UID:16169845@ezleagues.ezfacility.com
DTSTAMP:20260426T034944Z
CREATED:20260426T034944Z
DTSTART:20250223T173000Z
DTEND:20250223T181000Z
LOCATION:Field 2
CONTACT:
SUMMARY:PV United 2016 Boys VS. Monterey Surf B16 Academy II
DESCRIPTION:League Name: Youth League - Boys 2016 (U9)\nGame Type: Regular\
 nGame Status: Complete\nHome Team: PV United 2016 Boys\nAway Team: Montere
 y Surf B16 Academy II\nHome Score: 23\nAway Score: 0
END:VEVENT
BEGIN:VEVENT
UID:16169851@ezleagues.ezfacility.com
DTSTAMP:20260426T034944Z
CREATED:20260426T034944Z
DTSTART:20250302T160000Z
DTEND:20250302T164000Z
LOCATION:Field 2
CONTACT:
SUMMARY:PV United 2016 Blue VS. Monterey Surf B16 Academy II
DESCRIPTION:League Name: Youth League - Boys 2016 (U9)\nGame Type: Regular\
 nGame Status: Complete\nHome Team: PV United 2016 Blue\nAway Team: Montere
 y Surf B16 Academy II\nHome Score: 10\nAway Score: 1
END:VEVENT
END:VCALENDAR
