BEGIN:VCALENDAR
VERSION:2.0
PRODID:-//EZFacility.com, Inc.//EZL 2.5.5.28621
BEGIN:VEVENT
UID:16169381@ezleagues.ezfacility.com
DTSTAMP:20260422T224643Z
CREATED:20260422T224643Z
DTSTART:20250124T001000Z
DTEND:20250124T010000Z
LOCATION:Field A
CONTACT:
SUMMARY:Liverfools VS. FC Toepokes
DESCRIPTION:League Name: Winter Co-Ed 25-Co-Ed C Division\nGame Type: Regul
 ar\nGame Status: Complete\nHome Team: Liverfools\nAway Team: FC Toepokes\n
 Home Score: 4\nAway Score: 4
END:VEVENT
BEGIN:VEVENT
UID:16169385@ezleagues.ezfacility.com
DTSTAMP:20260422T224643Z
CREATED:20260422T224643Z
DTSTART:20250131T010000Z
DTEND:20250131T015000Z
LOCATION:Field A
CONTACT:
SUMMARY:FC Toepokes VS. Left Overs
DESCRIPTION:League Name: Winter Co-Ed 25-Co-Ed C Division\nGame Type: Regul
 ar\nGame Status: Complete\nHome Team: FC Toepokes\nAway Team: Left Overs\n
 Home Score: 3\nAway Score: 5
END:VEVENT
BEGIN:VEVENT
UID:16169388@ezleagues.ezfacility.com
DTSTAMP:20260422T224643Z
CREATED:20260422T224643Z
DTSTART:20250207T010000Z
DTEND:20250207T015000Z
LOCATION:Field A
CONTACT:
SUMMARY:FC Toepokes VS. Hooligans
DESCRIPTION:League Name: Winter Co-Ed 25-Co-Ed C Division\nGame Type: Regul
 ar\nGame Status: Complete\nHome Team: FC Toepokes\nAway Team: Hooligans\nH
 ome Score: 3\nAway Score: 5
END:VEVENT
BEGIN:VEVENT
UID:16169390@ezleagues.ezfacility.com
DTSTAMP:20260422T224643Z
CREATED:20260422T224643Z
DTSTART:20250214T001000Z
DTEND:20250214T010000Z
LOCATION:Field A
CONTACT:
SUMMARY:FC Toepokes VS. Vicious and Delicious
DESCRIPTION:League Name: Winter Co-Ed 25-Co-Ed C Division\nGame Type: Regul
 ar\nGame Status: Complete\nHome Team: FC Toepokes\nAway Team: Vicious and 
 Delicious\nHome Score: 8\nAway Score: 5
END:VEVENT
BEGIN:VEVENT
UID:16169396@ezleagues.ezfacility.com
DTSTAMP:20260422T224643Z
CREATED:20260422T224643Z
DTSTART:20250228T001000Z
DTEND:20250228T010000Z
LOCATION:Field A
CONTACT:
SUMMARY:FC Toepokes VS. Liverfools
DESCRIPTION:League Name: Winter Co-Ed 25-Co-Ed C Division\nGame Type: Regul
 ar\nGame Status: Complete\nHome Team: FC Toepokes\nAway Team: Liverfools\n
 Home Score: 2\nAway Score: 5
END:VEVENT
BEGIN:VEVENT
UID:16169400@ezleagues.ezfacility.com
DTSTAMP:20260422T224643Z
CREATED:20260422T224643Z
DTSTART:20250307T010000Z
DTEND:20250307T015000Z
LOCATION:Field A
CONTACT:
SUMMARY:FC Toepokes VS. Left Overs
DESCRIPTION:League Name: Winter Co-Ed 25-Co-Ed C Division\nGame Type: Regul
 ar\nGame Status: Complete\nHome Team: FC Toepokes\nAway Team: Left Overs\n
 Home Score: 5\nAway Score: 8
END:VEVENT
BEGIN:VEVENT
UID:16169403@ezleagues.ezfacility.com
DTSTAMP:20260422T224643Z
CREATED:20260422T224643Z
DTSTART:20250314T000000Z
DTEND:20250314T005000Z
LOCATION:Field A
CONTACT:
SUMMARY:Hooligans VS. FC Toepokes
DESCRIPTION:League Name: Winter Co-Ed 25-Co-Ed C Division\nGame Type: Regul
 ar\nGame Status: Complete\nHome Team: Hooligans\nAway Team: FC Toepokes\nH
 ome Score: 5\nAway Score: 3
END:VEVENT
BEGIN:VEVENT
UID:16169407@ezleagues.ezfacility.com
DTSTAMP:20260422T224643Z
CREATED:20260422T224643Z
DTSTART:20250328T005000Z
DTEND:20250328T014000Z
LOCATION:Field A
CONTACT:
SUMMARY:FC Toepokes VS. About to get Messi
DESCRIPTION:League Name: Winter Co-Ed 25-Co-Ed C Division\nGame Type: Regul
 ar\nGame Status: Complete\nHome Team: FC Toepokes\nAway Team: About to get
  Messi\nHome Score: 1\nAway Score: 4
END:VEVENT
BEGIN:VEVENT
UID:16169405@ezleagues.ezfacility.com
DTSTAMP:20260422T224643Z
CREATED:20260422T224643Z
DTSTART:20250403T231000Z
DTEND:20250404T000000Z
LOCATION:Field A
CONTACT:
SUMMARY:Vicious and Delicious VS. FC Toepokes
DESCRIPTION:League Name: Winter Co-Ed 25-Co-Ed C Division\nGame Type: Regul
 ar\nGame Status: Complete\nHome Team: Vicious and Delicious\nAway Team: FC
  Toepokes\nHome Score: 6\nAway Score: 3
END:VEVENT
BEGIN:VEVENT
UID:16169392@ezleagues.ezfacility.com
DTSTAMP:20260422T224643Z
CREATED:20260422T224643Z
DTSTART:20250411T005000Z
DTEND:20250411T014000Z
LOCATION:Field A
CONTACT:
SUMMARY:About to get Messi VS. FC Toepokes
DESCRIPTION:League Name: Winter Co-Ed 25-Co-Ed C Division\nGame Type: Regul
 ar\nGame Status: Complete\nHome Team: About to get Messi\nAway Team: FC To
 epokes\nHome Score: 6\nAway Score: 5
END:VEVENT
END:VCALENDAR
