BEGIN:VCALENDAR
VERSION:2.0
PRODID:-//EZFacility.com, Inc.//EZL 2.5.5.28621
BEGIN:VEVENT
UID:16169452@ezleagues.ezfacility.com
DTSTAMP:20260426T035014Z
CREATED:20260426T035014Z
DTSTART:20250121T010000Z
DTEND:20250121T015000Z
LOCATION:Field A
CONTACT:
SUMMARY:Fuego women VS. Chubby Squonks
DESCRIPTION:League Name: Winter Co-Ed 25-Co-Ed E Division\nGame Type: Regul
 ar\nGame Status: Complete\nHome Team: Fuego women\nAway Team: Chubby Squon
 ks\nHome Score: 2\nAway Score: 5
END:VEVENT
BEGIN:VEVENT
UID:16169455@ezleagues.ezfacility.com
DTSTAMP:20260426T035014Z
CREATED:20260426T035014Z
DTSTART:20250128T015000Z
DTEND:20250128T024000Z
LOCATION:Field A
CONTACT:
SUMMARY:Arsenal VS. Fuego women
DESCRIPTION:League Name: Winter Co-Ed 25-Co-Ed E Division\nGame Type: Regul
 ar\nGame Status: Complete\nHome Team: Arsenal\nAway Team: Fuego women\nHom
 e Score: 14\nAway Score: 8
END:VEVENT
BEGIN:VEVENT
UID:16169460@ezleagues.ezfacility.com
DTSTAMP:20260426T035014Z
CREATED:20260426T035014Z
DTSTART:20250204T001000Z
DTEND:20250204T010000Z
LOCATION:Field A
CONTACT:
SUMMARY:Them VS. Fuego women
DESCRIPTION:League Name: Winter Co-Ed 25-Co-Ed E Division\nGame Type: Regul
 ar\nGame Status: Complete\nHome Team: Them\nAway Team: Fuego women\nHome S
 core: 7\nAway Score: 4
END:VEVENT
BEGIN:VEVENT
UID:16169465@ezleagues.ezfacility.com
DTSTAMP:20260426T035014Z
CREATED:20260426T035014Z
DTSTART:20250215T024000Z
DTEND:20250215T033000Z
LOCATION:Field A
CONTACT:
SUMMARY:Fuego women VS. Forfeit
DESCRIPTION:League Name: Winter Co-Ed 25-Co-Ed E Division\nGame Type: Regul
 ar\nGame Status: Complete\nHome Team: Fuego women\nAway Team: Forfeit\nHom
 e Score: 0\nAway Score: 15
END:VEVENT
BEGIN:VEVENT
UID:16169470@ezleagues.ezfacility.com
DTSTAMP:20260426T035014Z
CREATED:20260426T035014Z
DTSTART:20250218T001000Z
DTEND:20250218T010000Z
LOCATION:Field A
CONTACT:
SUMMARY:Fuego women VS. Disorderly Conduct 2
DESCRIPTION:League Name: Winter Co-Ed 25-Co-Ed E Division\nGame Type: Regul
 ar\nGame Status: Complete\nHome Team: Fuego women\nAway Team: Disorderly C
 onduct 2\nHome Score: 2\nAway Score: 7
END:VEVENT
BEGIN:VEVENT
UID:16169474@ezleagues.ezfacility.com
DTSTAMP:20260426T035014Z
CREATED:20260426T035014Z
DTSTART:20250225T010000Z
DTEND:20250225T015000Z
LOCATION:Field A
CONTACT:
SUMMARY:The Amigos VS. Fuego women
DESCRIPTION:League Name: Winter Co-Ed 25-Co-Ed E Division\nGame Type: Regul
 ar\nGame Status: Complete\nHome Team: The Amigos\nAway Team: Fuego women\n
 Home Score: 5\nAway Score: 6
END:VEVENT
BEGIN:VEVENT
UID:16169477@ezleagues.ezfacility.com
DTSTAMP:20260426T035014Z
CREATED:20260426T035014Z
DTSTART:20250304T001000Z
DTEND:20250304T010000Z
LOCATION:Field A
CONTACT:
SUMMARY:Savages VS. Fuego women
DESCRIPTION:League Name: Winter Co-Ed 25-Co-Ed E Division\nGame Type: Regul
 ar\nGame Status: Complete\nHome Team: Savages\nAway Team: Fuego women\nHom
 e Score: 10\nAway Score: 2
END:VEVENT
BEGIN:VEVENT
UID:16169488@ezleagues.ezfacility.com
DTSTAMP:20260426T035014Z
CREATED:20260426T035014Z
DTSTART:20250325T000000Z
DTEND:20250325T005000Z
LOCATION:Field A
CONTACT:
SUMMARY:Fuego women VS. Them
DESCRIPTION:League Name: Winter Co-Ed 25-Co-Ed E Division\nGame Type: Regul
 ar\nGame Status: Complete\nHome Team: Fuego women\nAway Team: Them\nHome S
 core: 0\nAway Score: 5
END:VEVENT
BEGIN:VEVENT
UID:16169483@ezleagues.ezfacility.com
DTSTAMP:20260426T035014Z
CREATED:20260426T035014Z
DTSTART:20250401T005000Z
DTEND:20250401T014000Z
LOCATION:Field A
CONTACT:
SUMMARY:Fuego women VS. Arsenal
DESCRIPTION:League Name: Winter Co-Ed 25-Co-Ed E Division\nGame Type: Regul
 ar\nGame Status: Complete\nHome Team: Fuego women\nAway Team: Arsenal\nHom
 e Score: 8\nAway Score: 13
END:VEVENT
BEGIN:VEVENT
UID:16169480@ezleagues.ezfacility.com
DTSTAMP:20260426T035014Z
CREATED:20260426T035014Z
DTSTART:20250412T014000Z
DTEND:20250412T023000Z
LOCATION:Field A
CONTACT:
SUMMARY:Chubby Squonks VS. Fuego women
DESCRIPTION:League Name: Winter Co-Ed 25-Co-Ed E Division\nGame Type: Regul
 ar\nGame Status: Complete\nHome Team: Chubby Squonks\nAway Team: Fuego wom
 en\nHome Score: 0\nAway Score: 3
END:VEVENT
END:VCALENDAR
