BEGIN:VCALENDAR
VERSION:2.0
PRODID:-//EZFacility.com, Inc.//EZL 2.5.5.28621
BEGIN:VEVENT
UID:16171900@ezleagues.ezfacility.com
DTSTAMP:20260423T083609Z
CREATED:20260423T083609Z
DTSTART:20250124T003000Z
DTEND:20250124T013000Z
LOCATION:OZ Dome Indoor Field
CONTACT:Langwa
SUMMARY:Old Kicks on the Block(Lime Green) VS. BS Old AF(Orange)
DESCRIPTION:League Name: Ladies 50+ 2025  Spring indoor (COPY)\nGame Type: 
 Regular\nGame Status: Complete\nHome Team: Old Kicks on the Block(Lime Gre
 en)\nAway Team: BS Old AF(Orange)\nHome Score: 2\nAway Score: 1
END:VEVENT
BEGIN:VEVENT
UID:16171852@ezleagues.ezfacility.com
DTSTAMP:20260423T083609Z
CREATED:20260423T083609Z
DTSTART:20250130T233000Z
DTEND:20250131T003000Z
LOCATION:OZ Dome Indoor Field
CONTACT:Langwa
SUMMARY:BS Old AF(Orange) VS. Goalden Girls( Yellow)
DESCRIPTION:League Name: Ladies 50+ 2025  Spring indoor (COPY)\nGame Type: 
 Regular\nGame Status: Complete\nHome Team: BS Old AF(Orange)\nAway Team: G
 oalden Girls( Yellow)\nHome Score: 2\nAway Score: 0
END:VEVENT
BEGIN:VEVENT
UID:16171856@ezleagues.ezfacility.com
DTSTAMP:20260423T083609Z
CREATED:20260423T083609Z
DTSTART:20250207T013000Z
DTEND:20250207T023000Z
LOCATION:OZ Dome Indoor Field
CONTACT:Langwa
SUMMARY:BS Old AF(Orange) VS. Ottawa Golden Cleats(White)
DESCRIPTION:League Name: Ladies 50+ 2025  Spring indoor (COPY)\nGame Type: 
 Regular\nGame Status: Complete\nHome Team: BS Old AF(Orange)\nAway Team: O
 ttawa Golden Cleats(White)\nHome Score: 1\nAway Score: 2
END:VEVENT
BEGIN:VEVENT
UID:16171864@ezleagues.ezfacility.com
DTSTAMP:20260423T083609Z
CREATED:20260423T083609Z
DTSTART:20250221T003000Z
DTEND:20250221T013000Z
LOCATION:OZ Dome Indoor Field
CONTACT:Langwa
SUMMARY:BS Old AF(Orange) VS. SWAT ( Blue)
DESCRIPTION:League Name: Ladies 50+ 2025  Spring indoor (COPY)\nGame Type: 
 Regular\nGame Status: Complete\nHome Team: BS Old AF(Orange)\nAway Team: S
 WAT ( Blue)\nHome Score: 1\nAway Score: 0
END:VEVENT
BEGIN:VEVENT
UID:16171868@ezleagues.ezfacility.com
DTSTAMP:20260423T083609Z
CREATED:20260423T083609Z
DTSTART:20250228T003000Z
DTEND:20250228T013000Z
LOCATION:OZ Dome Indoor Field
CONTACT:Muschkolaj
SUMMARY:BS Old AF(Orange) VS. Storm 50+ ( Blue)
DESCRIPTION:League Name: Ladies 50+ 2025  Spring indoor (COPY)\nGame Type: 
 Regular\nGame Status: Complete\nHome Team: BS Old AF(Orange)\nAway Team: S
 torm 50+ ( Blue)\nHome Score: 0\nAway Score: 1
END:VEVENT
BEGIN:VEVENT
UID:16171872@ezleagues.ezfacility.com
DTSTAMP:20260423T083609Z
CREATED:20260423T083609Z
DTSTART:20250306T233000Z
DTEND:20250307T003000Z
LOCATION:OZ Dome Indoor Field
CONTACT:Langwa
SUMMARY:BS Old AF(Orange) VS. Old Kicks on the Block(Lime Green)
DESCRIPTION:League Name: Ladies 50+ 2025  Spring indoor (COPY)\nGame Type: 
 Regular\nGame Status: Complete\nHome Team: BS Old AF(Orange)\nAway Team: O
 ld Kicks on the Block(Lime Green)\nHome Score: 1\nAway Score: 2
END:VEVENT
BEGIN:VEVENT
UID:16171876@ezleagues.ezfacility.com
DTSTAMP:20260423T083609Z
CREATED:20260423T083609Z
DTSTART:20250314T013000Z
DTEND:20250314T023000Z
LOCATION:OZ Dome Indoor Field
CONTACT:Langwa
SUMMARY:Carp Lynx(Red) VS. BS Old AF(Orange)
DESCRIPTION:League Name: Ladies 50+ 2025  Spring indoor (COPY)\nGame Type: 
 Regular\nGame Status: Complete\nHome Team: Carp Lynx(Red)\nAway Team: BS O
 ld AF(Orange)\nHome Score: 3\nAway Score: 0
END:VEVENT
BEGIN:VEVENT
UID:16171880@ezleagues.ezfacility.com
DTSTAMP:20260423T083609Z
CREATED:20260423T083609Z
DTSTART:20250321T003000Z
DTEND:20250321T013000Z
LOCATION:OZ Dome Indoor Field
CONTACT:Langwa
SUMMARY:Goalden Girls( Yellow) VS. BS Old AF(Orange)
DESCRIPTION:League Name: Ladies 50+ 2025  Spring indoor (COPY)\nGame Type: 
 Regular\nGame Status: Complete\nHome Team: Goalden Girls( Yellow)\nAway Te
 am: BS Old AF(Orange)\nHome Score: 2\nAway Score: 1
END:VEVENT
BEGIN:VEVENT
UID:16171884@ezleagues.ezfacility.com
DTSTAMP:20260423T083609Z
CREATED:20260423T083609Z
DTSTART:20250328T013000Z
DTEND:20250328T023000Z
LOCATION:OZ Dome Indoor Field
CONTACT:Langwa
SUMMARY:Ottawa Golden Cleats(White) VS. BS Old AF(Orange)
DESCRIPTION:League Name: Ladies 50+ 2025  Spring indoor (COPY)\nGame Type: 
 Regular\nGame Status: Pending\nHome Team: Ottawa Golden Cleats(White)\nAwa
 y Team: BS Old AF(Orange)\n
END:VEVENT
BEGIN:VEVENT
UID:16171888@ezleagues.ezfacility.com
DTSTAMP:20260423T083609Z
CREATED:20260423T083609Z
DTSTART:20250403T233000Z
DTEND:20250404T003000Z
LOCATION:OZ Dome Indoor Field
CONTACT:Langwa
SUMMARY:Stray Cats 1(Red) VS. BS Old AF(Orange)
DESCRIPTION:League Name: Ladies 50+ 2025  Spring indoor (COPY)\nGame Type: 
 Regular\nGame Status: Complete\nHome Team: Stray Cats 1(Red)\nAway Team: B
 S Old AF(Orange)\nHome Score: 0\nAway Score: 2
END:VEVENT
BEGIN:VEVENT
UID:16171892@ezleagues.ezfacility.com
DTSTAMP:20260423T083609Z
CREATED:20260423T083609Z
DTSTART:20250411T013000Z
DTEND:20250411T023000Z
LOCATION:OZ Dome Indoor Field
CONTACT:Langwa
SUMMARY:SWAT ( Blue) VS. BS Old AF(Orange)
DESCRIPTION:League Name: Ladies 50+ 2025  Spring indoor (COPY)\nGame Type: 
 Regular\nGame Status: Complete\nHome Team: SWAT ( Blue)\nAway Team: BS Old
  AF(Orange)\nHome Score: 0\nAway Score: 4
END:VEVENT
BEGIN:VEVENT
UID:16171896@ezleagues.ezfacility.com
DTSTAMP:20260423T083609Z
CREATED:20260423T083609Z
DTSTART:20250417T223000Z
DTEND:20250417T233000Z
LOCATION:OZ Dome Indoor Field
CONTACT:Langwa
SUMMARY:Storm 50+ ( Blue) VS. BS Old AF(Orange)
DESCRIPTION:League Name: Ladies 50+ 2025  Spring indoor (COPY)\nGame Type: 
 Regular\nGame Status: Complete\nHome Team: Storm 50+ ( Blue)\nAway Team: B
 S Old AF(Orange)\nHome Score: 1\nAway Score: 2
END:VEVENT
BEGIN:VEVENT
UID:16171860@ezleagues.ezfacility.com
DTSTAMP:20260423T083609Z
CREATED:20260423T083609Z
DTSTART:20250425T013000Z
DTEND:20250425T023000Z
LOCATION:OZ Dome Indoor Field
CONTACT:Langwa
SUMMARY:BS Old AF(Orange) VS. Stray Cats 1(Red)
DESCRIPTION:League Name: Ladies 50+ 2025  Spring indoor (COPY)\nGame Type: 
 Regular\nGame Status: Complete\nHome Team: BS Old AF(Orange)\nAway Team: S
 tray Cats 1(Red)\nHome Score: 1\nAway Score: 0
END:VEVENT
BEGIN:VEVENT
UID:16399885@ezleagues.ezfacility.com
DTSTAMP:20260423T083609Z
CREATED:20260423T083609Z
DTSTART:20250430T223000Z
DTEND:20250430T233000Z
LOCATION:OZ Dome Indoor Field
CONTACT:Langwa
SUMMARY:Ottawa Golden Cleats(White) VS. BS Old AF(Orange)
DESCRIPTION:League Name: Ladies 50+ 2025  Spring indoor (COPY)\nGame Type: 
 Regular\nGame Status: Complete\nHome Team: Ottawa Golden Cleats(White)\nAw
 ay Team: BS Old AF(Orange)\nHome Score: 5\nAway Score: 0
END:VEVENT
END:VCALENDAR
