BEGIN:VCALENDAR
VERSION:2.0
PRODID:-//EZFacility.com, Inc.//EZL 2.5.5.28621
BEGIN:VEVENT
UID:16205640@ezleagues.ezfacility.com
DTSTAMP:20260426T034936Z
CREATED:20260426T034936Z
DTSTART:20250127T190000Z
DTEND:20250127T200000Z
LOCATION:Table Tennis Table #3
CONTACT:
SUMMARY:Jonathan Bush VS. Diego Melo - 2nd
DESCRIPTION:League Name: SAT - Winter Table Tennis Tournament Group 1\nGame
  Type: Regular\nGame Status: Complete\nHome Team: Jonathan Bush\nAway Team
 : Diego Melo - 2nd\nHome Score: 0\nAway Score: 3
END:VEVENT
BEGIN:VEVENT
UID:16205649@ezleagues.ezfacility.com
DTSTAMP:20260426T034936Z
CREATED:20260426T034936Z
DTSTART:20250203T190000Z
DTEND:20250203T200000Z
LOCATION:Table Tennis Table #3
CONTACT:
SUMMARY:Jerry Trullender - 4th VS. Jonathan Bush
DESCRIPTION:League Name: SAT - Winter Table Tennis Tournament Group 1\nGame
  Type: Regular\nGame Status: Complete\nHome Team: Jerry Trullender - 4th\n
 Away Team: Jonathan Bush\nHome Score: 3\nAway Score: 0
END:VEVENT
BEGIN:VEVENT
UID:16205658@ezleagues.ezfacility.com
DTSTAMP:20260426T034936Z
CREATED:20260426T034936Z
DTSTART:20250210T190000Z
DTEND:20250210T200000Z
LOCATION:Table Tennis Table #3
CONTACT:
SUMMARY:Jonathan Bush VS. Brian Gills
DESCRIPTION:League Name: SAT - Winter Table Tennis Tournament Group 1\nGame
  Type: Regular\nGame Status: Complete\nHome Team: Jonathan Bush\nAway Team
 : Brian Gills\nHome Score: 0\nAway Score: 0
END:VEVENT
BEGIN:VEVENT
UID:16205667@ezleagues.ezfacility.com
DTSTAMP:20260426T034936Z
CREATED:20260426T034936Z
DTSTART:20250217T190000Z
DTEND:20250217T200000Z
LOCATION:Table Tennis Table #3
CONTACT:
SUMMARY:Jonathan Bush VS. Alex Martinez **Dropped from league**
DESCRIPTION:League Name: SAT - Winter Table Tennis Tournament Group 1\nGame
  Type: Regular\nGame Status: Complete\nHome Team: Jonathan Bush\nAway Team
 : Alex Martinez **Dropped from league**\nHome Score: 3\nAway Score: 0
END:VEVENT
BEGIN:VEVENT
UID:16205675@ezleagues.ezfacility.com
DTSTAMP:20260426T034936Z
CREATED:20260426T034936Z
DTSTART:20250224T190000Z
DTEND:20250224T200000Z
LOCATION:Table Tennis Table #3
CONTACT:
SUMMARY:Matthew Gutierrez **Dropped from league** VS. Jonathan Bush
DESCRIPTION:League Name: SAT - Winter Table Tennis Tournament Group 1\nGame
  Type: Regular\nGame Status: Complete\nHome Team: Matthew Gutierrez **Drop
 ped from league**\nAway Team: Jonathan Bush\nHome Score: 0\nAway Score: 3
END:VEVENT
BEGIN:VEVENT
UID:16205682@ezleagues.ezfacility.com
DTSTAMP:20260426T034936Z
CREATED:20260426T034936Z
DTSTART:20250303T190000Z
DTEND:20250303T200000Z
LOCATION:Table Tennis Table #3
CONTACT:
SUMMARY:Jonathan Bush VS. Gustavo Luna - 1st
DESCRIPTION:League Name: SAT - Winter Table Tennis Tournament Group 1\nGame
  Type: Regular\nGame Status: Complete\nHome Team: Jonathan Bush\nAway Team
 : Gustavo Luna - 1st\nHome Score: 0\nAway Score: 3
END:VEVENT
BEGIN:VEVENT
UID:16205689@ezleagues.ezfacility.com
DTSTAMP:20260426T034936Z
CREATED:20260426T034936Z
DTSTART:20250310T180000Z
DTEND:20250310T190000Z
LOCATION:Table Tennis Table #3
CONTACT:
SUMMARY:Darryl Ricks **Dropped from league** VS. Jonathan Bush
DESCRIPTION:League Name: SAT - Winter Table Tennis Tournament Group 1\nGame
  Type: Regular\nGame Status: Complete\nHome Team: Darryl Ricks **Dropped f
 rom league**\nAway Team: Jonathan Bush\nHome Score: 0\nAway Score: 3
END:VEVENT
BEGIN:VEVENT
UID:16205696@ezleagues.ezfacility.com
DTSTAMP:20260426T034936Z
CREATED:20260426T034936Z
DTSTART:20250317T180000Z
DTEND:20250317T190000Z
LOCATION:Table Tennis Table #3
CONTACT:
SUMMARY:Jonathan Bush VS. Andrew Limfueco
DESCRIPTION:League Name: SAT - Winter Table Tennis Tournament Group 1\nGame
  Type: Regular\nGame Status: Complete\nHome Team: Jonathan Bush\nAway Team
 : Andrew Limfueco\nHome Score: 0\nAway Score: 0
END:VEVENT
BEGIN:VEVENT
UID:16205703@ezleagues.ezfacility.com
DTSTAMP:20260426T034936Z
CREATED:20260426T034936Z
DTSTART:20250324T180000Z
DTEND:20250324T190000Z
LOCATION:Table Tennis Table #3
CONTACT:
SUMMARY:Greg Cuellar VS. Jonathan Bush
DESCRIPTION:League Name: SAT - Winter Table Tennis Tournament Group 1\nGame
  Type: Regular\nGame Status: Complete\nHome Team: Greg Cuellar\nAway Team:
  Jonathan Bush\nHome Score: 0\nAway Score: 0
END:VEVENT
BEGIN:VEVENT
UID:16205717@ezleagues.ezfacility.com
DTSTAMP:20260426T034936Z
CREATED:20260426T034936Z
DTSTART:20250407T180000Z
DTEND:20250407T190000Z
LOCATION:Table Tennis Table #3
CONTACT:
SUMMARY:Jonatan McElfresh **Dropped from League** VS. Jonathan Bush
DESCRIPTION:League Name: SAT - Winter Table Tennis Tournament Group 1\nGame
  Type: Regular\nGame Status: Complete\nHome Team: Jonatan McElfresh **Drop
 ped from League**\nAway Team: Jonathan Bush\nHome Score: 0\nAway Score: 3
END:VEVENT
BEGIN:VEVENT
UID:16205724@ezleagues.ezfacility.com
DTSTAMP:20260426T034936Z
CREATED:20260426T034936Z
DTSTART:20250414T180000Z
DTEND:20250414T190000Z
LOCATION:Table Tennis Table #3
CONTACT:
SUMMARY:Fabian Wallen VS. Jonathan Bush
DESCRIPTION:League Name: SAT - Winter Table Tennis Tournament Group 1\nGame
  Type: Regular\nGame Status: Complete\nHome Team: Fabian Wallen\nAway Team
 : Jonathan Bush\nHome Score: 0\nAway Score: 0
END:VEVENT
BEGIN:VEVENT
UID:16205733@ezleagues.ezfacility.com
DTSTAMP:20260426T034936Z
CREATED:20260426T034936Z
DTSTART:20250421T180000Z
DTEND:20250421T190000Z
LOCATION:Table Tennis Table #3
CONTACT:
SUMMARY:Jonathan Bush VS. Geno Patterson 
DESCRIPTION:League Name: SAT - Winter Table Tennis Tournament Group 1\nGame
  Type: Regular\nGame Status: Complete\nHome Team: Jonathan Bush\nAway Team
 : Geno Patterson \nHome Score: 0\nAway Score: 0
END:VEVENT
BEGIN:VEVENT
UID:16205742@ezleagues.ezfacility.com
DTSTAMP:20260426T034936Z
CREATED:20260426T034936Z
DTSTART:20250428T180000Z
DTEND:20250428T190000Z
LOCATION:Table Tennis Table #3
CONTACT:
SUMMARY:Benito Munoz - 3rd VS. Jonathan Bush
DESCRIPTION:League Name: SAT - Winter Table Tennis Tournament Group 1\nGame
  Type: Regular\nGame Status: Complete\nHome Team: Benito Munoz - 3rd\nAway
  Team: Jonathan Bush\nHome Score: 3\nAway Score: 0
END:VEVENT
BEGIN:VEVENT
UID:16205751@ezleagues.ezfacility.com
DTSTAMP:20260426T034936Z
CREATED:20260426T034936Z
DTSTART:20250505T180000Z
DTEND:20250505T190000Z
LOCATION:Table Tennis Table #3
CONTACT:
SUMMARY:Jonathan Bush VS. Ashwin Unnikrishnan **Dropped from league**
DESCRIPTION:League Name: SAT - Winter Table Tennis Tournament Group 1\nGame
  Type: Regular\nGame Status: Complete\nHome Team: Jonathan Bush\nAway Team
 : Ashwin Unnikrishnan **Dropped from league**\nHome Score: 3\nAway Score: 
 0
END:VEVENT
END:VCALENDAR
