BEGIN:VCALENDAR
VERSION:2.0
PRODID:-//EZFacility.com, Inc.//EZL 2.5.5.28621
BEGIN:VEVENT
UID:16177038@ezleagues.ezfacility.com
DTSTAMP:20260424T044116Z
CREATED:20260424T044116Z
DTSTART:20250117T003000Z
DTEND:20250117T013000Z
LOCATION:SAC Main Court
CONTACT:
SUMMARY:Gamespeed Family (Harrington) VS. Sixers Supreme (Moultrie)
DESCRIPTION:League Name: Winter II Session - 4th/5th Grade Boys\nGame Type:
  Regular\nGame Status: Complete\nHome Team: Gamespeed Family (Harrington)\
 nAway Team: Sixers Supreme (Moultrie)\nHome Score: 27\nAway Score: 23
END:VEVENT
BEGIN:VEVENT
UID:16191615@ezleagues.ezfacility.com
DTSTAMP:20260424T044116Z
CREATED:20260424T044116Z
DTSTART:20250125T013000Z
DTEND:20250125T023000Z
LOCATION:SAC Main Court
CONTACT:
SUMMARY:Gamespeed Family (Harrington) VS. KCBA 4th/5th (Denmon)
DESCRIPTION:League Name: Winter II Session - 4th/5th Grade Boys\nGame Type:
  Regular\nGame Status: Complete\nHome Team: Gamespeed Family (Harrington)\
 nAway Team: KCBA 4th/5th (Denmon)\nHome Score: 27\nAway Score: 4
END:VEVENT
BEGIN:VEVENT
UID:16202723@ezleagues.ezfacility.com
DTSTAMP:20260424T044116Z
CREATED:20260424T044116Z
DTSTART:20250131T233000Z
DTEND:20250201T003000Z
LOCATION:SAC Main Court
CONTACT:
SUMMARY:Gamespeed Family (Harrington) VS. Sixers Supreme (Lee)
DESCRIPTION:League Name: Winter II Session - 4th/5th Grade Boys\nGame Type:
  Regular\nGame Status: Complete\nHome Team: Gamespeed Family (Harrington)\
 nAway Team: Sixers Supreme (Lee)\nHome Score: 28\nAway Score: 29
END:VEVENT
BEGIN:VEVENT
UID:16202724@ezleagues.ezfacility.com
DTSTAMP:20260424T044116Z
CREATED:20260424T044116Z
DTSTART:20250207T013000Z
DTEND:20250207T023000Z
LOCATION:SAC Main Court
CONTACT:
SUMMARY:KCBA 4th/5th (Denmon) VS. Gamespeed Family (Harrington)
DESCRIPTION:League Name: Winter II Session - 4th/5th Grade Boys\nGame Type:
  Regular\nGame Status: Complete\nHome Team: KCBA 4th/5th (Denmon)\nAway Te
 am: Gamespeed Family (Harrington)\nHome Score: 11\nAway Score: 31
END:VEVENT
BEGIN:VEVENT
UID:16202725@ezleagues.ezfacility.com
DTSTAMP:20260424T044116Z
CREATED:20260424T044116Z
DTSTART:20250214T013000Z
DTEND:20250214T023000Z
LOCATION:SAC Main Court
CONTACT:
SUMMARY:Gamespeed Family (Harrington) VS. Kearney Ballers (Holland)
DESCRIPTION:League Name: Winter II Session - 4th/5th Grade Boys\nGame Type:
  Regular\nGame Status: Complete\nHome Team: Gamespeed Family (Harrington)\
 nAway Team: Kearney Ballers (Holland)\nHome Score: 41\nAway Score: 30
END:VEVENT
BEGIN:VEVENT
UID:16202729@ezleagues.ezfacility.com
DTSTAMP:20260424T044116Z
CREATED:20260424T044116Z
DTSTART:20250308T003000Z
DTEND:20250308T013000Z
LOCATION:SAC Main Court
CONTACT:
SUMMARY:Gamespeed Family (Harrington) VS. KCBA 4th/5th (Denmon)
DESCRIPTION:League Name: Winter II Session - 4th/5th Grade Boys\nGame Type:
  Regular\nGame Status: Complete\nHome Team: Gamespeed Family (Harrington)\
 nAway Team: KCBA 4th/5th (Denmon)\nHome Score: 55\nAway Score: 17
END:VEVENT
BEGIN:VEVENT
UID:16202731@ezleagues.ezfacility.com
DTSTAMP:20260424T044116Z
CREATED:20260424T044116Z
DTSTART:20250315T003000Z
DTEND:20250315T013000Z
LOCATION:KCE Fieldhouse
CONTACT:
SUMMARY:Kearney Ballers (Holland) VS. Gamespeed Family (Harrington)
DESCRIPTION:League Name: Winter II Session - 4th/5th Grade Boys\nGame Type:
  Regular\nGame Status: Complete\nHome Team: Kearney Ballers (Holland)\nAwa
 y Team: Gamespeed Family (Harrington)\nHome Score: 15\nAway Score: 35
END:VEVENT
BEGIN:VEVENT
UID:16202732@ezleagues.ezfacility.com
DTSTAMP:20260424T044116Z
CREATED:20260424T044116Z
DTSTART:20250321T003000Z
DTEND:20250321T013000Z
LOCATION:SAC Main Court
CONTACT:
SUMMARY:Gamespeed Family (Harrington) VS. Kearney Ballers (Holland)
DESCRIPTION:League Name: Winter II Session - 4th/5th Grade Boys\nGame Type:
  Regular\nGame Status: Complete\nHome Team: Gamespeed Family (Harrington)\
 nAway Team: Kearney Ballers (Holland)\nHome Score: 40\nAway Score: 24
END:VEVENT
END:VCALENDAR
