BEGIN:VCALENDAR
VERSION:2.0
PRODID:-//EZFacility.com, Inc.//EZL 2.5.5.28621
BEGIN:VEVENT
UID:16191618@ezleagues.ezfacility.com
DTSTAMP:20260426T034840Z
CREATED:20260426T034840Z
DTSTART:20250123T023000Z
DTEND:20250123T033000Z
LOCATION:SAC Main Court
CONTACT:
SUMMARY:Spartans (Funches) VS. ABA Supreme (Pendergist)
DESCRIPTION:League Name: Winter II Session - 6th Grade Boys (Bronze)\nGame 
 Type: Regular\nGame Status: Complete\nHome Team: Spartans (Funches)\nAway 
 Team: ABA Supreme (Pendergist)\nHome Score: 52\nAway Score: 11
END:VEVENT
BEGIN:VEVENT
UID:16202754@ezleagues.ezfacility.com
DTSTAMP:20260426T034840Z
CREATED:20260426T034840Z
DTSTART:20250130T013000Z
DTEND:20250130T023000Z
LOCATION:SAC Main Court
CONTACT:
SUMMARY:Mentality Silver (Relli) VS. ABA Supreme (Pendergist)
DESCRIPTION:League Name: Winter II Session - 6th Grade Boys (Bronze)\nGame 
 Type: Regular\nGame Status: Complete\nHome Team: Mentality Silver (Relli)\
 nAway Team: ABA Supreme (Pendergist)\nHome Score: 47\nAway Score: 14
END:VEVENT
BEGIN:VEVENT
UID:16202758@ezleagues.ezfacility.com
DTSTAMP:20260426T034840Z
CREATED:20260426T034840Z
DTSTART:20250206T233000Z
DTEND:20250207T003000Z
LOCATION:SAC Main Court
CONTACT:
SUMMARY:ABA Supreme (Pendergist) VS. KC East Lions (Gomer)
DESCRIPTION:League Name: Winter II Session - 6th Grade Boys (Bronze)\nGame 
 Type: Regular\nGame Status: Complete\nHome Team: ABA Supreme (Pendergist)\
 nAway Team: KC East Lions (Gomer)\nHome Score: 32\nAway Score: 46
END:VEVENT
BEGIN:VEVENT
UID:16202759@ezleagues.ezfacility.com
DTSTAMP:20260426T034840Z
CREATED:20260426T034840Z
DTSTART:20250213T003000Z
DTEND:20250213T013000Z
LOCATION:SAC Main Court
CONTACT:
SUMMARY:ABA Supreme (Pendergist) VS. RDC Patriot Club (Whitford)
DESCRIPTION:League Name: Winter II Session - 6th Grade Boys (Bronze)\nGame 
 Type: Regular\nGame Status: Complete\nHome Team: ABA Supreme (Pendergist)\
 nAway Team: RDC Patriot Club (Whitford)\nHome Score: 17\nAway Score: 40
END:VEVENT
BEGIN:VEVENT
UID:16202761@ezleagues.ezfacility.com
DTSTAMP:20260426T034840Z
CREATED:20260426T034840Z
DTSTART:20250220T013000Z
DTEND:20250220T023000Z
LOCATION:SAC Main Court
CONTACT:
SUMMARY:RDC Patriot Club (Whitford) VS. ABA Supreme (Pendergist)
DESCRIPTION:League Name: Winter II Session - 6th Grade Boys (Bronze)\nGame 
 Type: Regular\nGame Status: Complete\nHome Team: RDC Patriot Club (Whitfor
 d)\nAway Team: ABA Supreme (Pendergist)\nHome Score: 25\nAway Score: 26
END:VEVENT
BEGIN:VEVENT
UID:16202767@ezleagues.ezfacility.com
DTSTAMP:20260426T034840Z
CREATED:20260426T034840Z
DTSTART:20250307T233000Z
DTEND:20250308T003000Z
LOCATION:SAC Main Court
CONTACT:
SUMMARY:ABA Supreme (Pendergist) VS. KC East Lions (Gomer)
DESCRIPTION:League Name: Winter II Session - 6th Grade Boys (Bronze)\nGame 
 Type: Regular\nGame Status: Complete\nHome Team: ABA Supreme (Pendergist)\
 nAway Team: KC East Lions (Gomer)\nHome Score: 42\nAway Score: 56
END:VEVENT
BEGIN:VEVENT
UID:16202772@ezleagues.ezfacility.com
DTSTAMP:20260426T034840Z
CREATED:20260426T034840Z
DTSTART:20250314T013000Z
DTEND:20250314T023000Z
LOCATION:SAC Main Court
CONTACT:
SUMMARY:Mentality Silver (Relli) VS. ABA Supreme (Pendergist)
DESCRIPTION:League Name: Winter II Session - 6th Grade Boys (Bronze)\nGame 
 Type: Regular\nGame Status: Complete\nHome Team: Mentality Silver (Relli)\
 nAway Team: ABA Supreme (Pendergist)\nHome Score: 53\nAway Score: 39
END:VEVENT
BEGIN:VEVENT
UID:16202773@ezleagues.ezfacility.com
DTSTAMP:20260426T034840Z
CREATED:20260426T034840Z
DTSTART:20250320T223000Z
DTEND:20250320T233000Z
LOCATION:SAC Main Court
CONTACT:
SUMMARY:ABA Supreme (Pendergist) VS. Spartans (Funches)
DESCRIPTION:League Name: Winter II Session - 6th Grade Boys (Bronze)\nGame 
 Type: Regular\nGame Status: Complete\nHome Team: ABA Supreme (Pendergist)\
 nAway Team: Spartans (Funches)\nHome Score: 16\nAway Score: 34
END:VEVENT
END:VCALENDAR
