BEGIN:VCALENDAR
VERSION:2.0
PRODID:-//EZFacility.com, Inc.//EZL 2.5.5.28621
BEGIN:VEVENT
UID:16176157@ezleagues.ezfacility.com
DTSTAMP:20260426T033849Z
CREATED:20260426T033849Z
DTSTART:20250226T084500Z
DTEND:20250226T092500Z
LOCATION:003 San Siro
CONTACT:Corey 
SUMMARY:Garage FC VS. The Fellas
DESCRIPTION:League Name: SUMMER LEAGUES 24.25 Wednesday Men's 5s FINALS\nGa
 me Type: Postseason\nGame Status: Complete\nHome Team: Garage FC\nAway Tea
 m: The Fellas\nHome Score: 8\nAway Score: 2
END:VEVENT
END:VCALENDAR
