BEGIN:VCALENDAR
VERSION:2.0
PRODID:-//EZFacility.com, Inc.//EZL 2.5.5.28621
BEGIN:VEVENT
UID:16177039@ezleagues.ezfacility.com
DTSTAMP:20260426T035043Z
CREATED:20260426T035043Z
DTSTART:20250117T233000Z
DTEND:20250118T003000Z
LOCATION:SAC Main Court
CONTACT:
SUMMARY:KCBA 4th/5th (Denmon) VS. Sixers Supreme (Lee)
DESCRIPTION:League Name: Winter II Session - 4th/5th Grade Boys\nGame Type:
  Regular\nGame Status: Complete\nHome Team: KCBA 4th/5th (Denmon)\nAway Te
 am: Sixers Supreme (Lee)\nHome Score: 13\nAway Score: 39
END:VEVENT
BEGIN:VEVENT
UID:16191614@ezleagues.ezfacility.com
DTSTAMP:20260426T035043Z
CREATED:20260426T035043Z
DTSTART:20250123T003000Z
DTEND:20250123T013000Z
LOCATION:SAC Main Court
CONTACT:
SUMMARY:Kearney Ballers (Holland) VS. Sixers Supreme (Lee)
DESCRIPTION:League Name: Winter II Session - 4th/5th Grade Boys\nGame Type:
  Regular\nGame Status: Complete\nHome Team: Kearney Ballers (Holland)\nAwa
 y Team: Sixers Supreme (Lee)\nHome Score: 19\nAway Score: 34
END:VEVENT
BEGIN:VEVENT
UID:16202723@ezleagues.ezfacility.com
DTSTAMP:20260426T035043Z
CREATED:20260426T035043Z
DTSTART:20250131T233000Z
DTEND:20250201T003000Z
LOCATION:SAC Main Court
CONTACT:
SUMMARY:Gamespeed Family (Harrington) VS. Sixers Supreme (Lee)
DESCRIPTION:League Name: Winter II Session - 4th/5th Grade Boys\nGame Type:
  Regular\nGame Status: Complete\nHome Team: Gamespeed Family (Harrington)\
 nAway Team: Sixers Supreme (Lee)\nHome Score: 28\nAway Score: 29
END:VEVENT
END:VCALENDAR
