BEGIN:VCALENDAR
VERSION:2.0
PRODID:-//EZFacility.com, Inc.//EZL 2.5.5.28621
BEGIN:VEVENT
UID:16177931@ezleagues.ezfacility.com
DTSTAMP:20260426T033812Z
CREATED:20260426T033812Z
DTSTART:20250117T234500Z
DTEND:20250118T004500Z
LOCATION:Court 1 
CONTACT:
SUMMARY:Coach Jessica VS. Coach Madelyn
DESCRIPTION:League Name: Pre Prep\nGame Type: Regular\nGame Status: Complet
 e\nHome Team: Coach Jessica\nAway Team: Coach Madelyn\nHome Score: 0\nAway
  Score: 2
END:VEVENT
BEGIN:VEVENT
UID:16177933@ezleagues.ezfacility.com
DTSTAMP:20260426T033812Z
CREATED:20260426T033812Z
DTSTART:20250124T234500Z
DTEND:20250125T004500Z
LOCATION:Court 1 
CONTACT:
SUMMARY:Coach Madelyn VS. Coach Caroline
DESCRIPTION:League Name: Pre Prep\nGame Type: Regular\nGame Status: Complet
 e\nHome Team: Coach Madelyn\nAway Team: Coach Caroline\nHome Score: 2\nAwa
 y Score: 0
END:VEVENT
BEGIN:VEVENT
UID:16177938@ezleagues.ezfacility.com
DTSTAMP:20260426T033812Z
CREATED:20260426T033812Z
DTSTART:20250201T004500Z
DTEND:20250201T014500Z
LOCATION:Court 1 
CONTACT:
SUMMARY:Coach Jessica VS. Coach Madelyn
DESCRIPTION:League Name: Pre Prep\nGame Type: Regular\nGame Status: Complet
 e\nHome Team: Coach Jessica\nAway Team: Coach Madelyn\nHome Score: 0\nAway
  Score: 2
END:VEVENT
BEGIN:VEVENT
UID:16177939@ezleagues.ezfacility.com
DTSTAMP:20260426T033812Z
CREATED:20260426T033812Z
DTSTART:20250207T234500Z
DTEND:20250208T004500Z
LOCATION:Court 1 
CONTACT:
SUMMARY:Coach Jessica VS. Coach Madelyn
DESCRIPTION:League Name: Pre Prep\nGame Type: Regular\nGame Status: Complet
 e\nHome Team: Coach Jessica\nAway Team: Coach Madelyn\nHome Score: 0\nAway
  Score: 2
END:VEVENT
BEGIN:VEVENT
UID:16177940@ezleagues.ezfacility.com
DTSTAMP:20260426T033812Z
CREATED:20260426T033812Z
DTSTART:20250208T004500Z
DTEND:20250208T014500Z
LOCATION:Court 1 
CONTACT:
SUMMARY:Coach Madelyn VS. Coach Caroline
DESCRIPTION:League Name: Pre Prep\nGame Type: Regular\nGame Status: Complet
 e\nHome Team: Coach Madelyn\nAway Team: Coach Caroline\nHome Score: 0\nAwa
 y Score: 2
END:VEVENT
BEGIN:VEVENT
UID:16177942@ezleagues.ezfacility.com
DTSTAMP:20260426T033812Z
CREATED:20260426T033812Z
DTSTART:20250215T004500Z
DTEND:20250215T014500Z
LOCATION:Court 1 
CONTACT:
SUMMARY:Coach Madelyn VS. Coach Caroline
DESCRIPTION:League Name: Pre Prep\nGame Type: Regular\nGame Status: Complet
 e\nHome Team: Coach Madelyn\nAway Team: Coach Caroline\nHome Score: 0\nAwa
 y Score: 2
END:VEVENT
BEGIN:VEVENT
UID:16177944@ezleagues.ezfacility.com
DTSTAMP:20260426T033812Z
CREATED:20260426T033812Z
DTSTART:20250222T004500Z
DTEND:20250222T014500Z
LOCATION:Court 1 
CONTACT:
SUMMARY:Coach Jessica VS. Coach Madelyn
DESCRIPTION:League Name: Pre Prep\nGame Type: Regular\nGame Status: Complet
 e\nHome Team: Coach Jessica\nAway Team: Coach Madelyn\nHome Score: 0\nAway
  Score: 2
END:VEVENT
END:VCALENDAR
