BEGIN:VCALENDAR
VERSION:2.0
PRODID:-//EZFacility.com, Inc.//EZL 2.5.5.28621
BEGIN:VEVENT
UID:16181051@ezleagues.ezfacility.com
DTSTAMP:20260420T053839Z
CREATED:20260420T053839Z
DTSTART:20250119T140000Z
DTEND:20250119T150000Z
LOCATION:Masia 1
CONTACT:
SUMMARY:United White VS. Ellicott City 2013 Yellow
DESCRIPTION:League Name: 2013/2012 Boys 7v7 Turf Silver 2025\nGame Type: Re
 gular\nGame Status: Complete\nHome Team: United White\nAway Team: Ellicott
  City 2013 Yellow\nHome Score: 7\nAway Score: 4
END:VEVENT
BEGIN:VEVENT
UID:16181053@ezleagues.ezfacility.com
DTSTAMP:20260420T053839Z
CREATED:20260420T053839Z
DTSTART:20250126T130000Z
DTEND:20250126T140000Z
LOCATION:Masia 1
CONTACT:
SUMMARY:United White VS. UES
DESCRIPTION:League Name: 2013/2012 Boys 7v7 Turf Silver 2025\nGame Type: Re
 gular\nGame Status: Complete\nHome Team: United White\nAway Team: UES\nHom
 e Score: 6\nAway Score: 14
END:VEVENT
BEGIN:VEVENT
UID:16181055@ezleagues.ezfacility.com
DTSTAMP:20260420T053839Z
CREATED:20260420T053839Z
DTSTART:20250202T190000Z
DTEND:20250202T200000Z
LOCATION:Masia 1
CONTACT:
SUMMARY:Arundel SA Strikers VS. United White
DESCRIPTION:League Name: 2013/2012 Boys 7v7 Turf Silver 2025\nGame Type: Re
 gular\nGame Status: Complete\nHome Team: Arundel SA Strikers\nAway Team: U
 nited White\nHome Score: 11\nAway Score: 5
END:VEVENT
BEGIN:VEVENT
UID:16181059@ezleagues.ezfacility.com
DTSTAMP:20260420T053839Z
CREATED:20260420T053839Z
DTSTART:20250209T120000Z
DTEND:20250209T130000Z
LOCATION:Masia 1
CONTACT:
SUMMARY:United White VS. CCSC Dragons
DESCRIPTION:League Name: 2013/2012 Boys 7v7 Turf Silver 2025\nGame Type: Re
 gular\nGame Status: Complete\nHome Team: United White\nAway Team: CCSC Dra
 gons\nHome Score: 10\nAway Score: 2
END:VEVENT
BEGIN:VEVENT
UID:16181063@ezleagues.ezfacility.com
DTSTAMP:20260420T053839Z
CREATED:20260420T053839Z
DTSTART:20250216T150000Z
DTEND:20250216T160000Z
LOCATION:Boca 1
CONTACT:
SUMMARY:United White VS. Total SACcer
DESCRIPTION:League Name: 2013/2012 Boys 7v7 Turf Silver 2025\nGame Type: Re
 gular\nGame Status: Complete\nHome Team: United White\nAway Team: Total SA
 Ccer\nHome Score: 0\nAway Score: 8
END:VEVENT
BEGIN:VEVENT
UID:16181066@ezleagues.ezfacility.com
DTSTAMP:20260420T053839Z
CREATED:20260420T053839Z
DTSTART:20250223T120000Z
DTEND:20250223T130000Z
LOCATION:Boca 1
CONTACT:
SUMMARY:Ellicott City 2013 Yellow VS. United White
DESCRIPTION:League Name: 2013/2012 Boys 7v7 Turf Silver 2025\nGame Type: Re
 gular\nGame Status: Complete\nHome Team: Ellicott City 2013 Yellow\nAway T
 eam: United White\nHome Score: 3\nAway Score: 11
END:VEVENT
BEGIN:VEVENT
UID:16181068@ezleagues.ezfacility.com
DTSTAMP:20260420T053839Z
CREATED:20260420T053839Z
DTSTART:20250302T120000Z
DTEND:20250302T130000Z
LOCATION:Boca 1
CONTACT:
SUMMARY:UES VS. United White
DESCRIPTION:League Name: 2013/2012 Boys 7v7 Turf Silver 2025\nGame Type: Re
 gular\nGame Status: Complete\nHome Team: UES\nAway Team: United White\nHom
 e Score: 10\nAway Score: 7
END:VEVENT
END:VCALENDAR
