BEGIN:VCALENDAR
VERSION:2.0
PRODID:-//EZFacility.com, Inc.//EZL 2.5.5.28621
BEGIN:VEVENT
UID:16178672@ezleagues.ezfacility.com
DTSTAMP:20260420T065521Z
CREATED:20260420T065521Z
DTSTART:20250120T000000Z
DTEND:20250120T010000Z
LOCATION:Field 4
CONTACT:Juby
SUMMARY:GSA Boys U15 Orange VS. Hudson United 2010 Boys White TJ
DESCRIPTION:League Name: High School Boys (2006-10) Indoor session 2 2025 D
 2\nGame Type: Regular\nGame Status: Complete\nHome Team: GSA Boys U15 Oran
 ge\nAway Team: Hudson United 2010 Boys White TJ\nHome Score: 2\nAway Score
 : 1
END:VEVENT
BEGIN:VEVENT
UID:16190230@ezleagues.ezfacility.com
DTSTAMP:20260420T065521Z
CREATED:20260420T065521Z
DTSTART:20250127T020000Z
DTEND:20250127T030000Z
LOCATION:Field 2
CONTACT:Wilson
SUMMARY:GSA Boys U15 Orange VS. Falcons - White
DESCRIPTION:League Name: High School Boys (2006-10) Indoor session 2 2025 D
 2\nGame Type: Regular\nGame Status: Complete\nHome Team: GSA Boys U15 Oran
 ge\nAway Team: Falcons - White\nHome Score: 0\nAway Score: 3
END:VEVENT
BEGIN:VEVENT
UID:16192639@ezleagues.ezfacility.com
DTSTAMP:20260420T065521Z
CREATED:20260420T065521Z
DTSTART:20250203T014000Z
DTEND:20250203T024000Z
LOCATION:Field 3
CONTACT:Wilson
SUMMARY:GSA Boys U15 Orange VS. Misfit Boys
DESCRIPTION:League Name: High School Boys (2006-10) Indoor session 2 2025 D
 2\nGame Type: Regular\nGame Status: Complete\nHome Team: GSA Boys U15 Oran
 ge\nAway Team: Misfit Boys\nHome Score: 3\nAway Score: 14
END:VEVENT
BEGIN:VEVENT
UID:16183985@ezleagues.ezfacility.com
DTSTAMP:20260420T065521Z
CREATED:20260420T065521Z
DTSTART:20250209T202000Z
DTEND:20250209T212000Z
LOCATION:Field 1
CONTACT:Mammana
SUMMARY:GSA Boys U15 Orange VS. Southeast
DESCRIPTION:League Name: High School Boys (2006-10) Indoor session 2 2025 D
 2\nGame Type: Regular\nGame Status: Complete\nHome Team: GSA Boys U15 Oran
 ge\nAway Team: Southeast\nHome Score: 6\nAway Score: 0
END:VEVENT
BEGIN:VEVENT
UID:16194110@ezleagues.ezfacility.com
DTSTAMP:20260420T065521Z
CREATED:20260420T065521Z
DTSTART:20250217T000000Z
DTEND:20250217T010000Z
LOCATION:Field 4
CONTACT:Juby
SUMMARY:Crestwood 1 VS. GSA Boys U15 Orange
DESCRIPTION:League Name: High School Boys (2006-10) Indoor session 2 2025 D
 2\nGame Type: Regular\nGame Status: Complete\nHome Team: Crestwood 1\nAway
  Team: GSA Boys U15 Orange\nHome Score: 1\nAway Score: 4
END:VEVENT
BEGIN:VEVENT
UID:16194521@ezleagues.ezfacility.com
DTSTAMP:20260420T065521Z
CREATED:20260420T065521Z
DTSTART:20250224T010000Z
DTEND:20250224T020000Z
LOCATION:Field 2
CONTACT:Svilar
SUMMARY:GSA Boys U15 Orange VS. Hudson United 2010 Boys White TJ
DESCRIPTION:League Name: High School Boys (2006-10) Indoor session 2 2025 D
 2\nGame Type: Regular\nGame Status: Complete\nHome Team: GSA Boys U15 Oran
 ge\nAway Team: Hudson United 2010 Boys White TJ\nHome Score: 2\nAway Score
 : 1
END:VEVENT
BEGIN:VEVENT
UID:16196165@ezleagues.ezfacility.com
DTSTAMP:20260420T065521Z
CREATED:20260420T065521Z
DTSTART:20250303T000000Z
DTEND:20250303T010000Z
LOCATION:Field 4
CONTACT:Pollock
SUMMARY:GSA Boys U15 Orange VS. Falcons - White
DESCRIPTION:League Name: High School Boys (2006-10) Indoor session 2 2025 D
 2\nGame Type: Regular\nGame Status: Complete\nHome Team: GSA Boys U15 Oran
 ge\nAway Team: Falcons - White\nHome Score: 2\nAway Score: 6
END:VEVENT
BEGIN:VEVENT
UID:16184020@ezleagues.ezfacility.com
DTSTAMP:20260420T065521Z
CREATED:20260420T065521Z
DTSTART:20250316T192000Z
DTEND:20250316T202000Z
LOCATION:Field 1
CONTACT:Hall
SUMMARY:Southeast VS. GSA Boys U15 Orange
DESCRIPTION:League Name: High School Boys (2006-10) Indoor session 2 2025 D
 2\nGame Type: Regular\nGame Status: Complete\nHome Team: Southeast\nAway T
 eam: GSA Boys U15 Orange\nHome Score: 0\nAway Score: 3
END:VEVENT
BEGIN:VEVENT
UID:16200275@ezleagues.ezfacility.com
DTSTAMP:20260420T065521Z
CREATED:20260420T065521Z
DTSTART:20250330T204000Z
DTEND:20250330T214000Z
LOCATION:Field 3
CONTACT:Chinenyanga
SUMMARY:Hudson United 2010 Boys Blue SK Knapp VS. GSA Boys U15 Orange
DESCRIPTION:League Name: High School Boys (2006-10) Indoor session 2 2025 D
 2\nGame Type: Regular\nGame Status: Complete\nHome Team: Hudson United 201
 0 Boys Blue SK Knapp\nAway Team: GSA Boys U15 Orange\nHome Score: 10\nAway
  Score: 3
END:VEVENT
BEGIN:VEVENT
UID:16184022@ezleagues.ezfacility.com
DTSTAMP:20260420T065521Z
CREATED:20260420T065521Z
DTSTART:20250406T192000Z
DTEND:20250406T202000Z
LOCATION:Field 1
CONTACT:Hall
SUMMARY:Southeast VS. GSA Boys U15 Orange
DESCRIPTION:League Name: High School Boys (2006-10) Indoor session 2 2025 D
 2\nGame Type: Regular\nGame Status: Complete\nHome Team: Southeast\nAway T
 eam: GSA Boys U15 Orange\nHome Score: 4\nAway Score: 8
END:VEVENT
END:VCALENDAR
