BEGIN:VCALENDAR
VERSION:2.0
PRODID:-//EZFacility.com, Inc.//EZL 2.5.5.28621
BEGIN:VEVENT
UID:16182254@ezleagues.ezfacility.com
DTSTAMP:20260424T044214Z
CREATED:20260424T044214Z
DTSTART:20250126T190000Z
DTEND:20250126T200000Z
LOCATION:Masia 1
CONTACT:
SUMMARY:One Nation VS. Freedom 2013
DESCRIPTION:League Name: 2014/2013 Girls 7v7 Turf 2025\nGame Type: Regular\
 nGame Status: Complete\nHome Team: One Nation\nAway Team: Freedom 2013\nHo
 me Score: 7\nAway Score: 4
END:VEVENT
BEGIN:VEVENT
UID:16182259@ezleagues.ezfacility.com
DTSTAMP:20260424T044214Z
CREATED:20260424T044214Z
DTSTART:20250208T190000Z
DTEND:20250208T200000Z
LOCATION:Masia 1
CONTACT:
SUMMARY:2014 Pre-Academy VS. Freedom 2013
DESCRIPTION:League Name: 2014/2013 Girls 7v7 Turf 2025\nGame Type: Regular\
 nGame Status: Complete\nHome Team: 2014 Pre-Academy\nAway Team: Freedom 20
 13\nHome Score: 13\nAway Score: 0
END:VEVENT
BEGIN:VEVENT
UID:16182260@ezleagues.ezfacility.com
DTSTAMP:20260424T044214Z
CREATED:20260424T044214Z
DTSTART:20250209T140000Z
DTEND:20250209T150000Z
LOCATION:Boca 1
CONTACT:
SUMMARY:2014 Elite VS. Freedom 2013
DESCRIPTION:League Name: 2014/2013 Girls 7v7 Turf 2025\nGame Type: Regular\
 nGame Status: Complete\nHome Team: 2014 Elite\nAway Team: Freedom 2013\nHo
 me Score: 9\nAway Score: 3
END:VEVENT
BEGIN:VEVENT
UID:16183233@ezleagues.ezfacility.com
DTSTAMP:20260424T044214Z
CREATED:20260424T044214Z
DTSTART:20250215T130000Z
DTEND:20250215T140000Z
LOCATION:Boca 1
CONTACT:
SUMMARY:Freedom 2013 VS. 2014 Premier Blue
DESCRIPTION:League Name: 2014/2013 Girls 7v7 Turf 2025\nGame Type: Regular\
 nGame Status: Complete\nHome Team: Freedom 2013\nAway Team: 2014 Premier B
 lue\nHome Score: 3\nAway Score: 5
END:VEVENT
BEGIN:VEVENT
UID:16185433@ezleagues.ezfacility.com
DTSTAMP:20260424T044214Z
CREATED:20260424T044214Z
DTSTART:20250222T230000Z
DTEND:20250223T000000Z
LOCATION:Masia 1
CONTACT:
SUMMARY:Freedom 2013 VS. 2014 Pre-Academy
DESCRIPTION:League Name: 2014/2013 Girls 7v7 Turf 2025\nGame Type: Regular\
 nGame Status: Complete\nHome Team: Freedom 2013\nAway Team: 2014 Pre-Acade
 my\nHome Score: 4\nAway Score: 5
END:VEVENT
BEGIN:VEVENT
UID:16182268@ezleagues.ezfacility.com
DTSTAMP:20260424T044214Z
CREATED:20260424T044214Z
DTSTART:20250223T130000Z
DTEND:20250223T140000Z
LOCATION:Masia 1
CONTACT:
SUMMARY:Freedom 2013 VS. 2014 Flash
DESCRIPTION:League Name: 2014/2013 Girls 7v7 Turf 2025\nGame Type: Regular\
 nGame Status: Complete\nHome Team: Freedom 2013\nAway Team: 2014 Flash\nHo
 me Score: 3\nAway Score: 1
END:VEVENT
BEGIN:VEVENT
UID:16182273@ezleagues.ezfacility.com
DTSTAMP:20260424T044214Z
CREATED:20260424T044214Z
DTSTART:20250302T160000Z
DTEND:20250302T170000Z
LOCATION:Boca 1
CONTACT:
SUMMARY:Freedom 2013 VS. Dynamite
DESCRIPTION:League Name: 2014/2013 Girls 7v7 Turf 2025\nGame Type: Regular\
 nGame Status: Complete\nHome Team: Freedom 2013\nAway Team: Dynamite\nHome
  Score: 3\nAway Score: 8
END:VEVENT
END:VCALENDAR
