BEGIN:VCALENDAR
VERSION:2.0
PRODID:-//EZFacility.com, Inc.//EZL 2.5.5.28621
BEGIN:VEVENT
UID:16178750@ezleagues.ezfacility.com
DTSTAMP:20260426T034058Z
CREATED:20260426T034058Z
DTSTART:20250116T043000Z
DTEND:20250116T052000Z
LOCATION:Field 3
CONTACT:
SUMMARY:Milan FC VS. Siemano SK
DESCRIPTION:League Name: Adult Soccer Session 4-A League\nGame Type: Regula
 r\nGame Status: Complete\nHome Team: Milan FC\nAway Team: Siemano SK\nHome
  Score: 3\nAway Score: 6
END:VEVENT
BEGIN:VEVENT
UID:16165925@ezleagues.ezfacility.com
DTSTAMP:20260426T034058Z
CREATED:20260426T034058Z
DTSTART:20250123T025000Z
DTEND:20250123T034000Z
LOCATION:Field 2
CONTACT:
SUMMARY:Milan FC VS. The A Team
DESCRIPTION:League Name: Adult Soccer Session 4-A League\nGame Type: Regula
 r\nGame Status: Complete\nHome Team: Milan FC\nAway Team: The A Team\nHome
  Score: 10\nAway Score: 3
END:VEVENT
BEGIN:VEVENT
UID:16193111@ezleagues.ezfacility.com
DTSTAMP:20260426T034058Z
CREATED:20260426T034058Z
DTSTART:20250130T025000Z
DTEND:20250130T034000Z
LOCATION:Field 3
CONTACT:
SUMMARY:Milan FC VS. Beginners luck
DESCRIPTION:League Name: Adult Soccer Session 4-A League\nGame Type: Regula
 r\nGame Status: Complete\nHome Team: Milan FC\nAway Team: Beginners luck\n
 Home Score: 3\nAway Score: 3
END:VEVENT
BEGIN:VEVENT
UID:16165931@ezleagues.ezfacility.com
DTSTAMP:20260426T034058Z
CREATED:20260426T034058Z
DTSTART:20250206T025000Z
DTEND:20250206T034000Z
LOCATION:Field 3
CONTACT:
SUMMARY:Milan FC VS. Jarlaths
DESCRIPTION:League Name: Adult Soccer Session 4-A League\nGame Type: Regula
 r\nGame Status: Complete\nHome Team: Milan FC\nAway Team: Jarlaths\nHome S
 core: 5\nAway Score: 3
END:VEVENT
BEGIN:VEVENT
UID:16165936@ezleagues.ezfacility.com
DTSTAMP:20260426T034058Z
CREATED:20260426T034058Z
DTSTART:20250213T034000Z
DTEND:20250213T043000Z
LOCATION:Field 2
CONTACT:
SUMMARY:Chicago Warriors VS. Milan FC
DESCRIPTION:League Name: Adult Soccer Session 4-A League\nGame Type: Regula
 r\nGame Status: Complete\nHome Team: Chicago Warriors\nAway Team: Milan FC
 \nHome Score: 5\nAway Score: 4
END:VEVENT
BEGIN:VEVENT
UID:16192941@ezleagues.ezfacility.com
DTSTAMP:20260426T034058Z
CREATED:20260426T034058Z
DTSTART:20250220T034000Z
DTEND:20250220T043000Z
LOCATION:Field 3
CONTACT:
SUMMARY:Milan FC VS. Maradona's Nostrils FC
DESCRIPTION:League Name: Adult Soccer Session 4-A League\nGame Type: Regula
 r\nGame Status: Complete\nHome Team: Milan FC\nAway Team: Maradona's Nostr
 ils FC\nHome Score: 10\nAway Score: 3
END:VEVENT
BEGIN:VEVENT
UID:16193352@ezleagues.ezfacility.com
DTSTAMP:20260426T034058Z
CREATED:20260426T034058Z
DTSTART:20250221T030000Z
DTEND:20250221T035000Z
LOCATION:Field 2
CONTACT:
SUMMARY:Palistino VS. Milan FC
DESCRIPTION:League Name: Adult Soccer Session 4-A League\nGame Type: Regula
 r\nGame Status: Complete\nHome Team: Palistino\nAway Team: Milan FC\nHome 
 Score: 7\nAway Score: 4
END:VEVENT
BEGIN:VEVENT
UID:16234042@ezleagues.ezfacility.com
DTSTAMP:20260426T034058Z
CREATED:20260426T034058Z
DTSTART:20250227T025000Z
DTEND:20250227T034000Z
LOCATION:Field 2
CONTACT:
SUMMARY:Jarlaths VS. Milan FC
DESCRIPTION:League Name: Adult Soccer Session 4-A League\nGame Type: Postse
 ason\nGame Status: Pending\nHome Team: Jarlaths\nAway Team: Milan FC\n
END:VEVENT
END:VCALENDAR
