BEGIN:VCALENDAR
VERSION:2.0
PRODID:-//EZFacility.com, Inc.//EZL 2.5.5.28621
BEGIN:VEVENT
UID:16184283@ezleagues.ezfacility.com
DTSTAMP:20260420T193330Z
CREATED:20260420T193330Z
DTSTART:20250119T130000Z
DTEND:20250119T140000Z
LOCATION:Navy
CONTACT:
SUMMARY:Star Hill Red VS. The Grinders
DESCRIPTION:League Name: Junior AFC 11U Flag Football (Born in 2013,14,15) 
 S2\nGame Type: Regular\nGame Status: Complete\nHome Team: Star Hill Red\nA
 way Team: The Grinders\nHome Score: 27\nAway Score: 32
END:VEVENT
BEGIN:VEVENT
UID:16197295@ezleagues.ezfacility.com
DTSTAMP:20260420T193330Z
CREATED:20260420T193330Z
DTSTART:20250126T130000Z
DTEND:20250126T140000Z
LOCATION:Navy
CONTACT:
SUMMARY:South Windsor Panthers VS. Star Hill Red
DESCRIPTION:League Name: Junior AFC 11U Flag Football (Born in 2013,14,15) 
 S2\nGame Type: Regular\nGame Status: Complete\nHome Team: South Windsor Pa
 nthers\nAway Team: Star Hill Red\nHome Score: 36\nAway Score: 26
END:VEVENT
BEGIN:VEVENT
UID:16184291@ezleagues.ezfacility.com
DTSTAMP:20260420T193330Z
CREATED:20260420T193330Z
DTSTART:20250202T150000Z
DTEND:20250202T160000Z
LOCATION:Navy
CONTACT:
SUMMARY:Star Hill Red VS. Tolland Eagles
DESCRIPTION:League Name: Junior AFC 11U Flag Football (Born in 2013,14,15) 
 S2\nGame Type: Regular\nGame Status: Complete\nHome Team: Star Hill Red\nA
 way Team: Tolland Eagles\nHome Score: 34\nAway Score: 40
END:VEVENT
BEGIN:VEVENT
UID:16184300@ezleagues.ezfacility.com
DTSTAMP:20260420T193330Z
CREATED:20260420T193330Z
DTSTART:20250223T140000Z
DTEND:20250223T150000Z
LOCATION:Navy
CONTACT:
SUMMARY:Star Hill Red VS. Tolland Panthers
DESCRIPTION:League Name: Junior AFC 11U Flag Football (Born in 2013,14,15) 
 S2\nGame Type: Regular\nGame Status: Complete\nHome Team: Star Hill Red\nA
 way Team: Tolland Panthers\nHome Score: 20\nAway Score: 38
END:VEVENT
BEGIN:VEVENT
UID:16184293@ezleagues.ezfacility.com
DTSTAMP:20260420T193330Z
CREATED:20260420T193330Z
DTSTART:20250302T150000Z
DTEND:20250302T160000Z
LOCATION:Navy
CONTACT:
SUMMARY:Star Hill Red VS. Wildcat flag football
DESCRIPTION:League Name: Junior AFC 11U Flag Football (Born in 2013,14,15) 
 S2\nGame Type: Regular\nGame Status: Complete\nHome Team: Star Hill Red\nA
 way Team: Wildcat flag football\nHome Score: 56\nAway Score: 38
END:VEVENT
BEGIN:VEVENT
UID:16277017@ezleagues.ezfacility.com
DTSTAMP:20260420T193330Z
CREATED:20260420T193330Z
DTSTART:20250309T110000Z
DTEND:20250309T120000Z
LOCATION:Navy
CONTACT:
SUMMARY:Star Hill Red VS. Wildcat flag football
DESCRIPTION:League Name: Junior AFC 11U Flag Football (Born in 2013,14,15) 
 S2\nGame Type: Regular\nGame Status: Complete\nHome Team: Star Hill Red\nA
 way Team: Wildcat flag football\nHome Score: 36\nAway Score: 48
END:VEVENT
END:VCALENDAR
