BEGIN:VCALENDAR
VERSION:2.0
PRODID:-//EZFacility.com, Inc.//EZL 2.5.5.28621
BEGIN:VEVENT
UID:16182451@ezleagues.ezfacility.com
DTSTAMP:20260425T234348Z
CREATED:20260425T234348Z
DTSTART:20250120T014500Z
DTEND:20250120T022700Z
LOCATION:7v7 Field #1
CONTACT:
SUMMARY:Code Blue VS. 2nd String All-Stars
DESCRIPTION:League Name: 2025 Winter Soccer Session 2 Adult Coed "B" Divisi
 on\nGame Type: Regular\nGame Status: Complete\nHome Team: Code Blue\nAway 
 Team: 2nd String All-Stars\nHome Score: 0\nAway Score: 8
END:VEVENT
BEGIN:VEVENT
UID:16182456@ezleagues.ezfacility.com
DTSTAMP:20260425T234348Z
CREATED:20260425T234348Z
DTSTART:20250127T014500Z
DTEND:20250127T022700Z
LOCATION:7v7 Field #4
CONTACT:Espinoza
SUMMARY:Big green VS. 2nd String All-Stars
DESCRIPTION:League Name: 2025 Winter Soccer Session 2 Adult Coed "B" Divisi
 on\nGame Type: Regular\nGame Status: Complete\nHome Team: Big green\nAway 
 Team: 2nd String All-Stars\nHome Score: 0\nAway Score: 12
END:VEVENT
BEGIN:VEVENT
UID:16182465@ezleagues.ezfacility.com
DTSTAMP:20260425T234348Z
CREATED:20260425T234348Z
DTSTART:20250202T233000Z
DTEND:20250203T001200Z
LOCATION:7v7 Field #3
CONTACT:Simakoski
SUMMARY:2nd String All-Stars VS. Johan's Army
DESCRIPTION:League Name: 2025 Winter Soccer Session 2 Adult Coed "B" Divisi
 on\nGame Type: Regular\nGame Status: Complete\nHome Team: 2nd String All-S
 tars\nAway Team: Johan's Army\nHome Score: 9\nAway Score: 3
END:VEVENT
BEGIN:VEVENT
UID:16182467@ezleagues.ezfacility.com
DTSTAMP:20260425T234348Z
CREATED:20260425T234348Z
DTSTART:20250203T010000Z
DTEND:20250203T014200Z
LOCATION:7v7 Field #4
CONTACT:Espinoza
SUMMARY:The Hangovers VS. 2nd String All-Stars
DESCRIPTION:League Name: 2025 Winter Soccer Session 2 Adult Coed "B" Divisi
 on\nGame Type: Regular\nGame Status: Complete\nHome Team: The Hangovers\nA
 way Team: 2nd String All-Stars\nHome Score: 4\nAway Score: 9
END:VEVENT
BEGIN:VEVENT
UID:16182482@ezleagues.ezfacility.com
DTSTAMP:20260425T234348Z
CREATED:20260425T234348Z
DTSTART:20250217T014500Z
DTEND:20250217T022700Z
LOCATION:7v7 Field #1
CONTACT:
SUMMARY:Alpha Avengers VS. 2nd String All-Stars
DESCRIPTION:League Name: 2025 Winter Soccer Session 2 Adult Coed "B" Divisi
 on\nGame Type: Regular\nGame Status: Complete\nHome Team: Alpha Avengers\n
 Away Team: 2nd String All-Stars\nHome Score: 3\nAway Score: 6
END:VEVENT
BEGIN:VEVENT
UID:16182492@ezleagues.ezfacility.com
DTSTAMP:20260425T234348Z
CREATED:20260425T234348Z
DTSTART:20250223T233000Z
DTEND:20250224T001200Z
LOCATION:7v7 Field #4
CONTACT:Martinez
SUMMARY:2nd String All-Stars VS. Myassis Dragon
DESCRIPTION:League Name: 2025 Winter Soccer Session 2 Adult Coed "B" Divisi
 on\nGame Type: Regular\nGame Status: Complete\nHome Team: 2nd String All-S
 tars\nAway Team: Myassis Dragon\nHome Score: 3\nAway Score: 5
END:VEVENT
BEGIN:VEVENT
UID:16182498@ezleagues.ezfacility.com
DTSTAMP:20260425T234348Z
CREATED:20260425T234348Z
DTSTART:20250303T014500Z
DTEND:20250303T022700Z
LOCATION:7v7 Field #2
CONTACT:Simakoski
SUMMARY:2nd String All-Stars VS. Offensive Behavior
DESCRIPTION:League Name: 2025 Winter Soccer Session 2 Adult Coed "B" Divisi
 on\nGame Type: Regular\nGame Status: Complete\nHome Team: 2nd String All-S
 tars\nAway Team: Offensive Behavior\nHome Score: 3\nAway Score: 4
END:VEVENT
BEGIN:VEVENT
UID:16182472@ezleagues.ezfacility.com
DTSTAMP:20260425T234348Z
CREATED:20260425T234348Z
DTSTART:20250303T023000Z
DTEND:20250303T031200Z
LOCATION:7v7 Field #1
CONTACT:Orchiuch
SUMMARY:Dino-saurs VS. 2nd String All-Stars
DESCRIPTION:League Name: 2025 Winter Soccer Session 2 Adult Coed "B" Divisi
 on\nGame Type: Regular\nGame Status: Complete\nHome Team: Dino-saurs\nAway
  Team: 2nd String All-Stars\nHome Score: 7\nAway Score: 2
END:VEVENT
BEGIN:VEVENT
UID:16274887@ezleagues.ezfacility.com
DTSTAMP:20260425T234348Z
CREATED:20260425T234348Z
DTSTART:20250309T234500Z
DTEND:20250310T001300Z
LOCATION:7v7 Field #4
CONTACT:
SUMMARY:2nd String All-Stars VS. MedHawks
DESCRIPTION:League Name: 2025 Winter Soccer Session 2 Adult Coed "B" Divisi
 on\nGame Type: Regular\nGame Status: Complete\nHome Team: 2nd String All-S
 tars\nAway Team: MedHawks\nHome Score: 3\nAway Score: 5
END:VEVENT
END:VCALENDAR
